{"text_format":"1","workbook":"xlsx","n_sheets":28,"sheets":["Штатное расписание субвенция","Штатное расписание Местный","руководители","декретПед раб","пед кадры","декретСлуж","служащие","Мед. персонал","декретРаб","рабочие","приложение к тариф ","приложение к тариф  (2)","приложение к тариф  (3)","Лист2","Лист3","Лист4","Лист5","Лист6","Лист7","Лист8","Лист9","Лист10","Лист11","Лист12","Лист13","Лист14","Лист15","Лист16"],"not_rendered":{"charts":0,"images":0,"macros":0,"external_links":0,"defined_names":13,"comments":0,"pivot_tables":0},"unopened":[],"bounds":{"document_bytes":16777216,"sheet_cells":100000,"rows_first":2000,"rows_last":500,"rows_between":2000,"halvings":0,"cell_chars":16384,"cell_head_chars":4096},"cells_cut":0,"cells_raw":0,"read":"whole","date_system":"1900"}

{"sheet":"Штатное расписание субвенция","index":0,"n_rows":42,"n_cols":18,"rows_kept":42,"cut":false,"hidden":false,"merged":[[37,1,37,5],[26,1,26,6],[15,3,16,3],[18,1,18,6],[25,1,25,7],[15,1,16,1],[15,4,16,4],[15,2,16,2],[13,0,13,17],[12,0,12,17],[1,14,1,17],[2,14,2,17],[3,14,3,17],[4,14,4,17],[10,0,10,17],[11,0,11,17],[15,17,16,17],[15,0,16,0],[15,13,16,13],[15,15,15,16],[15,14,16,14]]}
[]
[null,null,null,null,null,null,null,null,null,null,null,null,null,null,"УТВЕРЖДЕНО"]
[null,null,null,null,null,null,null,null,null,null,null,null,null,null,"Приказом  МБДОУ \"ДС \" \"Руслан\""]
[null,null,null,null,null,null,null,null,null,null,null,null,null,null,"№                              от                           "]
[]
[]
[null,null,null,null,null,null,null,null,null,null,null,null,null,null,"Штат в количестве  42  единиц"]
[null,null,null,null,null,null,null,null,null,null,null,null,null,null,"с месячным фондом должностных окладов"]
[null,null,null,null,null,null,null,null,null,null,null,null,null,null,458548.75,"(Четыреста пятьдесят восемь тысяч"]
[null,null,null,null,null,null,null,null,null,null,null,null,null,null,"пятьсот сорок восемь рублей  рублей, 75 копеек)"]
["ШТАТНОЕ РАСПИСАНИЕ"]
["МБДОУ \"Детский сад \"  \"Руслан\""]
["(наименование образовательного учреждения)"]
["01.09.2017г."]
[null,"По государственным полномочиям"]
["                                                                                                                                                                                                                                                                                                                                                                                                                                                                                                                                                                                                                                                                                                                                                                                                                                                   ","Наименование должности","Кол-во единиц","Разряд по тарифной сетке","Базовый оклад","Тарифный коэффициент (коэффициент разряда)","Коэффициент уровня образования","Коэффициент стажа","Коэффициент специфики работы","Коэффициент квалификации","Коэффициент масштаба управления","Коэффициент уровня управления","Коэффициент вакансий","Итого должностной оклад","Районный коэффициент","Процентная надбавка за работу в районах Крайнего севера",null,"Всего должностных окладов в месяц"]
[null,null,null,null,null,"сумма","сумма","сумма","сумма","сумма","сумма","сумма","сумма",null,null,"коэ-т","сумма"]
["II","СПЕЦИАЛИСТЫ"]
[null,"1 квалификационный уровень"]
[null,"Инструктор по физической культуре (с обучением плаванию)",{"$f":"'пед кадры'!AF17+'пед кадры'!AF18+'пед кадры'!AF22","v":1.75},null,5500,null,{"$f":"'пед кадры'!J17+'пед кадры'!J18+'пед кадры'!J22","v":12375},{"$f":"'пед кадры'!L17+'пед кадры'!L18+'пед кадры'!L22","v":2475},null,null,0,0,{"$f":"'пед кадры'!AC21","v":2578.125},{"$f":"SUM(G20,H20,I20,J20,K20,L20,M20)","v":17428.125},{"$f":"SUM(N20*0.7)","v":12199.6875},0.8,{"$f":"SUM(N20*P20)","v":13942.5},{"$f":"N20+O20+Q20","v":43570.3125}]
[null,"Инструктор по физической культуре (без обучения плаванию)",{"$f":"'пед кадры'!AF19+'пед кадры'!AF20+'пед кадры'!AF21","v":1.75},null,5500,null,{"$f":"'пед кадры'!J19+'пед кадры'!J20+'пед кадры'!J21","v":10725},{"$f":"'пед кадры'!L20+'пед кадры'!L19+'пед кадры'!L21","v":1072.5},null,null,0,0,{"$f":"'пед кадры'!AC22","v":2578.125},{"$f":"SUM(G21,H21,I21,J21,K21,L21,M21)","v":14375.625},{"$f":"SUM(N21*0.7)","v":10062.9375},0.8,{"$f":"SUM(N21*P21)","v":11500.5},{"$f":"N21+O21+Q21","v":35939.0625}]
[null,"хореорграф",{"$f":"'пед кадры'!AF25+'пед кадры'!AF24","v":1},null,5500,null,{"$f":"'пед кадры'!J24+'пед кадры'!J25","v":7700},{"$f":"'пед кадры'!L24+'пед кадры'!L25","v":1182.5},null,{"$f":"'пед кадры'!Y24+'пед кадры'!Y25","v":2062.5},null,null,{"$f":"'пед кадры'!AC26","v":0},{"$f":"SUM(G22,H22,I22,J22,K22,L22,M22)","v":10945},{"$f":"SUM(N22*0.7)","v":7661.4999999999991},0.8,{"$f":"SUM(N22*P22)","v":8756},{"$f":"N22+O22+Q22","v":27362.5}]
[null,"Музыкальный руководитель",{"$f":"'пед кадры'!AF23+'пед кадры'!AF26","v":3},null,5500,null,{"$f":"'пед кадры'!J23+'пед кадры'!J26","v":21450},{"$f":"'пед кадры'!L23+'пед кадры'!L26","v":2681.25},null,{"$f":"'пед кадры'!Y23+'пед кадры'!Y26","v":3217.5},0,0,{"$f":"'пед кадры'!AC26","v":0},{"$f":"SUM(G23,H23,I23,J23,K23,L23,M23)","v":27348.75},{"$f":"SUM(N23*0.7)","v":19144.125},0.8,{"$f":"SUM(N23*P23)","v":21879},{"$f":"N23+O23+Q23","v":68371.875}]
[]
[null,"Итого",{"$f":"SUM(C20:C23)","v":7.5},null,null,{"$f":"SUM(F18:F20)","v":0},{"$f":"SUM(G20:G23)","v":52250},7411.25,0,5280,0,0,5156.25,70097.5,49068.25,null,{"$f":"SUM(Q20:Q23)","v":56078},{"$f":"SUM(R20:R23)","v":175243.75}]
[null,"2 квалификационный уровень"]
[null,"3 квалификационный уровень"]
[null,"Педагог-психолог",{"$f":"'пед кадры'!AF46+'пед кадры'!AF47","v":1.5},null,5500,null,{"$f":"'пед кадры'!J46+'пед кадры'!J47","v":12375},{"$f":"'пед кадры'!L46+'пед кадры'!L47","v":2475},null,null,0,0,0,{"$f":"SUM(G28,H28,I28,J28,K28,L28,M28)","v":14850},{"$f":"SUM(N28*0.7)","v":10395},0.8,{"$f":"SUM(N28*P28)","v":11880},{"$f":"N28+O28+Q28","v":37125}]
[null,"Воспитатель",{"$f":"SUM('пед кадры'!AF29:AF56)-1.5","v":30},null,5500,null,{"$f":"'пед кадры'!J29+'пед кадры'!J30+'пед кадры'!J31+'пед кадры'!J32+'пед кадры'!J33+'пед кадры'!J35+'пед кадры'!J36+'пед кадры'!J37+'пед кадры'!J38+'пед кадры'!J39+'пед кадры'!J40+'пед кадры'!J41+'пед кадры'!J42+'пед кадры'!J44+'пед кадры'!J45+'пед кадры'!J48+'пед кадры'!J49+'пед кадры'!J50+'пед кадры'!J51+'пед кадры'!J52+'пед кадры'!J53+'пед кадры'!J54+'пед кадры'!J55","v":202950},{"$f":"'пед кадры'!L29+'пед кадры'!L30+'пед кадры'!L31+'пед кадры'!L32+'пед кадры'!L33+'пед кадры'!L34+'пед кадры'!L35+'пед кадры'!L36+'пед кадры'!L37+'пед кадры'!L38+'пед кадры'!L39+'пед кадры'!L40+'пед кадры'!L41+'пед кадры'!L42+'пед кадры'!L43+'пед кадры'!L44+'пед кадры'!L45+'пед кадры'!L48+'пед кадры'!L49+'пед кадры'!L50+'пед кадры'!L51+'пед кадры'!L52+'пед кадры'!L53+'пед кадры'!L54+'пед кадры'!L55+'пед кадры'!L56","v":36382.5},{"$f":"'пед кадры'!P29+'пед кадры'!P30+'пед кадры'!P31+'пед кадры'!P32+'пед кадры'!P33+'пед кадры'!P34+'пед кадры'!P35+'пед кадры'!P36+'пед кадры'!P37+'пед кадры'!P38+'пед кадры'!P39+'пед кадры'!P40+'пед кадры'!P41+'пед кадры'!P42+'пед кадры'!P43+'пед кадры'!P44+'пед кадры'!P45+'пед кадры'!P48+'пед кадры'!P49+'пед кадры'!P50+'пед кадры'!P51+'пед кадры'!P52+'пед кадры'!P53+'пед кадры'!P54+'пед кадры'!P55+'пед кадры'!P56","v":9735},{"$f":"'пед кадры'!Y29+'пед кадры'!Y30+'пед кадры'!Y31+'пед кадры'!Y32+'пед кадры'!Y33+'пед кадры'!Y34+'пед кадры'!Y35+'пед кадры'!Y36+'пед кадры'!Y37+'пед кадры'!Y38+'пед кадры'!Y39+'пед кадры'!Y40+'пед кадры'!Y41+'пед кадры'!Y42+'пед кадры'!Y43+'пед кадры'!Y44+'пед кадры'!Y45+'пед кадры'!Y48+'пед кадры'!Y49+'пед кадры'!Y50+'пед кадры'!Y51+'пед кадры'!Y52+'пед кадры'!Y53+'пед кадры'!Y54+'пед кадры'!Y55+'пед кадры'!Y56","v":35640},{"$f":"'пед кадры'!M29+'пед кадры'!M30+'пед кадры'!M31+'пед кадры'!M32+'пед кадры'!M33+'пед кадры'!M35+'пед кадры'!M36+'пед кадры'!M37+'пед кадры'!M38+'пед кадры'!M39+'пед кадры'!M40+'пед кадры'!M41+'пед кадры'!M42+'пед кадры'!M44+'пед кадры'!M45+'пед кадры'!M48+'пед кадры'!M49+'пед кадры'!M50+'пед кадры'!M51+'пед кадры'!M52+'пед кадры'!M53+'пед кадры'!M54+'пед кадры'!M55","v":0},{"$f":"'пед кадры'!N29+'пед кадры'!N30+'пед кадры'!N31+'пед кадры'!N32+'пед кадры'!N33+'пед кадры'!N35+'пед кадры'!N36+'пед кадры'!N37+'пед кадры'!N38+'пед кадры'!N39+'пед кадры'!N40+'пед кадры'!N41+'пед кадры'!N42+'пед кадры'!N44+'пед кадры'!N45+'пед кадры'!N48+'пед кадры'!N49+'пед кадры'!N50+'пед кадры'!N51+'пед кадры'!N52+'пед кадры'!N53+'пед кадры'!N54+'пед кадры'!N55","v":0},{"$f":"'пед кадры'!AC29+'пед кадры'!AC30+'пед кадры'!AC31+'пед кадры'!AC32+'пед кадры'!AC33+'пед кадры'!AC34+'пед кадры'!AC35+'пед кадры'!AC36+'пед кадры'!AC37+'пед кадры'!AC38+'пед кадры'!AC39+'пед кадры'!AC40+'пед кадры'!AC41+'пед кадры'!AC41+'пед кадры'!AC42+'пед кадры'!AC43+'пед кадры'!AC44+'пед кадры'!AC45+'пед кадры'!AC48+'пед кадры'!AC49+'пед кадры'!AC50+'пед кадры'!AC51+'пед кадры'!AC52+'пед кадры'!AC53+'пед кадры'!AC54+'пед кадры'!AC55+'пед кадры'!AC56","v":46406.25},331113.75,{"$f":"SUM(N29*0.7)","v":231779.62499999997},0.8,{"$f":"SUM(N29*P29)","v":264891},{"$f":"N29+O29+Q29","v":827784.375}]
[null,"Итого",{"$f":"SUM(C28:C29)","v":31.5},null,null,{"$f":"SUM(F28:F29)","v":0},215325,38857.5,9735,35640,0,0,46406.25,345963.75,242174.62499999997,null,{"$f":"SUM(Q28:Q29)","v":276771},{"$f":"SUM(R28:R29)","v":864909.375}]
[null,"4 квалификационный уровень"]
[null,"Учитель-логопед",{"$f":"SUM('пед кадры'!AF59:AF62)","v":3},null,5500,null,{"$f":"SUM('пед кадры'!J59:J62)","v":24750},{"$f":"SUM('пед кадры'!L59:L62)","v":3712.5},{"$f":"SUM('пед кадры'!P59:P62)","v":6600},{"$f":"SUM('пед кадры'!Y59:Y62)","v":7425},0,0,0,{"$f":"SUM(G32,H32,I32,J32,K32,L32,M32)","v":42487.5},{"$f":"SUM(N32*0.7)","v":29741.249999999996},0.8,{"$f":"SUM(N32*P32)","v":33990},{"$f":"ROUND(N32+O32+Q32,2)","v":106218.75}]
[null,"Итого",{"$f":"SUM(C32:C32)","v":3},null,null,{"$f":"SUM(F32:F32)","v":0},24750,3712.5,6600,7425,0,0,0,42487.5,29741.249999999996,null,{"$f":"SUM(Q32:Q32)","v":33990},{"$f":"SUM(R32:R32)","v":106218.75}]
[null,"Итого по профессиональной квалификационной  группе \"СПЕЦИАЛИСТЫ\"",{"$f":"SUM(C25+C30+C33)","v":42},null,null,{"$f":"SUM(F25+F30+F33)","v":0},{"$f":"G25+G30+G33","v":292325},49981.25,16335,48345,0,0,51562.5,458548.75,320984.125,null,{"$f":"Q25+Q30+Q33","v":366839},{"$f":"R25+R30+R33","v":1146371.875}]
[]
[null,"ВСЕГО",{"$f":"SUM(C34)","v":42},null,null,{"$f":"F33+F30+F25","v":0},{"$f":"SUM(G34,)","v":292325},{"$f":"SUM(H34,)","v":49981.25},{"$f":"SUM(I34,)","v":16335},{"$f":"SUM(J34,)","v":48345},{"$f":"SUM(K34,)","v":0},0,51562.5,{"$f":"SUM(N34,)","v":458548.75},320984.125,0,366839,1146371.875]
[null,null,null,null,null,null,null,null,null,null,null,null,null,{"$f":"N36-'пед кадры'!AD65","v":0}]
[null,"Заведующий                                         ",null,null,null,null,null,null,null,null,null,null,"Б.А. Джемакулова"]
[]
[null,"Ведущий экономист",null,null,null,null,null,null,null,null,null,null,"В.А. Тычкина"]
[]
[null,"Специалист по кадрам",null,null,null,null,null,null,null,null,null,null,"Л.И. Утяганова"]

{"sheet":"Штатное расписание Местный","index":1,"n_rows":153,"n_cols":18,"rows_kept":153,"cut":false,"hidden":false,"merged":[[10,0,10,17],[15,4,16,4],[1,14,1,17],[2,14,2,17],[3,14,3,17],[4,14,4,17],[15,2,16,2],[15,17,16,17],[12,0,12,17],[11,0,11,17],[13,0,13,17],[15,0,16,0],[47,1,47,7],[33,1,33,7],[46,1,46,7],[15,13,16,13],[15,15,15,16],[15,1,16,1],[15,14,16,14],[15,3,16,3],[146,11,146,13],[148,11,148,13],[150,11,150,13],[54,1,54,7],[104,1,104,7],[72,1,72,7],[123,1,123,7],[71,1,71,7],[150,7,150,10],[148,7,148,10],[146,7,146,10],[124,1,124,7],[105,1,105,7]]}
[]
[null,null,null,null,null,null,null,null,null,null,null,null,null,null,"УТВЕРЖДЕНО"]
[null,null,null,null,null,null,null,null,null,null,null,null,null,null,"Приказом  МБДОУ\" Детский сад \"Руслан\""]
[null,null,null,null,null,null,null,null,null,null,null,null,null,null,"№                     от                          "]
[]
[]
[null,null,null,null,null,null,null,null,null,null,null,null,null,null,"Штат в количестве  56 единиц"]
[null,null,null,null,null,null,null,null,null,null,null,null,null,null,"с месячным фондом должностных окладов"]
[null,null,null,null,null,null,null,null,null,null,null,null,null,null,"351157,28 (Триста пятьдесят одна тысяча сто пятьдесят "]
[null,null,null,null,null,null,null,null,null,null,null,null,null,null,"семь рублей 28 коп.)"]
["ШТАТНОЕ РАСПИСАНИЕ"]
["МБДОУ \"Детский сад  \"Руслан\""]
["(наименование образовательного учреждения)"]
[" на 01.09.2017г."]
[null,"По полномочиям муниципального образования город Новый Уренгой"]
["                                                                                                                                                                                                                                                                                                                                                                                                                                                                                                                                                                                                                                                                                                                                                                                                                                                   ","Наименование должности","Кол-во единиц","Разряд по тарифной сетке","Базовый оклад","Тарифный коэффициент (коэффициент разряда)","Коэффициент уровня образования","Коэффициент стажа","Коэффициент специфики работы","Коэффициент квалификации","Коэффициент масштаба управления","Коэффициент уровня управления","Коэффициент вакансий","Итого должностной оклад","Районный коэффициент","Процентная надбавка за работу в районах Крайнего севера",null,"Всего должностных окладов в месяц"]
[null,null,null,null,null,"сумма","сумма","сумма","сумма","сумма","сумма","сумма","сумма",null,null,"коэ-т","сумма"]
["I","РУКОВОДИТЕЛИ"]
[null,"1 квалификационный уровень"]
[null,null,null,null,null,null,0,0,0,0,0,0,0,{"$f":"SUM(G20,H20,I20,J20,K20,L20,M20)","v":0},{"$f":"SUM(N20*0.7)","v":0},0.8,{"$f":"SUM(N20*P20)","v":0},{"$f":"ROUND(N20+O20+Q20,2)","v":0}]
[null,"Итого",{"$f":"SUM(C20:C20)","v":0},null,null,{"$f":"SUM(F20:F20)","v":0},0,0,0,0,0,0,0,0,0,null,{"$f":"SUM(Q20:Q20)","v":0},{"$f":"SUM(R20:R20)","v":0}]
[null,"2 квалификационный уровень"]
[null,"Заместитель по ВМР",{"$f":"руководители!X23","v":1},null,null,{"$f":"руководители!W23","v":26400},{"$f":"руководители!J23","v":0},{"$f":"руководители!L23","v":0},{"$f":"руководители!N23","v":0},{"$f":"руководители!P23","v":0},{"$f":"руководители!R23","v":0},{"$f":"руководители!T23","v":0},0,{"$f":"руководители!W23","v":26400},{"$f":"SUM(N23*0.7)","v":18480},0.8,{"$f":"SUM(N23*P23)","v":21120},{"$f":"N23+O23+Q23","v":66000}]
[null,"Заместитель по АХР",{"$f":"руководители!X24","v":1},null,null,{"$f":"руководители!W24","v":26400},0,{"$f":"руководители!L24","v":0},{"$f":"руководители!N24","v":0},0,0,0,0,{"$f":"руководители!W24","v":26400},{"$f":"SUM(N24*0.7)","v":18480},0.8,{"$f":"SUM(N24*P24)","v":21120},{"$f":"N24+O24+Q24","v":66000}]
[null,"Итого",{"$f":"SUM(C23:C24)","v":2},null,null,{"$f":"SUM(F23:F24)","v":52800},{"$f":"SUM(G23:G24)","v":0},0,0,0,0,0,0,{"$f":"SUM(N23:N24)","v":52800},36960,null,{"$f":"SUM(Q23:Q24)","v":42240},{"$f":"SUM(R23:R24)","v":132000}]
[null,"Заведующий  ",{"$f":"руководители!X27","v":1},null,null,{"$f":"руководители!W27","v":29404},{"$f":"руководители!J27","v":0},{"$f":"руководители!L27","v":0},{"$f":"руководители!N27","v":0},{"$f":"руководители!P27","v":0},{"$f":"руководители!R27","v":0},{"$f":"руководители!T27","v":0},0,{"$f":"руководители!W27","v":29404},{"$f":"SUM(N26*0.7)","v":20582.8},0.8,{"$f":"SUM(N26*P26)","v":23523.200000000001},{"$f":"N26+O26+Q26","v":73510}]
[null,"Итого",{"$f":"SUM(C26:C26)","v":1},null,null,{"$f":"SUM(F26:F26)","v":29404},0,0,0,0,0,0,0,29404,20582.8,null,{"$f":"SUM(Q26:Q26)","v":23523.200000000001},{"$f":"SUM(R26:R26)","v":73510}]
[null,"4 квалификационный уровень"]
[null,null,null,null,null,null,0,0,0,0,0,0,0,{"$f":"SUM(G29,H29,I29,J29,K29,L29,M29)","v":0},{"$f":"SUM(N29*0.7)","v":0},0.8,{"$f":"SUM(N29*P29)","v":0},{"$f":"ROUND(N29+O29+Q29,2)","v":0}]
[null,"Итого",{"$f":"SUM(C29:C29)","v":0},null,null,{"$f":"SUM(F29:F29)","v":0},0,0,0,0,0,0,0,0,0,null,{"$f":"SUM(Q29:Q29)","v":0},{"$f":"SUM(R29:R29)","v":0}]
[null,"Итого по профессиональной квалификационной  группе \"РУКОВОДИТЕЛИ\"",{"$f":"SUM(C21,C25,C27,C30)","v":3},null,null,{"$f":"SUM(F21,F25,F27,F30)","v":82204},0,0,0,0,0,0,0,82204,57542.8,null,{"$f":"SUM(Q21,Q25,Q27,Q30)","v":65763.199999999997},{"$f":"SUM(R21,R25,R27,R30)","v":205510}]
[]
["III","СЛУЖАЩИЕ"]
[null,"ПКГ работников учебно-вспомогательного персонала 2 уровня"]
[null,"1 квалификационный уровень"]
[null,"Младший воспитатель",{"$f":"SUM(служащие!X17:X33)","v":23.5},null,4094,null,{"$f":"SUM(служащие!J17:J33)","v":90886.799999999988},{"$f":"SUM(служащие!L17:L33)","v":17757.725000000002},{"$f":"SUM(служащие!N17:N33)","v":2161.6320000000001},{"$f":"SUM(служащие!P17:P33)","v":0},0,0,{"$f":"служащие!V34","v":13305.5},{"$f":"G36+H36+I36+J36+K36+L36+M36","v":124111.65699999999},{"$f":"SUM(N36*0.7)","v":86878.159899999984},0.8,{"$f":"SUM(N36*P36)","v":99289.325599999996},{"$f":"ROUND(N36+O36+Q36,2)","v":310279.14}]
[null,"Итого",{"$f":"SUM(C36:C36)","v":23.5},null,null,{"$f":"SUM(F36:F36)","v":0},90886.799999999988,17757.725000000002,2161.6320000000001,0,0,0,13305.5,124111.65699999999,86878.159899999984,null,{"$f":"SUM(Q36:Q36)","v":99289.325599999996},{"$f":"SUM(R36:R36)","v":310279.14}]
[null,"2 квалификационный уровень"]
[null,null,null,null,null,null,0,0,0,0,0,0,0,{"$f":"G39+H39+I39+J39+K39+L39+M39","v":0},{"$f":"SUM(N39*0.7)","v":0},0.8,{"$f":"SUM(N39*P39)","v":0},{"$f":"ROUND(N39+O39+Q39,2)","v":0}]
[null,null,null,null,null,null,0,0,0,0,0,0,0,{"$f":"G40+H40+I40+J40+K40+L40+M40","v":0},{"$f":"SUM(N40*0.7)","v":0},null,{"$f":"SUM(N40*P40)","v":0},{"$f":"ROUND(N40+O40+Q40,2)","v":0}]
[null,"Итого",{"$f":"SUM(C39:C40)","v":0},null,null,{"$f":"SUM(F39:F40)","v":0},0,0,0,0,0,0,0,0,0,null,{"$f":"SUM(Q39:Q40)","v":0},{"$f":"SUM(R39:R40)","v":0}]
[]
[null,"ПКГ работников учебно-вспомогательного персонала 1 уровня"]
[null,null,null,null,null,null,0,0,0,0,0,0,0,{"$f":"G44+H44+I44+J44+K44+L44+M44","v":0},{"$f":"SUM(N44*0.7)","v":0},0.8,{"$f":"SUM(N44*P44)","v":0},{"$f":"ROUND(N44+O44+Q44,2)","v":0}]
[null,"Итого",{"$f":"SUM(C44:C44)","v":0},null,null,{"$f":"SUM(F44:F44)","v":0},0,0,0,0,0,0,0,0,0,null,{"$f":"SUM(Q44:Q44)","v":0},{"$f":"SUM(R44:R44)","v":0}]
[]
[null,"ПКГ работников общеотраслевых должностей служащих 1 уровня                                                  "]
[null,"1 квалификационный уровень"]
[null,"Делопроизводитель",{"$f":"служащие!X50+служащие!X49","v":1},null,4094,null,{"$f":"служащие!J50+служащие!J49","v":5526.9},{"$f":"служащие!L50+служащие!L49","v":276.34500000000003},{"$f":"служащие!N50","v":0},0,0,0,{"$f":"служащие!V50","v":0},{"$f":"G49+H49+I49+J49+K49+L49+M49","v":5803.2449999999999},{"$f":"SUM(N49*0.7)","v":4062.2714999999998},0.8,{"$f":"SUM(N49*P49)","v":4642.5960000000005},{"$f":"ROUND(N49+O49+Q49,2)","v":14508.11}]
[null,"Итого",{"$f":"SUM(C49:C49)","v":1},null,null,{"$f":"SUM(F49:F49)","v":0},5526.9,276.34500000000003,0,0,0,0,0,5803.2449999999999,4062.2714999999998,null,{"$f":"SUM(Q49:Q49)","v":4642.5960000000005},{"$f":"SUM(R49:R49)","v":14508.11}]
[null,"2 квалификационный уровень"]
[null,null,null,null,null,null,0,0,0,0,0,0,0,{"$f":"G52+H52+I52+J52+K52+L52+M52","v":0},{"$f":"SUM(N52*0.7)","v":0},null,{"$f":"SUM(N52*P52)","v":0},{"$f":"ROUND(N52+O52+Q52,2)","v":0}]
[null,"Итого",{"$f":"SUM(C52:C52)","v":0},null,null,{"$f":"SUM(F52:F52)","v":0},0,0,0,0,0,0,0,0,0,null,{"$f":"SUM(Q52:Q52)","v":0},{"$f":"SUM(R52:R52)","v":0}]
[]
[null,"ПКГ работников общеотраслевых должностей служащих 2 уровня                                                  "]
[null,"1 квалификационный уровень"]
[null,null,null,null,null,null,0,0,0,0,0,0,0,{"$f":"G57+H57+I57+J57+K57+L57+M57","v":0},{"$f":"SUM(N57*0.7)","v":0},null,{"$f":"SUM(N57*P57)","v":0},{"$f":"ROUND(N57+O57+Q57,2)","v":0}]
[null,"Итого",{"$f":"SUM(C57:C57)","v":0},null,null,{"$f":"SUM(F57:F57)","v":0},0,0,0,0,0,0,0,0,0,null,{"$f":"SUM(Q57:Q57)","v":0},{"$f":"SUM(R57:R57)","v":0}]
[null,"2 квалификационный уровень"]
[null,null,null,null,null,null,0,0,0,0,0,0,0,{"$f":"G60+H60+I60+J60+K60+L60+M60","v":0},{"$f":"SUM(N60*0.7)","v":0},null,{"$f":"SUM(N60*P60)","v":0},{"$f":"ROUND(N60+O60+Q60,2)","v":0}]
[null,"Итого",{"$f":"SUM(C60:C60)","v":0},null,null,{"$f":"SUM(F60:F60)","v":0},0,0,0,0,0,0,0,0,0,null,{"$f":"SUM(Q60:Q60)","v":0},{"$f":"SUM(R60:R60)","v":0}]
[null,"3 квалификационный уровень"]
[null,"Шеф-повар",{"$f":"служащие!X64","v":1},null,null,null,{"$f":"служащие!J64","v":5322.2},{"$f":"служащие!L64","v":1064.44},0,0,{"$f":"служащие!R64","v":3193.3199999999997},{"$f":"служащие!T64","v":3193.3199999999997},0,{"$f":"G63+H63+I63+J63+K63+L63+M63","v":12773.279999999999},{"$f":"SUM(N63*0.7)","v":8941.2959999999985},0.8,{"$f":"SUM(N63*P63)","v":10218.624},{"$f":"ROUND(N63+O63+Q63,2)","v":31933.200000000001}]
[null,"Итого",{"$f":"SUM(C63:C63)","v":1},null,null,{"$f":"SUM(F63:F63)","v":0},5322.2,1064.44,0,0,3193.3199999999997,3193.3199999999997,0,12773.279999999999,8941.2959999999985,null,{"$f":"SUM(Q63:Q63)","v":10218.624},{"$f":"SUM(R63:R63)","v":31933.200000000001}]
[null,"4 квалификационный уровень"]
[null,null,null,null,null,null,0,0,0,0,0,0,0,{"$f":"G66+H66+I66+J66+K66+L66+M66","v":0},{"$f":"SUM(N66*0.7)","v":0},null,{"$f":"SUM(N66*P66)","v":0},{"$f":"ROUND(N66+O66+Q66,2)","v":0}]
[null,"Итого",{"$f":"SUM(C66:C66)","v":0},null,null,{"$f":"SUM(F66:F66)","v":0},0,0,0,0,0,0,0,0,0,null,{"$f":"SUM(Q66:Q66)","v":0},{"$f":"SUM(R66:R66)","v":0}]
[null,"5 квалификационный уровень"]
[null,null,null,null,null,null,0,0,0,0,0,0,0,{"$f":"G69+H69+I69+J69+K69+L69+M69","v":0},{"$f":"SUM(N69*0.7)","v":0},null,{"$f":"SUM(N69*P69)","v":0},{"$f":"ROUND(N69+O69+Q69,2)","v":0}]
[null,"Итого",{"$f":"SUM(C69:C69)","v":0},null,null,{"$f":"SUM(F69:F69)","v":0},0,0,0,0,0,0,0,0,0,null,{"$f":"SUM(Q69:Q69)","v":0},{"$f":"SUM(R69:R69)","v":0}]
[]
[null,"ПКГ работников общеотраслевых должностей служащих 3 уровня                                                  "]
[null,"1 квалификационный уровень"]
[null,"Специалист по кадрам",{"$f":"служащие!X75+служащие!X76","v":1},null,4094,null,{"$f":"служащие!J75+служащие!J76","v":3070.5},{"$f":"служащие!L75","v":153.52500000000001},{"$f":"служащие!N75","v":0},{"$f":"служащие!P75","v":0},0,0,{"$f":"служащие!V76","v":7676.25},{"$f":"G74+H74+I74+J74+K74+L74+M74","v":10900.275},{"$f":"SUM(N74*0.7)","v":7630.1924999999992},0.8,{"$f":"SUM(N74*P74)","v":8720.2199999999993},{"$f":"N74+O74+Q74","v":27250.6875}]
[null,"специалист по  ОТ",{"$f":"служащие!X48","v":1},null,4094,null,{"$f":"служащие!J48","v":5731.5999999999995},{"$f":"служащие!L48","v":286.58},{"$f":"служащие!N77","v":0},0,0,0,0,{"$f":"G75+H75+I75+J75+K75+L75+M75","v":6018.1799999999994},{"$f":"SUM(N75*0.7)","v":4212.7259999999997},0.8,{"$f":"SUM(N75*P75)","v":4814.5439999999999},{"$f":"N75+O75+Q75","v":15045.449999999999}]
[null,"Контрактный управляющий",null,null,4094,null,null,null,null,null,null,null,null,0,{"$f":"SUM(N76*0.7)","v":0},0.8,{"$f":"SUM(N76*P76)","v":0},{"$f":"N76+O76+Q76","v":0}]
[null,"Экономист",{"$f":"служащие!X77","v":0.25},null,4094,null,{"$f":"служащие!J77","v":1535.25},{"$f":"служащие!L77","v":307.05},0,0,0,0,0,1842.3,{"$f":"SUM(N77*0.7)","v":1289.6099999999999},0.8,{"$f":"SUM(N77*P77)","v":1473.8400000000001},{"$f":"N77+O77+Q77","v":4605.75}]
[null,"Итого",{"$f":"SUM(C74:C77)","v":2.25},null,null,{"$f":"SUM(F74:F75)","v":0},{"$f":"SUM(G74:G77)","v":10337.349999999999},747.15499999999997,0,0,0,0,7676.25,18760.754999999997,13132.5285,null,{"$f":"SUM(Q74:Q77)","v":15008.603999999999},{"$f":"SUM(R74:R77)","v":46901.887499999997}]
[null,"2 квалификационный уровень"]
[null,null,null,null,null,null,0,0,0,0,0,0,0,{"$f":"G80+H80+I80+J80+K80+L80+M80","v":0},{"$f":"SUM(N80*0.7)","v":0},0.8,{"$f":"SUM(N80*P80)","v":0},{"$f":"ROUND(N80+O80+Q80,2)","v":0}]
[null,"Итого",{"$f":"SUM(C80:C80)","v":0},null,null,{"$f":"SUM(F80:F80)","v":0},0,0,0,0,0,0,0,0,0,null,{"$f":"SUM(Q80:Q80)","v":0},{"$f":"SUM(R80:R80)","v":0}]
[null,"3 квалификационный уровень"]
[null,"Инженер",{"$f":"служащие!X83","v":0.5},null,4094,null,{"$f":"служащие!J83","v":3070.5},{"$f":"служащие!L83","v":153.52500000000001},0,0,0,0,0,{"$f":"G83+H83+I83+J83+K83+L83+M83","v":3224.0250000000001},{"$f":"SUM(N83*0.7)","v":2256.8175000000001},0.8,{"$f":"SUM(N83*P83)","v":2579.2200000000003},{"$f":"ROUND(N83+O83+Q83,2)","v":8060.06}]
[null,"Итого",{"$f":"SUM(C83:C83)","v":0.5},null,null,{"$f":"SUM(F83:F83)","v":0},3070.5,153.52500000000001,0,0,0,0,0,3224.0250000000001,2256.8175000000001,null,{"$f":"SUM(Q83:Q83)","v":2579.2200000000003},{"$f":"SUM(R83:R83)","v":8060.06}]
[null,"4 квалификационный уровень"]
[null,null,null,null,null,null,0,0,0,0,0,0,0,{"$f":"G86+H86+I86+J86+K86+L86+M86","v":0},{"$f":"SUM(N86*0.7)","v":0},0.8,{"$f":"SUM(N86*P86)","v":0},{"$f":"ROUND(N86+O86+Q86,2)","v":0}]
[null,null,null,null,null,null,0,0,0,0,0,0,0,0,{"$f":"SUM(N87*0.7)","v":0},null,{"$f":"SUM(N87*P87)","v":0},{"$f":"ROUND(N87+O87+Q87,2)","v":0}]
[null,"Итого",{"$f":"SUM(C86:C87)","v":0},null,null,{"$f":"SUM(F86:F87)","v":0},0,0,0,0,0,0,0,0,0,null,{"$f":"SUM(Q86:Q87)","v":0},{"$f":"SUM(R86:R87)","v":0}]
[null,"5 квалификационный уровень"]
[null,null,null,null,null,null,0,0,0,0,0,0,0,{"$f":"G90+H90+I90+J90+K90+L90+M90","v":0},{"$f":"SUM(N90*0.7)","v":0},0.8,{"$f":"SUM(N90*P90)","v":0},{"$f":"ROUND(N90+O90+Q90,2)","v":0}]
[null,null,null,null,null,null,0,0,0,0,0,0,0,0,{"$f":"SUM(N91*0.7)","v":0},null,{"$f":"SUM(N91*P91)","v":0},{"$f":"ROUND(N91+O91+Q91,2)","v":0}]
[null,"Итого",{"$f":"SUM(C90:C91)","v":0},null,null,{"$f":"SUM(F90:F91)","v":0},0,0,0,0,0,0,0,0,0,null,{"$f":"SUM(Q90:Q91)","v":0},{"$f":"SUM(R90:R91)","v":0}]
[null,"ПКГ работников общеотраслевых должностей служащих 4 уровня                                                  "]
[null,"1 квалификационный уровень"]
[null,null,null,null,null,null,0,0,0,0,0,0,0,{"$f":"G95+H95+I95+J95+K95+L95+M95","v":0},{"$f":"SUM(N95*0.7)","v":0},0.8,{"$f":"SUM(N95*P95)","v":0},{"$f":"ROUND(N95+O95+Q95,2)","v":0}]
[null,null,null,null,null,null,0,0,0,0,0,0,0,0,{"$f":"SUM(N96*0.7)","v":0},null,{"$f":"SUM(N96*P96)","v":0},{"$f":"ROUND(N96+O96+Q96,2)","v":0}]
[null,"Итого",{"$f":"SUM(C95:C96)","v":0},null,null,{"$f":"SUM(F95:F96)","v":0},0,0,0,0,0,0,0,0,0,null,{"$f":"SUM(Q95:Q96)","v":0},{"$f":"SUM(R95:R96)","v":0}]
[null,"2 квалификационный уровень"]
[null,null,null,null,null,null,0,0,0,0,0,0,0,{"$f":"G99+H99+I99+J99+K99+L99+M99","v":0},{"$f":"SUM(N99*0.7)","v":0},0.8,{"$f":"SUM(N99*P99)","v":0},{"$f":"ROUND(N99+O99+Q99,2)","v":0}]
[null,null,null,null,null,null,0,0,0,0,0,0,0,0,{"$f":"SUM(N100*0.7)","v":0},null,{"$f":"SUM(N100*P100)","v":0},{"$f":"ROUND(N100+O100+Q100,2)","v":0}]
[null,"Итого",{"$f":"SUM(C99:C100)","v":0},null,null,{"$f":"SUM(F99:F100)","v":0},0,0,0,0,0,0,0,0,0,null,{"$f":"SUM(Q99:Q100)","v":0},{"$f":"SUM(R99:R100)","v":0}]
[null,"Итого по профессиональной квалификационной  группе \"СЛУЖАЩИЕ\"",{"$f":"SUM(C37,C41,C45,C50,C53,C58,C61,C64,C67,C70,C78,C81,C84,C88,C92,C97,C101)","v":28.25},null,null,{"$f":"SUM(F37,F41,F45,F50,F53,F58,F61,F64,F67,F70,F78,F81,F84,F88,F92,F97,F101)","v":0},115143.74999999997,19999.190000000002,2161.6320000000001,0,3193.3199999999997,3193.3199999999997,20981.75,164672.96199999997,115271.07339999999,null,{"$f":"SUM(Q37,Q41,Q45,Q50,Q53,Q58,Q61,Q64,Q67,Q70,Q78,Q81,Q84,Q88,Q92,Q97,Q101)","v":131738.36960000001},{"$f":"SUM(R37,R41,R45,R50,R53,R58,R61,R64,R67,R70,R78,R81,R84,R88,R92,R97,R101)","v":411682.39750000002}]
[]
["IV","РАБОЧИЕ"]
[null,"ПКГ работников общеотраслевых профессий 1 уровня                                                  "]
[null,"1 квалификационный уровень"]
[null,"Кладовщик",{"$f":"рабочие!M15","v":1},null,4094,{"$f":"рабочие!G15","v":4094},"х","х",{"$f":"SUM(рабочие!I15)","v":0},"х","х",null,0,{"$f":"SUM(F107,I107,M107)","v":4094},{"$f":"SUM(N107*0.7)","v":2865.7999999999997},0.8,{"$f":"SUM(N107*P107)","v":3275.2000000000003},{"$f":"N107+O107+Q107","v":10235}]
[null,"Грузчик",{"$f":"рабочие!M16","v":0.5},null,4094,{"$f":"рабочие!G16","v":2047},"х","х",{"$f":"SUM(рабочие!I16)","v":0},"х","х",null,{"$f":"SUM(рабочие!K17:K17)","v":0},2047,{"$f":"SUM(N108*0.7)","v":1432.8999999999999},0.8,{"$f":"SUM(N108*P108)","v":1637.6000000000001},{"$f":"N108+O108+Q108","v":5117.5}]
[null,"Кухонный рабочий",{"$f":"рабочие!M17+рабочие!M18","v":3},null,4094,{"$f":"рабочие!G17+рабочие!G18","v":12282},"х","х",{"$f":"SUM(рабочие!I17:I17)","v":0},"х","х",null,{"$f":"SUM(рабочие!K18:K18)","v":0},12282,{"$f":"SUM(N109*0.7)","v":8597.4},0.8,{"$f":"SUM(N109*P109)","v":9825.6},{"$f":"N109+O109+Q109","v":30705}]
[null,"Машинист по стирке и ремонту спецодежды",{"$f":"рабочие!M19+рабочие!M20+рабочие!M21","v":1.75},null,4094,{"$f":"рабочие!G19+рабочие!G20+рабочие!G21","v":7164.5},"х","х",{"$f":"SUM(рабочие!I18:I19)","v":0},"х","х",null,{"$f":"SUM(рабочие!K18:K19)","v":0},7164.5,{"$f":"SUM(N110*0.7)","v":5015.1499999999996},0.8,{"$f":"SUM(N110*P110)","v":5731.6},{"$f":"N110+O110+Q110","v":17911.25}]
[null,"Кастелянша",{"$f":"рабочие!M22","v":1},null,4094,{"$f":"рабочие!G22","v":4094},"х","х",{"$f":"SUM(рабочие!I22)","v":0},"х","х",null,0,4094,{"$f":"SUM(N111*0.7)","v":2865.7999999999997},0.8,{"$f":"SUM(N111*P111)","v":3275.2000000000003},{"$f":"N111+O111+Q111","v":10235}]
[null,"Плотник",{"$f":"рабочие!M24","v":0.5},null,4094,{"$f":"рабочие!G24","v":2047},"х","х",{"$f":"SUM(рабочие!I23:I24)","v":0},"х","х",null,0,2047,1432.8999999999999,0.8,1637.6000000000001,5117.5]
[null,"Вахтер",{"$f":"рабочие!M25+рабочие!M26","v":2},null,4094,{"$f":"рабочие!G25+рабочие!G26","v":8188},"х","х",{"$f":"SUM(рабочие!I24:I25)","v":0},"х","х",null,0,8188,{"$f":"SUM(N113*0.7)","v":5731.5999999999995},1.8,{"$f":"SUM(N113*P113)","v":14738.4},{"$f":"N113+O113+Q113","v":28658}]
[null,"Уборщик служебных помещений",{"$f":"рабочие!M27+рабочие!M28","v":2.5},null,4094,{"$f":"рабочие!G27+рабочие!G28","v":10235},"х","х",{"$f":"SUM(рабочие!I27:I28)","v":0},"х","х",null,{"$f":"SUM(рабочие!K27:K28)","v":0},10235,7164.5,0.8,8188,25587.5]
[null,"Уборщик бассейна",{"$f":"рабочие!M29+рабочие!M30","v":1},null,4094,{"$f":"рабочие!G29+рабочие!G30","v":4094},"х","х",0,"х","х",null,0,4094,2865.7999999999997,0.8,3275.2000000000003,10235]
[null,"Садовник",{"$f":"рабочие!M31","v":1},null,4094,{"$f":"рабочие!G31","v":4094},"х","х",{"$f":"SUM(рабочие!I31:I31)","v":0},"х","х",null,{"$f":"SUM(рабочие!K31:K31)","v":0},4094,2865.7999999999997,0.8,3275.2000000000003,10235]
[null,"Сторож",{"$f":"рабочие!M32+рабочие!M33+рабочие!M34","v":3},null,4094,{"$f":"рабочие!G32+рабочие!G33+рабочие!G34","v":12282},"х","х",{"$f":"SUM(рабочие!I32:I34)","v":0},"х","х",null,{"$f":"SUM(рабочие!K32:K32)","v":0},12282,8597.4,0.8,9825.6,30705]
[null,"Дворник",{"$f":"рабочие!M23","v":1},null,4094,{"$f":"рабочие!G23","v":4094},"х","х",{"$f":"SUM(рабочие!I34:I35)","v":0},"х","х",null,{"$f":"SUM(рабочие!K33:K34)","v":0},4094,{"$f":"SUM(N118*0.7)","v":2865.7999999999997},0.8,{"$f":"SUM(N118*P118)","v":3275.2000000000003},{"$f":"N118+O118+Q118","v":10235}]
[null,"Итого",{"$f":"SUM(C107:C118)","v":18.25},{"$f":"SUM(D107:D117)","v":0},null,{"$f":"SUM(F107:F118)","v":74715.5},0,0,0,0,0,0,0,74715.5,52300.850000000013,null,{"$f":"SUM(Q107:Q118)","v":67960.399999999994},{"$f":"SUM(R107:R118)","v":194976.75}]
[null,"2 квалификационный уровень"]
[null,null,null,null,null,0,"х","х",0,"х","х",null,0,{"$f":"SUM(F121,I121,M121)","v":0},{"$f":"SUM(N121*0.7)","v":0},0.8,{"$f":"SUM(N121*P121)","v":0},{"$f":"ROUND(N121+O121+Q121,2)","v":0}]
[null,"Итого",{"$f":"SUM(C121:C121)","v":0},null,null,{"$f":"SUM(F121:F121)","v":0},0,0,0,0,0,0,0,0,0,null,{"$f":"SUM(Q121:Q121)","v":0},{"$f":"SUM(R121:R121)","v":0}]
[]
[null,"ПКГ работников общеотраслевых профессий 2 уровня                                                  "]
[null,"1 квалификационный уровень"]
[null,"Повар",{"$f":"SUM(рабочие!M42:M50)","v":5.5},null,4094,{"$f":"SUM(рабочие!G42:G50)","v":23178.181},"х","х",{"$f":"SUM(рабочие!I42:I50)","v":0},"х","х",null,{"$f":"SUM(рабочие!K42:K50)","v":0},{"$f":"SUM(F126,I126,M126)","v":23178.181},{"$f":"SUM(N126*0.7)","v":16224.726699999999},0.8,{"$f":"SUM(N126*P126)","v":18542.5448},{"$f":"ROUND(N126+O126+Q126,2)","v":57945.45}]
[null,"Итого",{"$f":"SUM(C126:C126)","v":5.5},null,null,{"$f":"SUM(F126:F126)","v":23178.181},0,0,0,0,0,0,0,23178.181,16224.726699999999,null,{"$f":"SUM(Q126:Q126)","v":18542.5448},{"$f":"SUM(R126:R126)","v":57945.45}]
[null,"2 квалификационный уровень"]
[null,null,null,null,null,0,"х","х",0,"х","х",null,0,{"$f":"SUM(F129,I129,M129)","v":0},{"$f":"SUM(N129*0.7)","v":0},0.8,{"$f":"SUM(N129*P129)","v":0},{"$f":"ROUND(N129+O129+Q129,2)","v":0}]
[null,"Итого",{"$f":"SUM(C129:C129)","v":0},null,null,{"$f":"SUM(F129:F129)","v":0},0,0,0,0,0,0,0,0,0,null,{"$f":"SUM(Q129:Q129)","v":0},{"$f":"SUM(R129:R129)","v":0}]
[null,"3 квалификационный уровень"]
[null,null,null,null,null,0,"х","х",0,"х","х",null,0,{"$f":"SUM(F132,I132,M132)","v":0},{"$f":"SUM(N132*0.7)","v":0},0.8,{"$f":"SUM(N132*P132)","v":0},{"$f":"ROUND(N132+O132+Q132,2)","v":0}]
[null,"Итого",{"$f":"SUM(C132:C132)","v":0},null,null,{"$f":"SUM(F132:F132)","v":0},0,0,0,0,0,0,0,0,0,null,{"$f":"SUM(Q132:Q132)","v":0},{"$f":"SUM(R132:R132)","v":0}]
[null,"4 квалификационный уровень"]
[null,null,null,null,null,0,"х","х",0,"х","х",null,0,{"$f":"SUM(F135,I135,M135)","v":0},{"$f":"SUM(N135*0.7)","v":0},0.8,{"$f":"SUM(N135*P135)","v":0},{"$f":"ROUND(N135+O135+Q135,2)","v":0}]
[null,"Итого",{"$f":"SUM(C135:C135)","v":0},null,null,{"$f":"SUM(F135:F135)","v":0},0,0,0,0,0,0,0,0,0,null,{"$f":"SUM(Q135:Q135)","v":0},{"$f":"SUM(R135:R135)","v":0}]
[null,"Итого по профессиональной квалификационной  группе \"РАБОЧИЕ\"",{"$f":"SUM(C119,C122,C127,C130,C133,C136)","v":23.75},null,null,{"$f":"SUM(F119,F122,F127,F130,F133,F136)","v":97893.680999999997},0,0,0,0,0,0,0,97893.680999999997,68525.576700000005,null,{"$f":"SUM(Q119,Q122,Q127,Q130,Q133,Q136)","v":86502.944799999997},{"$f":"SUM(R119,R122,R127,R130,R133,R136)","v":252922.2}]
[]
["V","ДОЛЖНОСТИ МЕДИЦИНСКИХ И ФАРМАЦЕВТИЧЕСКИХ РАБОТНИКОВ"]
[null,"ПКГ работников среднего медицинского и фармацевтического персонала   "]
[null,"2 квалификационный уровень"]
[null,"Медицинская сестра диетическая",{"$f":"'Мед. персонал'!X16+'Мед. персонал'!X17","v":1},null,4094,null,{"$f":"'Мед. персонал'!J16+'Мед. персонал'!J17","v":5322.2},{"$f":"'Мед. персонал'!L16+'Мед. персонал'!L17","v":1064.44},0,0,0,0,{"$f":"'Мед. персонал'!V16","v":0},{"$f":"SUM(F142+G142,H142,I142,J142,K142,L142,M142)","v":6386.6399999999994},{"$f":"SUM(N142*0.7)","v":4470.6479999999992},0.8,{"$f":"SUM(N142*P142)","v":5109.3119999999999},{"$f":"N142+O142+Q142","v":15966.599999999999}]
[null,"Итого по профессиональной квалификационной  группе \"ДОЛЖНОСТИ МЕДИЦИНСКИХ И ФАРМАЦЕВТИЧЕСКИХ РАБОТНИКОВ\"",{"$f":"C142","v":1},{"$f":"D142","v":0},null,0,5322.2,1064.44,0,0,0,0,0,6386.6399999999994,4470.6479999999992,0.8,5109.3119999999999,15966.599999999999]
[]
[null,"ВСЕГО",{"$f":"C143+C137+C102+C31","v":56},{"$f":"D143+D137+D102+D31","v":0},null,{"$f":"F143+F137+F102+F31","v":180097.68099999998},120465.94999999997,21063.63,2161.6320000000001,0,3193.3199999999997,3193.3199999999997,20981.75,{"$f":"N143+N137+N102+N31","v":351157.28299999994},245810.0981,null,{"$f":"Q143+Q137+Q102+Q31","v":289113.82640000002},{"$f":"R143+R137+R102+R31","v":886081.19750000001}]
[null,null,{"$f":"C145-руководители!X34-служащие!X100-рабочие!M61-'Мед. персонал'!X18","v":0},null,null,null,null,null,null,null,null,null,null,{"$f":"N145-служащие!W100-'Мед. персонал'!Y18-рабочие!N61-руководители!W34","v":0}]
[null,"Заведующий МБДОУ \" Детский сад  \"Руслан\"",null,null,null,null,null,null,null,null,null,"Б.А.Джемакулова"]
[null,null,null,null,null,{"$f":"C145+'Штатное расписание субвенция'!C36","v":98}]
[null,"Ведущий экономист",null,null,null,{"$f":"103.95-F148","v":5.9500000000000028},null,null,null,null,null,"В.А. Тычкина"]
[]
[null,"Специалист по кадрам",null,null,null,null,null,null,null,null,null,"Л.И.Утяганова"]
[]
[null,null,{"$f":"C145+'Штатное расписание субвенция'!C36","v":98}]

{"sheet":"руководители","index":2,"n_rows":40,"n_cols":28,"rows_kept":40,"cut":false,"hidden":false,"merged":[[12,0,12,26],[15,10,15,11],[15,18,15,19],[13,0,13,26],[15,20,15,21],[15,3,16,3],[2,22,2,25],[3,22,3,25],[4,22,4,25],[5,22,5,25],[11,0,11,26],[10,0,10,26],[8,0,8,26],[25,1,25,4],[18,1,18,4],[15,4,16,4],[35,7,35,13],[15,5,16,5],[15,6,16,6],[15,7,16,7],[37,7,37,13],[39,7,39,13],[15,27,16,27],[15,24,16,24],[15,25,15,26],[15,23,16,23],[15,8,15,9],[15,14,15,15],[15,22,16,22],[15,16,15,17],[15,12,15,13],[33,0,33,7],[15,0,16,0],[15,1,16,1],[15,2,16,2],[29,1,29,4]]}
[]
[]
[null,null,null,null,null,null,null,null,null,null,null,null,null,null,null,null,null,null,null,null,null,null,"УТВЕРЖДЕНО"]
[null,null,null,null,null,null,null,null,null,null,null,null,null,null,null,null,null,null,null,null,null,null,"Приказом  МБДОУ \"Детский сад \" \"Руслан\""]
[null,null,null,null,null,null,null,null,null,null,null,null,null,null,null,null,null,null,null,null,null,null,"№                                 от "]
[]
[]
[null,null,null,null,"                                          "]
["ТАРИФИКАЦИОННЫЙ СПИСОК"]
[]
["работников профессиональной квалификационной группы должностей руководителей"]
["Муниципальное бюджетное дошкольное образовательное учреждение  \"Детский сад  \"Руслан\""]
["(наименование образовательного учреждения)"]
["по состоянию на 01.09.2017"]
[]
["№","Фамилия, Имя, Отчество","Должность","Уровень образования","Наименование образовательного учреждения, дата окончания, полученная специальность","Стаж работы","Квалификационная категория, наличие ученой степени, звания, наград","Базовый оклад","Коэффициент уровня образования",null,"Коэффициент стажа",null,"Коэффициент специфики работы",null,"Коэффициент квалификации",null,"Коэффициент масштаба управления",null,"Коэффициент уровня управления",null,"Коэффициент вакансий",null,"Итого должностной оклад","Кол-во занимаемых ставок","Районный коэффициент","Процентная надбавка за работу в районах Крайнего севера",null,"Итогр должностной оклад в месяц"]
[null,null,null,null,null,null,null,null,"К1","сумма","К2","сумма","К3","сумма","К4","сумма","К5","сумма","К6","сумма","К8","сумма",null,null,null,"коэ-т","сумма"]
["I","РУКОВОДИТЕЛИ",null,null,null,null,"\\","\\"]
[null,"1 квалификационный уровень"]
[null,null,null,null,null,null,null,null,null,{"$f":"SUM(H20*I20)","v":0},null,{"$f":"SUM(J20*K20)","v":0},null,{"$f":"SUM(J20*M20)","v":0},null,{"$f":"SUM(J20*O20)","v":0},null,{"$f":"SUM(J20*Q20)","v":0},null,{"$f":"SUM(J20*S20)","v":0},null,{"$f":"SUM(J20*U20)","v":0},{"$f":"SUM(J20,L20,N20,P20,R20,T20,V20)","v":0},null,{"$f":"SUM(W20*0.7)","v":0},0.8,{"$f":"SUM(W20*Z20)","v":0},{"$f":"ROUND(X20+Y20+AA20,2)","v":0}]
[null,"Итого",null,null,null,null,null,null,null,{"$f":"SUM(J20:J20)","v":0},null,{"$f":"SUM(L20:L20)","v":0},null,{"$f":"SUM(N20:N20)","v":0},null,{"$f":"SUM(P20:P20)","v":0},null,{"$f":"SUM(R20:R20)","v":0},null,{"$f":"SUM(T20:T20)","v":0},null,{"$f":"SUM(V20:V20)","v":0},{"$f":"SUM(W20:W20)","v":0},null,{"$f":"SUM(Y20:Y20)","v":0},null,{"$f":"SUM(AA20:AA20)","v":0},{"$f":"SUM(AB20:AB20)","v":0}]
[null,"2 квалификационный уровень"]
[null,"Андриеш Татьяна                               Григорьевна","Заместитель по ВМР","Высшее"," высшее Шадринский гос.педагогический институт диплом ВСВ 1345691",20.3,"высшая  приказ ДО от 24.12.2013 № 1751     ",null,null,null,null,null,null,null,null,null,null,null,null,null,null,null,26400,1,{"$f":"SUM(W23*0.7)","v":18480},0.8,{"$f":"SUM(W23*Z23)","v":21120},{"$f":"W23+Y23+AA23","v":66000}]
[null,"Рубаник                                          Наталья Михайловна","Заместитель по АХР","Высшее","Высшее  Северо-кавказский федеральный университет Диплом КО № 43609 от 23.06.2013","28,7","1 кат Приказ № 221 от 28.02.2014 ДО",null,null,null,null,null,null,null,null,null,null,null,null,null,null,null,26400,1,{"$f":"SUM(W24*0.7)","v":18480},0.8,{"$f":"SUM(W24*Z24)","v":21120},{"$f":"W24+Y24+AA24","v":66000}]
[null,"Итого",null,null,null,null,null,null,null,{"$f":"SUM(J23:J24)","v":0},null,{"$f":"SUM(L23:L24)","v":0},null,{"$f":"SUM(N23:N24)","v":0},null,{"$f":"SUM(P23:P24)","v":0},null,{"$f":"SUM(R23:R24)","v":0},null,{"$f":"SUM(T23:T24)","v":0},null,{"$f":"SUM(V24:V24)","v":0},{"$f":"SUM(W23:W24)","v":52800},{"$f":"SUM(X23:X24)","v":2},{"$f":"SUM(Y23:Y24)","v":36960},null,{"$f":"SUM(AA23:AA24)","v":42240},{"$f":"SUM(AB23:AB24)","v":132000}]
[]
[null,"Джемакулова                                     Бопай Амербиевна","Заведующий  ","Высшее","высшее, г Мосвка \"Российский новый униврситет\"  диплом ВСГ 1418627 от 30.03.2007 .",33.700000000000003,"Высшая кв.кат. Пр.№ 1820 от 23.12.2015 г ",null,null,null,null,null,null,null,null,null,null,null,null,null,null,null,29404,1,{"$f":"SUM(W27*0.7)","v":20582.8},0.8,{"$f":"SUM(W27*Z27)","v":23523.200000000001},{"$f":"W27+Y27+AA27","v":73510}]
[null,null,null,null,null,null,null,null,null,{"$f":"SUM(H28*I28)","v":0},null,{"$f":"SUM(J28*K28)","v":0},null,{"$f":"SUM(J28*M28)","v":0},null,{"$f":"SUM(J28*O28)","v":0},null,{"$f":"SUM(J28*Q28)","v":0},null,{"$f":"SUM(J28*S28)","v":0},null,{"$f":"SUM(J28*U28)","v":0},{"$f":"SUM(J28,L28,N28,P28,R28,T28,V28)","v":0},null,{"$f":"SUM(W28*0.7)","v":0},null,{"$f":"SUM(W28*Z28)","v":0},{"$f":"ROUND(X28+Y28+AA28,2)","v":0}]
[null,"Итого",null,null,null,null,null,null,null,{"$f":"SUM(J27:J28)","v":0},null,{"$f":"SUM(L27:L28)","v":0},null,{"$f":"SUM(N27:N28)","v":0},null,{"$f":"SUM(P27:P28)","v":0},null,{"$f":"SUM(R27:R28)","v":0},null,{"$f":"SUM(T27:T28)","v":0},null,{"$f":"SUM(V28:V28)","v":0},{"$f":"SUM(W27:W28:W28)","v":29404},null,{"$f":"SUM(Y27:Y28)","v":20582.8},null,{"$f":"SUM(AA27:AA28)","v":23523.200000000001},{"$f":"SUM(AB27:AB28)","v":73510}]
[null,"4 квалификационный уровень"]
[null,null,null,null,null,null,null,null,null,{"$f":"SUM(H31*I31)","v":0},null,{"$f":"SUM(J31*K31)","v":0},null,{"$f":"SUM(J31*M31)","v":0},null,{"$f":"SUM(J31*O31)","v":0},null,{"$f":"SUM(J31*Q31)","v":0},null,{"$f":"SUM(J31*S31)","v":0},null,{"$f":"SUM(J31*U31)","v":0},{"$f":"SUM(J31,L31,N31,P31,R31,T31,V31)","v":0},null,{"$f":"SUM(W31*0.7)","v":0},null,{"$f":"SUM(W31*Z31)","v":0},{"$f":"ROUND(X31+Y31+AA31,2)","v":0}]
[null,"Итого",null,null,null,null,null,null,null,{"$f":"SUM(J31:J31)","v":0},null,{"$f":"SUM(L31:L31)","v":0},null,{"$f":"SUM(N31:N31)","v":0},null,{"$f":"SUM(P31:P31)","v":0},null,{"$f":"SUM(R31:R31)","v":0},null,{"$f":"SUM(T31:T31)","v":0},null,{"$f":"SUM(V31:V31)","v":0},{"$f":"SUM(W31:W31)","v":0},null,{"$f":"SUM(Y31:Y31)","v":0},null,{"$f":"SUM(AA31:AA31)","v":0},{"$f":"SUM(AB31:AB31)","v":0}]
[]
["Итого по профессиональной квалификационной  группе \"РУКОВОДИТЕЛИ\"",null,null,null,null,null,null,null,null,{"$f":"SUM(J21,J25,J29,J32)","v":0},null,{"$f":"SUM(L21,L25,L29,L32)","v":0},null,{"$f":"SUM(N21,N25,N29,N32)","v":0},null,{"$f":"SUM(P21,P25,P29,P32)","v":0},null,{"$f":"SUM(R21,R25,R29,R32)","v":0},null,{"$f":"SUM(T21,T25,T29,T32)","v":0},null,{"$f":"SUM(V21,V25,V29,V32)","v":0},{"$f":"SUM(W21,W25,W29,W32)","v":82204},{"$f":"X23+X24+X27","v":3},{"$f":"SUM(Y21,Y25,Y29,Y32)","v":57542.8},null,{"$f":"SUM(AA21,AA25,AA29,AA32)","v":65763.199999999997},{"$f":"SUM(AB21,AB25,AB29,AB32)","v":205510}]
[]
[null,"Зам зав по АХР  МБДОУ ДС \"Руслан\"",null,null,null,null,null,"Б. А. Джемакулова"]
[]
[null,"Ведущий экономист",null,null,null,null,null,"В. А Тычкина"]
[]
[null,"Специалист по кадрам",null,null,null,null,null,"Л. И. Утяганова"]

{"sheet":"декретПед раб","index":3,"n_rows":36,"n_cols":37,"rows_kept":36,"cut":false,"hidden":false,"merged":[[31,0,31,7],[33,26,33,29],[35,15,35,17],[35,26,35,29],[38,26,38,29],[13,36,14,36],[15,1,15,5],[13,23,13,24],[13,25,13,26],[13,27,13,28],[13,29,14,29],[13,30,14,30],[13,31,14,31],[13,5,14,5],[13,6,14,6],[13,7,14,7],[13,8,13,9],[13,10,13,11],[13,12,13,22],[13,32,14,32],[13,33,14,33],[6,0,6,35],[8,0,8,35],[9,0,9,35],[10,0,10,35],[11,0,11,35],[13,34,13,35],[13,0,14,0],[13,1,14,1],[13,2,14,2],[13,3,14,3],[13,4,14,4]]}
[]
[null,null,null,null,null,null,null,null,null,null,null,null,null,null,null,null,null,null,null,null,null,null,null,null,null,null,null,null,null,null,null,null,"УТВЕРЖДЕНО"]
[null,null,null,null,null,null,null,null,null,null,null,null,null,null,null,null,null,null,null,null,null,null,null,null,null,null,null,null,null,null,null,null,"Приказом  МБДОУ  \"Детский сад \"Руслан\""]
[null,null,null,null,null,null,null,null,null,null,null,null,null,null,null,null,null,null,null,null,null,null,null,null,null,null,null,null,null,null,null,null,"№                      от               "]
[]
[]
["ТАРИФИКАЦИОННЫЙ СПИСОК"]
[]
["работников профессиональной квалификационной группы должностей педагогических работников (ОСНОВНОЕ ОБЩЕЕ ОБРАЗОВАНИЕ)"]
["Муниципальное бюджетное  дошкольное  образовательное учреждение\" Детский сад \"  \"Руслан\""]
["(наименование образовательного учреждения)"]
["по состоянию на 01.09.2017 года"]
[null,"декрет"]
["№","Фамилия, Имя, Отчество","Должность","Уровень образования","Наименование образовательного учреждения, дата окончания, полученная специальность","Стаж работы","Квалификационная категория, наличие ученой степени, звания, наград","Базовый оклад","Коэффициент уровня образования",null,"Коэффициент стажа",null,"Коэффициент специфики работы",null,null,null,null,null,null,null,null,null,null,"Коэффициент квалификации",null,"Коэффициент молодых специалистов",null,"Коэффициент вакансий",null,"Итого должностной оклад","Кол-во преподаваемых часов","Кол-во занимаемых ставок (за исключением работающих по учебному плану)","Должностной оклад по нагрузке","Районный коэффициент","Процентная надбавка за работу в районах Крайнего севера",null,"Итогр должностной оклад в месяц"]
[null,null,null,null,null,null,null,null,"К1","сумма","К2","сумма","Наименование показателя","сумма","коэффициент спицифики","сумма","Методическое объединение","сумма","Наименование показателя","сумма","Наименование показателя","сумма","Итого ","К4","сумма","К7","сумма","К8","сумма",null,null,null,null,null,"коэ-т","сумма"]
[null,"1 квалификационный уровень"]
[1,"Баисова Радима Рамазановна","воспитатель","Высшее","Ставропольский гос.университет,диплом ВСГ 4802635 от 25.06.2009 ",5,null,5500,1.5,{"$f":"SUM(H17*I17)*AF17","v":8250},0.1,{"$f":"SUM(J17*K17)","v":825},null,{"$f":"SUM(J17*M17)","v":0},0,{"$f":"SUM(J17*O17)","v":0},null,{"$f":"SUM(J17*Q17)","v":0},null,{"$f":"SUM(J17*S17)","v":0},null,{"$f":"SUM(J17*U17)","v":0},{"$f":"SUM(N17,P17,R17,T17,V17)","v":0},null,{"$f":"SUM(J17*X17)","v":0},null,{"$f":"SUM(J17*Z17)","v":0},null,{"$f":"SUM(J17*AB17)","v":0},{"$f":"SUM(J17,L17,W17,Y17,AA17,AC17)","v":9075},null,1,null,{"$f":"AD17*0.7","v":6352.5},0.8,{"$f":"AD17*AI17","v":7260},{"$f":"AD17+AH17+AJ17","v":22687.5}]
[2,"Дакаева Седа Анзоровна","Воспитатель","высшее","Казань Диплом о профессиональной переподготовеи",2,null,5500,1.5,{"$f":"SUM(H18*I18)*AF18","v":8250},0.05,{"$f":"SUM(J18*K18)","v":412.5},0,{"$f":"SUM(J18*M18)","v":0},0,{"$f":"SUM(J18*O18)","v":0},null,{"$f":"SUM(J18*Q18)","v":0},null,{"$f":"SUM(J18*S18)","v":0},null,{"$f":"SUM(J18*U18)","v":0},{"$f":"SUM(N18,P18,R18,T18,V18)","v":0},null,{"$f":"SUM(J18*X18)","v":0},null,{"$f":"SUM(J18*Z18)","v":0},null,{"$f":"SUM(J18*AB18)","v":0},{"$f":"SUM(J18,L18,W18,Y18,AA18,AC18)","v":8662.5},null,1,null,6063.75,0.8,6930,21656.25]
[3,"Ибрагимова Джамиля Ибрагимовна","Воспитатель","Высшее"," Дагестанский государственный педагогический универститет,      Диплом №  2452 от 16.01.2015   ",4,"Соответствие пр.128 от 28.04.2014",5500,1.5,8250,0.1,825,0,{"$f":"SUM(J19*M19)","v":0},0,{"$f":"SUM(J19*O19)","v":0},null,{"$f":"SUM(J19*Q19)","v":0},null,{"$f":"SUM(J19*S19)","v":0},null,{"$f":"SUM(J19*U19)","v":0},0,null,0,null,0,null,0,9075,null,1,null,6352.5,0.8,7260,22687.5]
[4,"Карасова Джамиля Муссовеа","педагог доп образов","Высшее","неполное высшее студентка 5 курса","3,5",null,5500,1.3,{"$f":"SUM(H20*I20)*AF20","v":7150},0.1,{"$f":"SUM(J20*K20)","v":715},null,null,null,{"$f":"SUM(J20*O20)","v":0},null,{"$f":"SUM(J20*Q20)","v":0},null,{"$f":"SUM(J20*S20)","v":0},null,{"$f":"SUM(J20*U20)","v":0},{"$f":"SUM(N20,P20,R20,T20,V20)","v":0},null,{"$f":"SUM(J20*X20)","v":0},null,{"$f":"SUM(J20*Z20)","v":0},null,{"$f":"SUM(J20*AB20)","v":0},{"$f":"SUM(J20,L20,W20,Y20,AA20,AC20)","v":7865},null,1,null,5505.5,0.8,6292,19662.5]
[5,"Кумукова Айнара Сергеевна","Воспитатель","высшее","Ставропольский гос.университет,диплом ВСВ 1371546",2,null,5500,1.5,{"$f":"SUM(H21*I21)*AF21","v":8250},0.05,{"$f":"SUM(J21*K21)","v":412.5},0,{"$f":"SUM(J21*M21)","v":0},0,{"$f":"SUM(J21*O21)","v":0},null,{"$f":"SUM(J21*Q21)","v":0},null,{"$f":"SUM(J21*S21)","v":0},null,{"$f":"SUM(J21*U21)","v":0},0,null,0,null,0,null,0,8662.5,null,1,null,6063.75,0.2,1732.5,16458.75]
[6,"Тхайцухова Рината Адамеевна","воспитатель","Высшее","Московский открытый социальный Универси ВСГ 0670230",4,null,5500,1.5,{"$f":"SUM(H22*I22)*AF22","v":8250},0.1,{"$f":"SUM(J22*K22)","v":825},null,{"$f":"SUM(J22*M22)","v":0},null,0,null,0,null,0,null,0,0,null,0,null,0,null,0,9075,null,1,null,6352.5,0.8,7260,22687.5]
[7,"Узденова Олеся Менглибиевна","воспитатель","Высшее","карачаево- Черкесский пед институт ВСГ2072508",11,"1 кат  Приказ  № 430 от 19.04.2012 г Мин. Образ. И науки  КЧР",5500,1.5,8250,0.2,1650,null,{"$f":"SUM(J23*M23)","v":0},null,0,null,0,null,0,null,0,0,null,0,null,0,null,0,9900,null,1,null,6930,0.8,7920,24750]
[8,"Касбулатова                                    Альмира Бейтулаевна","Воспитатель","Высшее","Карачаево-Черкесский университет, диплом ВСГ 5716623",6.8,"Соответствие Пр.№ 288 от 21.11.2013",5500,1.5,{"$f":"SUM(H24*I24)*AF24","v":8250},0.1,{"$f":"SUM(J24*K24)","v":825},null,{"$f":"SUM(J24*M24)","v":0},0,{"$f":"SUM(J24*O24)","v":0},null,{"$f":"SUM(J24*Q24)","v":0},null,{"$f":"SUM(J24*S24)","v":0},null,{"$f":"SUM(J24*U24)","v":0},0,null,0,null,{"$f":"SUM(J24*Z24)","v":0},null,0,9075,null,1,null,6352.5,0.8,7260,22687.5]
[9,"Керейтова   Мадина Келеметовна                                     ","Воспитатель ","Высшее","  Карачаево-Черкесский  гос.универститет им. У.Д. Алиева, диплом ВСГ 2978726",8.8000000000000007,"Соответствие Пр № 326 от 20.11.2014",5500,1.5,{"$f":"SUM(H25*I25)*AF25","v":8250},0.1,{"$f":"SUM(J25*K25)","v":825},0,{"$f":"SUM(J25*M25)","v":0},null,{"$f":"SUM(J25*O25)","v":0},null,{"$f":"SUM(J25*Q25)","v":0},null,{"$f":"SUM(J25*S25)","v":0},null,{"$f":"SUM(J25*U25)","v":0},0,null,0,null,{"$f":"SUM(J25*Z25)","v":0},null,0,9075,null,1,null,6352.5,0.8,7260,22687.5]
[10,"Митрофанова            Ольга Владимировна ","Воспитатель   (логопедическакя группа)","Высшее","Новочеркасская  гос мелиоративная академия, диплом ВСГ 2827819 Новоуренгойский педколледж 2-й курс",2.8,"соответствие  Приказ № 63 от  26.03.2015",5500,1.5,{"$f":"SUM(H26*I26)*AF26","v":8250},0.1,{"$f":"SUM(J26*K26)","v":825},0,0,0.2,1650,null,0,null,0,null,0,1650,null,0,null,{"$f":"SUM(J26*Z26)","v":0},null,0,10725,null,1,null,7507.4999999999991,0.8,8580,26812.5]
[11,"Мирошникова Анна Игоревна","воспитатель","Среднее-профессиональное","Новоуренгойсре педучилище, диплом СБ № 4631366                                        ",3,null,5500,1.3,{"$f":"SUM(H27*I27)*AF27","v":7150},0.1,{"$f":"SUM(J27*K27)","v":715},null,{"$f":"SUM(J27*M27)","v":0},0,{"$f":"SUM(J27*O27)","v":0},null,{"$f":"SUM(J27*Q27)","v":0},null,{"$f":"SUM(J27*S27)","v":0},null,{"$f":"SUM(J27*U27)","v":0},{"$f":"SUM(N27,P27,R27,T27,V27)","v":0},null,{"$f":"SUM(J27*X27)","v":0},null,{"$f":"SUM(J27*Z27)","v":0},null,{"$f":"SUM(J27*AB27)","v":0},{"$f":"SUM(J27,L27,W27,Y27,AA27,AC27)","v":7865},null,1,null,{"$f":"AD27*0.7","v":5505.5},0.8,{"$f":"AD27*AI27","v":6292},{"$f":"AD27+AH27+AJ27","v":19662.5}]
[12,"Чупалаева Юлдузат Алимсултановна","Воспитатель","Высшее","Дагестанский государственный университет , Диплом КГ № 16339,Институт новых техгологий в образовании",1.3,null,5500,1.5,{"$f":"SUM(H28*I28)*AF28","v":8250},0.05,{"$f":"SUM(J28*K28)","v":412.5},0,{"$f":"SUM(J28*M28)","v":0},0,{"$f":"SUM(J28*O28)","v":0},null,{"$f":"SUM(J28*Q28)","v":0},null,{"$f":"SUM(J28*S28)","v":0},null,{"$f":"SUM(J28*U28)","v":0},{"$f":"SUM(N28,P28,R28,T28,V28)","v":0},null,{"$f":"SUM(J28*X28)","v":0},null,{"$f":"SUM(J28*Z28)","v":0},null,{"$f":"SUM(J28*AB28)","v":0},{"$f":"SUM(J28,L28,W28,Y28,AA28,AC28)","v":8662.5},null,1,null,{"$f":"AD28*0.7","v":6063.75},0.8,{"$f":"AD28*AI28","v":6930},{"$f":"AD28+AH28+AJ28","v":21656.25}]
[null,"Итого",null,null,null,null,null,null,null,{"$f":"SUM(J17:J28)","v":96800},null,{"$f":"SUM(L17:L23)","v":5665},{"$f":"SUM(M17:M23)","v":0},{"$f":"SUM(N17:N23)","v":0},null,{"$f":"SUM(P17:P23)","v":0},0,0,0,0,0,0,0,null,{"$f":"SUM(Y17:Y23)","v":0},0,0,0,0,62315,null,{"$f":"SUM(AF17:AF23)","v":7},null,{"$f":"SUM(AH17:AH23)","v":43620.5},null,{"$f":"SUM(AJ17:AJ23)","v":44654.5},{"$f":"SUM(AK17:AK23)","v":150590}]
[null,"Итого"]
[]
["Итого"]
[]
[null,"Заведующий  МБДОУ  \"Детский сад \"Руслан\"",null,null,null,null,null,null,null,null,null,null,null,null,null,null,null,null,null,null,null,null,null,null,null,null,"Б. А. Джемакулова"]
[]
[null,"Ведущий экономист",null,null,null,null,null,null,null,null,null,null,null,null,null,null,null,null,null,null,null,null,null,null,null,null,"В. А. Тычкина"]

{"sheet":"пед кадры","index":4,"n_rows":71,"n_cols":37,"rows_kept":71,"cut":false,"hidden":false,"merged":[[13,0,14,0],[13,1,14,1],[13,2,14,2],[13,3,14,3],[13,4,14,4],[6,0,6,36],[8,0,8,36],[9,0,9,36],[10,0,10,36],[11,0,11,36],[15,1,15,5],[13,23,13,24],[13,25,13,26],[13,27,13,28],[13,5,14,5],[13,6,14,6],[13,7,14,7],[13,8,13,9],[13,10,13,11],[13,12,13,22],[71,26,71,29],[13,32,14,32],[13,33,14,33],[13,34,13,35],[13,36,14,36],[13,29,14,29],[13,30,14,30],[13,31,14,31],[70,26,70,29],[27,1,27,5],[57,1,57,5],[64,0,64,7],[66,26,66,29],[68,15,68,17],[68,26,68,29]]}
[]
[null,null,null,null,null,null,null,null,null,null,null,null,null,null,null,null,null,null,null,null,null,null,null,null,null,null,null,null,null,null,null,null,"УТВЕРЖДЕНО"]
[null,null,null,null,null,null,null,null,null,null,null,null,null,null,null,null,null,null,null,null,null,null,null,null,null,null,null,null,null,null,null,null,"Приказом  МБДОУ \"Детский сад  \"Руслан\""]
[null,null,null,null,null,null,null,null,null,null,null,null,null,null,null,null,null,null,null,null,null,null,null,null,null,null,null,null,null,null,null,null,"№ 173 от 01.09.2017     "]
[]
[]
["ТАРИФИКАЦИОННЫЙ СПИСОК"]
[]
["работников профессиональной квалификационной группы должностей педагогических работников (ОСНОВНОЕ ОБЩЕЕ ОБРАЗОВАНИЕ)"]
["Муниципальное бюджетное  дошкольное  образовательное учреждение\" Детский сад \"  \"Руслан\""]
["(наименование образовательного учреждения)"]
["по состоянию на 01 09.2017года"]
[]
["№","Фамилия, Имя, Отчество","Должность","Уровень образования","Наименование образовательного учреждения, дата окончания, полученная специальность","Стаж работы","Квалификационная категория, наличие ученой степени, звания, наград","Базовый оклад","Коэффициент уровня образования",null,"Коэффициент стажа",null,"Коэффициент специфики работы",null,null,null,null,null,null,null,null,null,null,"Коэффициент квалификации",null,"Коэффициент молодых специалистов",null,"Коэффициент вакансий",null,"Итого должностной оклад","Кол-во преподаваемых часов","Кол-во занимаемых ставок (за исключением работающих по учебному плану)","Должностной оклад по нагрузке","Районный коэффициент","Процентная надбавка за работу в районах Крайнего севера",null,"Итогр должностной оклад в месяц"]
[null,null,null,null,null,null,null,null,"К1","сумма","К2","сумма","Наименование показателя","сумма","коэффициент спицифики","сумма","Методическое объединение","сумма","Наименование показателя","сумма","Наименование показателя","сумма","Итого ","К4","сумма","К7","сумма","К8","сумма",null,null,null,null,null,"коэ-т","сумма"]
[null,"1 квалификационный уровень"]
[1,"Куклин                                               Сергей Леонидович","инструктор по физической культуре (с обучением плаванию)","Высшее"," Марийский гос.пед.институт диплом ЦВ 0166652 от 26.06.1992",22.11,"Соответствие пр. 26 от 20.01.2014",5500,1.5,{"$f":"SUM(H17*I17)*AF17","v":8250},0.2,{"$f":"SUM(J17*K17)","v":1650},null,{"$f":"SUM(J17*M17)","v":0},0,{"$f":"SUM(J17*O17)","v":0},0,{"$f":"SUM(J17*Q17)","v":0},null,{"$f":"SUM(J17*S17)","v":0},null,{"$f":"SUM(J17*U17)","v":0},{"$f":"SUM(N17,P17,R17,T17,V17)","v":0},null,{"$f":"SUM(J17*X17)","v":0},null,{"$f":"SUM(J17*Z17)","v":0},null,{"$f":"SUM(J17*AB17)","v":0},{"$f":"SUM(J17,L17,W17,Y17,AA17,AC17)","v":9900},null,1,null,{"$f":"AD17*0.7","v":6930},0.8,{"$f":"AD17*AI17","v":7920},{"$f":"AD17+AH17+AJ17","v":24750}]
[2,"Куклин                                               Сергей Леонидович","инструктор по физической культуре (с обучением плаванию)","Высшее"," Марийский гос.пед.институт диплом ЦВ 0166652 от 26.06.1992",22.11,"Соответствие пр. 26 от 20.01.2014",5500,1.5,4125,0.2,825,null,0,0,0,0,0,null,0,null,0,0,null,0,null,0,null,0,4950,null,0.5,null,3465,0.8,3960,12375]
[3,"Нифталиев                                               Сахил Тельман оглы","инструктор по физической культуре (без обучению плаванию)","Среднее-профессиональное, ","Омский пед.колледж диплом 55 ПА  0001116 ,Пермский университет",5,"Соответствие пр. 300 от 30.10.2014",5500,1.3,7150,0.1,715,null,0,0,0,0,0,null,0,null,0,0,null,0,null,0,null,0,7865,null,1,null,5505.5,0.8,{"$f":"AD19*AI19","v":6292},{"$f":"AD19+AH19+AJ19","v":19662.5}]
[4,"Нифталиев                                               Сахил Тельмае Оглы","инструктор по физической культуре                          (без обучения плаванию)","Среднее-профессиональное, ","Омский пед.колледж диплом 55 ПА  0001116 ,Пермский университет",5,"Соответствие пр. 300 от 30.10.2014",5500,1.3,3575,0.1,357.5,null,0,0,0,0,0,null,0,null,0,0,null,0,null,0,null,0,3932.5,null,0.5,null,2752.75,0.8,{"$f":"AD20*AI20","v":3146},9831.25]
[5,"Вакансия","инструктор по физической культуре (без обучения плаванию)",null,null,0,null,5500,1.5,null,null,{"$f":"SUM(J21*K21)","v":0},null,{"$f":"SUM(J21*M21)","v":0},0,{"$f":"SUM(J21*O21)","v":0},0,{"$f":"SUM(J21*Q21)","v":0},null,{"$f":"SUM(J21*S21)","v":0},null,{"$f":"SUM(J21*U21)","v":0},{"$f":"SUM(N21,P21,R21,T21,V21)","v":0},null,0,null,{"$f":"SUM(J21*Z21)","v":0},1.25,{"$f":"H21*I21*AB21*AF21","v":2578.125},{"$f":"SUM(J21,L21,W21,Y21,AA21,AC21)","v":2578.125},null,0.25,null,{"$f":"AD21*0.7","v":1804.6874999999998},0.8,{"$f":"AD21*AI21","v":2062.5},{"$f":"AD21+AH21+AJ21","v":6445.3125}]
[6,"Вакансия","инструктор по физической культуре (с обучением плаванию)",null,null,0,null,5500,1.5,null,null,{"$f":"SUM(J22*K22)","v":0},null,{"$f":"SUM(J22*M22)","v":0},0,{"$f":"SUM(J22*O22)","v":0},0,{"$f":"SUM(J22*Q22)","v":0},null,{"$f":"SUM(J22*S22)","v":0},null,{"$f":"SUM(J22*U22)","v":0},{"$f":"SUM(N22,P22,R22,T22,V22)","v":0},null,{"$f":"SUM(J22*X22)","v":0},null,{"$f":"SUM(J22*Z22)","v":0},1.25,{"$f":"H22*I22*AB22*AF22","v":2578.125},{"$f":"SUM(J22,L22,W22,Y22,AA22,AC22)","v":2578.125},null,0.25,null,{"$f":"AD22*0.7","v":1804.6874999999998},0.8,{"$f":"AD22*AI22","v":2062.5},{"$f":"AD22+AH22+AJ22","v":6445.3125}]
[7,"Шаброва Светлана Викторовна","Музыкальный руководитель","Среднее-профессиональное","Вольское пед.училище диплом ИТ №302025",30," 1 категория протокол заседания  Атесстационной комиссс ДО ЯНАО № 10 от 27.05.2016",5500,1.3,10725,0.2,2145,null,0,0,0,0,0,null,0,null,0,0,0.3,3217.5,null,0,null,0,16087.5,null,1.5,null,11261.25,0.8,12870,40218.75]
[8,"Герейханова                                             Альбина Вазирхановна","хореограф","Среднее-профессиональное"," ГОУ \"Чеченский государственный колледж культуры и искусства\"",4,null,5500,1.3,{"$f":"SUM(H24*I24)*AF24","v":3575},0.1,{"$f":"SUM(J24*K24)","v":357.5},null,{"$f":"SUM(J24*M24)","v":0},0,{"$f":"SUM(J24*O24)","v":0},null,{"$f":"SUM(J24*Q24)","v":0},null,{"$f":"SUM(J24*S24)","v":0},null,{"$f":"SUM(J24*U24)","v":0},{"$f":"SUM(N24,P24,R24,T24,V24)","v":0},null,{"$f":"SUM(J24*X24)","v":0},null,{"$f":"SUM(J24*Z24)","v":0},null,{"$f":"SUM(J24*AB24)","v":0},{"$f":"SUM(J24,L24,W24,Y24,AA24,AC24)","v":3932.5},null,0.5,null,{"$f":"AD24*0.7","v":2752.75},0.8,{"$f":"AD24*AI24","v":3146},{"$f":"AD24+AH24+AJ24","v":9831.25}]
[9,"Князева Маргарита Андреевна","хореограф (внешний совмест.)","Высшее"," ГОУ \"Чеченский государственный колледж культуры и искусства\"",15.2,"высшая  Приказ ДО ЯНАО № 607 от 3.04.2015",5500,1.5,{"$f":"SUM(H25*I25)*AF25","v":4125},0.2,{"$f":"SUM(J25*K25)","v":825},null,{"$f":"SUM(J25*M25)","v":0},0,{"$f":"SUM(J25*O25)","v":0},0,{"$f":"SUM(J25*Q25)","v":0},null,{"$f":"SUM(J25*S25)","v":0},null,{"$f":"SUM(J25*U25)","v":0},{"$f":"SUM(N25,P25,R25,T25,V25)","v":0},0.5,{"$f":"SUM(J25*X25)","v":2062.5},null,0,null,{"$f":"SUM(J25*AB25)","v":0},{"$f":"SUM(J25,L25,W25,Y25,AA25,AC25)","v":7012.5},null,0.5,null,{"$f":"AD25*0.7","v":4908.75},0.8,{"$f":"AD25*AI25","v":5610},{"$f":"AD25+AH25+AJ25","v":17531.25}]
[10,"Куруптурсунов Эдиге Бегалиевич","Музыкальный руководитель","средне профессиальное","Астраханский коледж культуры и искусств",1.7,null,5500,1.3,{"$f":"SUM(H26*I26)*AF26","v":10725},0.05,{"$f":"SUM(J26*K26)","v":536.25},null,0,0,0,0,0,null,0,null,0,0,null,0,null,0,null,{"$f":"H26*I26*AB26*AF26","v":0},{"$f":"SUM(J26,L26,W26,Y26,AA26,AC26)","v":11261.25},null,1.5,null,7882.8749999999991,0.8,9009,28153.125]
[null,"Итого",null,null,null,null,null,null,null,{"$f":"SUM(J17:J26)","v":52250},null,{"$f":"SUM(L17:L26)","v":7411.25},null,{"$f":"SUM(N17:N26)","v":0},0,0,0,0,0,0,0,0,0,null,{"$f":"SUM(Y17:Y26)","v":5280},{"$f":"SUM(Z17:Z26)","v":0},null,null,{"$f":"SUM(AC17:AC26)","v":5156.25},{"$f":"SUM(AD17:AD26)","v":70097.5},null,{"$f":"SUM(AF17:AF26)","v":7.5},{"$f":"SUM(AG17:AG26)","v":0},{"$f":"SUM(AH17:AH26)","v":49068.25},null,{"$f":"SUM(AJ17:AJ26)","v":56078},{"$f":"SUM(AK17:AK26)","v":175243.75}]
[null,"3 квалификационный уровень"]
[13,"Аргалева Галина Гри горьевна","Воспитатель","Среднее-профессиональное","Чебоксарский пед.колледж, диплом Ут № 742637 ",20.11,"соответствие Приказ №  37 от 26.02.2015",5500,1.3,{"$f":"SUM(H29*I29)*AF29","v":7150},0.2,{"$f":"SUM(J29*K29)","v":1430},0,{"$f":"SUM(J29*M29)","v":0},0,{"$f":"SUM(J29*O29)","v":0},null,{"$f":"SUM(J29*Q29)","v":0},null,{"$f":"SUM(J29*S29)","v":0},null,{"$f":"SUM(J29*U29)","v":0},{"$f":"SUM(N29,P29,R29,T29,V29)","v":0},0,{"$f":"SUM(J29*X29)","v":0},null,{"$f":"SUM(J29*Z29)","v":0},null,{"$f":"SUM(J29*AB29)","v":0},{"$f":"SUM(J29,L29,W29,Y29,AA29,AC29)","v":8580},null,1,null,{"$f":"AD29*0.7","v":6006},0.8,{"$f":"AD29*AI29","v":6864},{"$f":"AD29+AH29+AJ29","v":21450}]
[14,"Азнабаева Салима Исмагиловна","Воспитатель","Высшее","Стерлитамакский государственный педагогический унститут",23.5,null,5500,1.5,{"$f":"SUM(H30*I30)*AF30","v":8250},0.2,{"$f":"SUM(J30*K30)","v":1650},0,{"$f":"SUM(J30*M30)","v":0},0,{"$f":"SUM(J30*O30)","v":0},null,{"$f":"SUM(J30*Q30)","v":0},null,{"$f":"SUM(J30*S30)","v":0},null,{"$f":"SUM(J30*U30)","v":0},{"$f":"SUM(N30,P30,R30,T30,V30)","v":0},0,{"$f":"SUM(J30*X30)","v":0},null,{"$f":"SUM(J30*Z30)","v":0},null,{"$f":"SUM(J30*AB30)","v":0},{"$f":"SUM(J30,L30,W30,Y30,AA30,AC30)","v":9900},null,1,null,6930,0.8,7920,24750]
[15,"Ахмедова Кацура Джентимировна","Воспитатель","средне-профессиональное","Черкесское пед училище Диплом № СТ 211301",12,null,5500,1.3,{"$f":"SUM(H31*I31)*AF31","v":10725},0.2,{"$f":"SUM(J31*K31)","v":2145},0,{"$f":"SUM(J31*M31)","v":0},0,{"$f":"SUM(J31*O31)","v":0},null,{"$f":"SUM(J31*Q31)","v":0},null,{"$f":"SUM(J31*S31)","v":0},null,{"$f":"SUM(J31*U31)","v":0},{"$f":"SUM(N31,P31,R31,T31,V31)","v":0},0,{"$f":"SUM(J31*X31)","v":0},null,{"$f":"SUM(J31*Z31)","v":0},null,{"$f":"SUM(J31*AB31)","v":0},{"$f":"SUM(J31,L31,W31,Y31,AA31,AC31)","v":12870},null,1.5,null,9009,0.8,10296,32175]
[16,"Банбатова Бэлла Данисолтановна","Воспитатель","Высшее","Дагестанский гс.пед институт диплом ЦВ 394728 от 25.05.1994",23.7,"магистр                                                1 кв кат протокол ДО ЯНАО от 25.11.2016 № 4",5500,1.5,{"$f":"SUM(H32*I32)*AF32","v":8250},0.2,{"$f":"SUM(J32*K32)","v":1650},0,{"$f":"SUM(J32*M32)","v":0},0,{"$f":"SUM(J32*O32)","v":0},null,{"$f":"SUM(J32*Q32)","v":0},null,{"$f":"SUM(J32*S32)","v":0},null,{"$f":"SUM(J32*U32)","v":0},{"$f":"SUM(N32,P32,R32,T32,V32)","v":0},0.3,{"$f":"SUM(J32*X32)","v":2475},null,{"$f":"SUM(J32*Z32)","v":0},null,{"$f":"SUM(J32*AB32)","v":0},{"$f":"SUM(J32,L32,W32,Y32,AA32,AC32)","v":12375},null,1,null,8662.5,0.8,9900,30937.5]
[17,"Байгельдиева Мадина Исламовна                                        ","Воспитатель","Среднее-профессиональное"," Черкесское пед.училище, диплом СБ 0817254 ",13.3,"соответствие Приказ от 23.04.2014 № 82",5500,1.3,{"$f":"SUM(H33*I33)*AF33","v":10725},0.2,{"$f":"SUM(J33*K33)","v":2145},null,{"$f":"SUM(J33*M33)","v":0},0,{"$f":"SUM(J33*O33)","v":0},null,{"$f":"SUM(J33*Q33)","v":0},null,{"$f":"SUM(J33*S33)","v":0},null,{"$f":"SUM(J33*U33)","v":0},{"$f":"SUM(N33,P33,R33,T33,V33)","v":0},null,{"$f":"SUM(J33*X33)","v":0},null,{"$f":"SUM(J33*Z33)","v":0},null,{"$f":"SUM(J33*AB33)","v":0},{"$f":"SUM(J33,L33,W33,Y33,AA33,AC33)","v":12870},null,1.5,null,9009,0.8,10296,32175]
[18,"вакансия","воспитатль (логопедическая группы)","Высшее",null,null,null,5500,1.5,null,null,{"$f":"SUM(J34*K34)","v":0},0,0,null,0,null,0,null,0,null,0,0,null,0,null,{"$f":"SUM(J34*Z34)","v":0},1.25,{"$f":"H34*I34*AB34*AF34","v":15468.75},{"$f":"AC34","v":15468.75},null,1.5,null,10828.125,0.8,12375,38671.875]
[19,"Драган Галина Пантелеевна                                                ","Воспитатель   (логопедическакя группа)","Высшее","Тюменский государственный университет Диплом бакалавра № 107224 037 2969 от 21 04..2015. регистрационный номер 1199",28.1,"1 категория Протокол аттестационной комиссии от 29.01.2016",5500,1.4,{"$f":"SUM(H35*I35)*AF35","v":11549.999999999998},0.2,2309.9999999999995,0,{"$f":"SUM(J35*M35)","v":0},0.2,2309.9999999999995,null,0,null,0,null,0,2309.9999999999995,0.3,3464.9999999999995,null,0,null,0,19634.999999999996,null,1.5,null,13744.499999999996,0.8,15707.999999999998,49087.499999999993]
[20,"Даутова Саният Саидовна","Воспитатель   (логопедическакя группа)","Высшее","Дагестанский гос.пед.университет, диплом БВС 03188684 ",14.1,"1 кат Протокол заседаниея Аттестацион комиссии от 23.10.2015 г",5500,1.5,{"$f":"SUM(H36*I36)*AF36","v":8250},0.2,1650,null,{"$f":"SUM(J36*M36)","v":0},0.2,1650,null,0,null,0,null,0,1650,0.3,2475,null,0,null,0,14025,null,1,null,9817.5,0.8,11220,35062.5]
[21,"Даутова Саният Саидовна","Воспитатель","Высшее","Дагестанский гос.пед.университет, диплом БВС 03188684 ",12,"1 кат Протокол заседаниея Аттестацион комиссии от 23.10.2015 г",5500,1.5,{"$f":"SUM(H37*I37)*AF37","v":4125},0.2,{"$f":"SUM(J37*K37)","v":825},null,{"$f":"SUM(J37*M37)","v":0},null,{"$f":"SUM(J37*O37)","v":0},null,{"$f":"SUM(J37*Q37)","v":0},null,{"$f":"SUM(J37*S37)","v":0},null,{"$f":"SUM(J37*U37)","v":0},{"$f":"SUM(N37,P37,R37,T37,V37)","v":0},0.3,{"$f":"SUM(J37*X37)","v":1237.5},null,{"$f":"SUM(J37*Z37)","v":0},null,{"$f":"SUM(J37*AB37)","v":0},{"$f":"SUM(J37,L37,W37,Y37,AA37,AC37)","v":6187.5},null,0.5,null,{"$f":"AD37*0.7","v":4331.25},0.8,{"$f":"AD37*AI37","v":4950},{"$f":"AD37+AH37+AJ37","v":15468.75}]
[22,"Джемакулова Марита Борисовна                                 ","Воспитатель   (логопедическакя группа)","Высшее","Ростовский гос.экономический университет                                       диплом ДВС 1840516  Диплом профессиональной подготовке АНОО\" Институт развития современных образовательных бехнологий 015 06 0006566 от 15.11.2014",11.05,"1 кат  протокол заседания Аттестац комиссии ЯНАО от 28.12.2015 № 05",5500,1.5,12375,0.2,2475,0,0,0.2,2475,null,0,null,0,null,0,2475,0.3,3712.5,null,0,null,0,21037.5,null,1.5,null,14726.249999999998,0.8,16830,52593.75]
[23,"Джазова Залина Азаматовна","Воспитатель","средне профессиальное","Карасаево-Черкеский педагогичсекий коллежд  диплом 110905 1101094 от 30.06.2014",2.11,null,5500,1.3,7150,0.05,357.5,0,0,0,0,null,0,null,0,null,0,0,null,0,null,0,null,0,7507.5,null,1,null,5255.25,0.4,3003,15765.75]
[24,"Канглиева Джанке Крымгереевна                                       ","Воспитатель   (логопедическакя группа)","Высшее","Карачаево-Черкесский  пед. институт диплом   ДВС 0788990 ",18.399999999999999,"1 кат  протокол заседания Аттестац комиссии ЯНАО от 28.12.2015 № 05",5500,1.5,8250,0.2,1650,0,0,0.2,1650,null,0,null,0,null,0,1650,0.3,2475,null,0,null,0,14025,null,1,null,9817.5,0.8,11220,35062.5]
[25,"Канглиева Джанке Крымгереевна                                       ","Воспитатель  ","Высшее","Карачаево-Черкесский  пед. институт диплом   ДВС 0788990 ",18.399999999999999,"1 кат  протокол заседания Аттестац комиссии ЯНАО от 28.12.2015 № 05",5500,1.5,{"$f":"SUM(H41*I41)*AF41","v":4125},0.2,{"$f":"SUM(J41*K41)","v":825},0,{"$f":"SUM(J41*M41)","v":0},0,{"$f":"SUM(J41*O41)","v":0},null,{"$f":"SUM(J41*Q41)","v":0},null,{"$f":"SUM(J41*S41)","v":0},null,{"$f":"SUM(J41*U41)","v":0},{"$f":"SUM(N41,P41,R41,T41,V41)","v":0},0.3,{"$f":"SUM(J41*X41)","v":1237.5},null,{"$f":"SUM(J41*Z41)","v":0},null,{"$f":"SUM(J41*AB41)","v":0},{"$f":"SUM(J41,L41,W41,Y41,AA41,AC41)","v":6187.5},null,0.5,null,{"$f":"AD41*0.7","v":4331.25},0.8,{"$f":"AD41*AI41","v":4950},{"$f":"AD41+AH41+AJ41","v":15468.75}]
[26,"Карасова Заира Азаматовна","Воспитатель","Высшее","Северо-кавказский федеральный университет КА 37470",10.9,null,5500,1.5,{"$f":"SUM(H42*I42)*AF42","v":8250},0.2,{"$f":"SUM(J42*K42)","v":1650},0,{"$f":"SUM(J42*M42)","v":0},0,{"$f":"SUM(J42*O42)","v":0},null,{"$f":"SUM(J42*Q42)","v":0},null,{"$f":"SUM(J42*S42)","v":0},null,{"$f":"SUM(J42*U42)","v":0},{"$f":"SUM(N42,P42,R42,T42,V42)","v":0},null,{"$f":"SUM(J42*X42)","v":0},null,{"$f":"SUM(J42*Z42)","v":0},null,{"$f":"SUM(J42*AB42)","v":0},{"$f":"SUM(J42,L42,W42,Y42,AA42,AC42)","v":9900},null,1,null,6930,0.8,7920,24750]
[27,"вакансия","воспитатель ","высшее",null,0,null,5500,1.5,null,null,{"$f":"SUM(J43*K43)","v":0},0,{"$f":"SUM(J43*M43)","v":0},0,{"$f":"SUM(J43*O43)","v":0},null,{"$f":"SUM(J43*Q43)","v":0},null,{"$f":"SUM(J43*S43)","v":0},null,{"$f":"SUM(J43*U43)","v":0},{"$f":"SUM(N43,P43,R43,T43,V43)","v":0},null,{"$f":"SUM(J43*X43)","v":0},null,{"$f":"SUM(J43*Z43)","v":0},1.25,{"$f":"H43*I43*AB43*AF43","v":12890.625},{"$f":"SUM(J43,L43,W43,Y43,AA43,AC43)","v":12890.625},null,1.25,null,{"$f":"AD43*0.7","v":9023.4375},0.8,{"$f":"AD43*AI43","v":10312.5},{"$f":"AD43+AH43+AJ43","v":32226.5625}]
[28,"Кумратова Бела Тахировна","Воспитатель","Высшее","Карачаево- Черкесский пед институт ВСВ 0669123",16.5,null,5500,1.5,{"$f":"SUM(H44*I44)*AF44","v":12375},0.2,{"$f":"SUM(J44*K44)","v":2475},null,{"$f":"SUM(J44*M44)","v":0},0,{"$f":"SUM(J44*O44)","v":0},null,{"$f":"SUM(J44*Q44)","v":0},null,{"$f":"SUM(J44*S44)","v":0},null,{"$f":"SUM(J44*U44)","v":0},{"$f":"SUM(N44,P44,R44,T44,V44)","v":0},null,{"$f":"SUM(J44*X44)","v":0},null,{"$f":"SUM(J44*Z44)","v":0},null,{"$f":"SUM(J44*AB44)","v":0},{"$f":"SUM(J44,L44,W44,Y44,AA44,AC44)","v":14850},null,1.5,null,10395,0.8,11880,37125]
[29,"Курячая                                              Наталья Владимировна","Воспитатель","Высшее"," Тобольская  государ. пед. академия,                       КА № 85444,",17.2,"высшая кв.кат. Протокол заседания Аттестационнной комиссии от 31.10.2016 № 3",5500,1.5,12375,0.2,2475,0,0,0,0,null,0,null,0,null,0,0,0.5,6187.5,null,0,null,0,{"$f":"J45+L45+W45+Y45+AA45+AC45","v":21037.5},null,1.5,null,14726.249999999998,0.8,16830,52593.75]
[30,"Кумукова Крымхан Муссовна","психолог","Высшее","Ставропольский гос.университет,диплом ВСВ 1371547",14.9,"I-кв.кат.  Приказ № 554 от 31.03.2015",5500,1.5,{"$f":"SUM(H46*I46)*AF46","v":8250},0.2,{"$f":"SUM(J46*K46)","v":1650},0,{"$f":"SUM(J46*M46)","v":0},0,{"$f":"SUM(J46*O46)","v":0},null,{"$f":"SUM(J46*Q46)","v":0},null,{"$f":"SUM(J46*S46)","v":0},null,{"$f":"SUM(J46*U46)","v":0},{"$f":"SUM(N46,P46,R46,T46,V46)","v":0},0,{"$f":"SUM(J46*X46)","v":0},null,{"$f":"SUM(J46*Z46)","v":0},null,{"$f":"SUM(J46*AB46)","v":0},{"$f":"J46+L46+W46+Y46+AA46+AC46","v":9900},null,1,null,{"$f":"AD46*0.7","v":6930},1.8,{"$f":"AD46*AI46","v":17820},{"$f":"AD46+AH46+AJ46","v":34650}]
[31,"Кумукова Крымхан Муссовна","психолог","Высшее","Ставропольский гос.университет,диплом ВСВ 1371547",14.9,"I-кв.кат.  Приказ № 554 от 31.03.2015",5500,1.5,{"$f":"SUM(H47*I47)*AF47","v":4125},0.2,{"$f":"SUM(J47*K47)","v":825},0,{"$f":"SUM(J47*M47)","v":0},0,{"$f":"SUM(J47*O47)","v":0},null,{"$f":"SUM(J47*Q47)","v":0},null,{"$f":"SUM(J47*S47)","v":0},null,{"$f":"SUM(J47*U47)","v":0},{"$f":"SUM(N47,P47,R47,T47,V47)","v":0},0,{"$f":"SUM(J47*X47)","v":0},null,{"$f":"SUM(J47*Z47)","v":0},null,{"$f":"SUM(J47*AB47)","v":0},{"$f":"J47+L47+W47+Y47+AA47+AC47","v":4950},null,0.5,null,{"$f":"AD47*0.7","v":3465},1.8,{"$f":"AD47*AI47","v":8910},{"$f":"AD47+AH47+AJ47","v":17325}]
[32,"Левина Инна Петровна","Воспитатель ","Высшее","Московский открытый социальный унивеситет  диплом  ВСГ 0407346 от 14.05.2004",1.1100000000000001,null,5500,1.5,{"$f":"SUM(H48*I48)*AF48","v":8250},0.05,{"$f":"SUM(J48*K48)","v":412.5},0,{"$f":"SUM(J48*M48)","v":0},0,{"$f":"SUM(J48*O48)","v":0},null,{"$f":"SUM(J48*Q48)","v":0},null,{"$f":"SUM(J48*S48)","v":0},null,{"$f":"SUM(J48*U48)","v":0},{"$f":"SUM(N48,P48,R48,T48,V48)","v":0},null,{"$f":"SUM(J48*X48)","v":0},null,{"$f":"SUM(J48*Z48)","v":0},null,{"$f":"SUM(J48*AB48)","v":0},{"$f":"SUM(J48,L48,W48,Y48,AA48,AC48)","v":8662.5},null,1,null,6063.75,0.8,6930,21656.25]
[33,"Нечта   Людмила Михайловна                                             ","Воспитатель   (логопедическакя группа)","Высшее","Тобольский гос.пед.институт диплом                        АВС 0949201 ",27.06,"высшая  Приказ ДО ЯНАО № 607 от 3.04.2015",5500,1.5,8250,0.2,1650,0,0,0.2,1650,null,0,null,0,null,0,1650,0.5,4125,null,0,null,0,15675,null,1,null,10972.5,0.8,12540,39187.5]
[34,"Нечта   Людмила Михайловна                                             ","Воспитатель","Высшее","Тобольский гос.пед.институт диплом                        АВС 0949201 ",27.06,"высшая  Приказ ДО ЯНАО № 607 от 3.04.2015",5500,1.5,{"$f":"SUM(H50*I50)*AF50","v":4125},0.2,{"$f":"SUM(J50*K50)","v":825},0,{"$f":"SUM(J50*M50)","v":0},0,{"$f":"SUM(J50*O50)","v":0},null,{"$f":"SUM(J50*Q50)","v":0},null,{"$f":"SUM(J50*S50)","v":0},null,{"$f":"SUM(J50*U50)","v":0},0,0.5,2062.5,null,0,null,0,7012.5,null,0.5,null,4908.75,0.8,5610,17531.25]
[35,"Ногаева                                         Разияхан Мавсаровна","Воспитатель ","Высшее","Дагестанский гос. универститет, диплом                       ВСВ 0783852 ",15.3,"1 категория протокол заседания  Атесстационной комиссс ДО ЯНАО № 7 от26.02.2016",5500,1.5,8250,0.2,1650,0,0,0,0,null,0,null,0,null,0,0,0.3,2475,null,0,null,0,12375,null,1,null,8662.5,0.8,9900,30937.5]
[36,"Озова    Тамара Адамеевна","Воспитатель","Высшее"," Ставропольский гос.университет, диплом БСВ 0469689",23.4,"1 -я кат Пр № 554 от 31.03.2014 ДО",5500,1.5,12375,0.2,2475,0,0,0,0,null,0,null,0,null,0,0,0.3,3712.5,null,0,null,0,18562.5,null,1.5,null,12993.75,0.8,14850,46406.25]
[37,"Пашаева Насиба Магомед кызы                                            ","Воспитатель","Высшее","Азербайджанский гос.пед.университет диплом                       АВ-1 217306",19.7,"Соответствие Пр.№ 66 от 28.02.2014",5500,1.5,12375,0.2,2475,0,0,0,0,null,0,null,0,null,0,0,null,0,null,0,null,0,14850,null,1.5,null,10395,0.8,11880,37125]
[38,"Саттарова Дильнора Рахметовна","Воспитатель","среднепрофессиональное","новоуренгойский пед колледж",2.11,null,5500,1.3,7150,0.05,357.5,0,0,0,0,null,0,null,0,null,0,0,null,0,null,0,null,0,7507.5,null,1,null,5255.25,0.8,6006,18768.75]
[39,"Санглибаева Марьяна Магарбиевна","воспитатель","высшее","Ставропольский госуд университет Диплом  ВСГ № 0886241 2009 г",8,null,5500,1.5,8250,0.1,{"$f":"SUM(J55*K55)","v":825},0,{"$f":"SUM(J55*M55)","v":0},0,0,null,0,null,0,null,{"$f":"SUM(J55*U55)","v":0},0,null,0,null,0,{"$f":"SUM(Y55*AA55)","v":0},null,9075,null,1,null,6352.5,0.8,7260,22687.5]
[40,"вакансия","воспитатель",null,null,null,null,5500,1.5,null,null,{"$f":"SUM(J56*K56)","v":0},null,0,null,{"$f":"SUM(J56*O56)","v":0},null,{"$f":"SUM(J56*Q56)","v":0},null,{"$f":"SUM(J56*S56)","v":0},null,0,0,null,{"$f":"SUM(J56*X56)","v":0},null,{"$f":"SUM(J56*Z56)","v":0},1.25,{"$f":"H56*I56*AB56*AF56","v":18046.875},18046.875,null,1.75,null,12632.8125,0.8,14437.5,45117.1875]
[null,"Итого",null,null,null,null,null,null,null,{"$f":"SUM(J29:J56)","v":215325},null,{"$f":"SUM(L29:L56)","v":38857.5},null,{"$f":"SUM(N29:N56)","v":0},null,{"$f":"SUM(P29:P56)","v":9735},0,0,0,0,0,0,null,null,{"$f":"SUM(Y29:Y56)","v":35640},{"$f":"SUM(Z29:Z56)","v":0},{"$f":"SUM(AA29:AA56)","v":0},null,{"$f":"SUM(AC29:AC56)","v":46406.25},345963.75,0,31.5,0,242174.625,null,{"$f":"SUM(AJ29:AJ56)","v":288618},{"$f":"SUM(AK29:AK56)","v":876756.375}]
[null,"4 квалификационный уровень",null,null,null,null,null,null,null,null,null,null,null,null,null,null,null,null,null,null,null,null,null,null,null,null,null,null,null,null,null," "]
[43,"Аппель Иван Генрихович","Учитель-логопед","Высшее","Свердловский пед.институт Диплом КВ 854005",42,"1 кат протокол заседания Аттестац комиссии ЯНАО  от 27 11.2015 ",5500,1.5,{"$f":"SUM(H59*I59)*AF59","v":8250},0.2,{"$f":"SUM(J59*K59)","v":1650},null,{"$f":"SUM(J59*M59)","v":0},0.4,{"$f":"SUM(J59*O59)","v":3300},null,{"$f":"SUM(J59*Q59)","v":0},null,{"$f":"SUM(J59*S59)","v":0},null,{"$f":"SUM(J59*U59)","v":0},{"$f":"SUM(N59,P59,R59,T59,V59)","v":3300},0.3,{"$f":"SUM(J59*X59)","v":2475},null,{"$f":"SUM(J59*Z59)","v":0},null,{"$f":"SUM(J59*AB59)","v":0},{"$f":"SUM(J59,L59,W59,Y59,AA59,AC59)","v":15675},null,1,null,{"$f":"AD59*0.7","v":10972.5},0.8,{"$f":"AD59*AI59","v":12540},{"$f":"AD59+AH59+AJ59","v":39187.5}]
[44,"Аппель Иван Генрихович","Учитель-логопед","Высшее","Свердловский пед.институт Диплом КВ 854005",42,"1 кат протокол заседания Аттестац комиссии ЯНАО от 27 11.2015 ",5500,1.5,{"$f":"SUM(H60*I60)*AF60","v":4125},0.2,{"$f":"SUM(J60*K60)","v":825},null,{"$f":"SUM(J60*M60)","v":0},0.2,{"$f":"SUM(J60*O60)","v":825},null,{"$f":"SUM(J60*Q60)","v":0},null,{"$f":"SUM(J60*S60)","v":0},null,{"$f":"SUM(J60*U60)","v":0},{"$f":"SUM(N60,P60,R60,T60,V60)","v":825},0.3,{"$f":"SUM(J60*X60)","v":1237.5},null,{"$f":"SUM(J60*Z60)","v":0},null,{"$f":"SUM(J60*AB60)","v":0},{"$f":"SUM(J60,L60,W60,Y60,AA60,AC60)","v":7012.5},null,0.5,null,{"$f":"AD60*0.7","v":4908.75},0.8,{"$f":"AD60*AI60","v":5610},{"$f":"AD60+AH60+AJ60","v":17531.25}]
[45,"Ихсанова Наталья Анатольевна","Учитель-логопед","Высшее","Московский открытый социальный унивеситет ",8.0500000000000007,"1 кат приказ  № 964 от 28.05.2015 ЯЕАО ",5500,1.5,{"$f":"SUM(H61*I61)*AF61","v":8250},0.1,{"$f":"SUM(J61*K61)","v":825},null,{"$f":"SUM(J61*M61)","v":0},0.2,{"$f":"SUM(J61*O61)","v":1650},null,{"$f":"SUM(J61*Q61)","v":0},null,{"$f":"SUM(J61*S61)","v":0},null,{"$f":"SUM(J61*U61)","v":0},{"$f":"SUM(N61,P61,R61,T61,V61)","v":1650},0.3,{"$f":"SUM(J61*X61)","v":2475},null,{"$f":"SUM(J61*Z61)","v":0},null,{"$f":"SUM(J61*AB61)","v":0},13200,null,1,null,{"$f":"AD61*0.7","v":9240},0.8,{"$f":"AD61*AI61","v":10560},{"$f":"AD61+AH61+AJ61","v":33000}]
[46,"Ихсанова Наталья Анатольевна","Учитель-логопед","Высшее","Московский открытый социальный унивеситет ",8.0500000000000007,"1 кат приказ  № 964 от 28.05.2015 ЯНАО ",5500,1.5,{"$f":"SUM(H62*I62)*AF62","v":4125},0.1,{"$f":"SUM(J62*K62)","v":412.5},null,{"$f":"SUM(J62*M62)","v":0},0.2,{"$f":"SUM(J62*O62)","v":825},null,{"$f":"SUM(J62*Q62)","v":0},null,{"$f":"SUM(J62*S62)","v":0},null,{"$f":"SUM(J62*U62)","v":0},{"$f":"SUM(N62,P62,R62,T62,V62)","v":825},0.3,{"$f":"SUM(J62*X62)","v":1237.5},null,{"$f":"SUM(J62*Z62)","v":0},null,{"$f":"SUM(J62*AB62)","v":0},6600,null,0.5,null,{"$f":"AD62*0.7","v":4620},0.8,{"$f":"AD62*AI62","v":5280},{"$f":"AD62+AH62+AJ62","v":16500}]
["п","Итого",null,null,null,null,null,null,null,{"$f":"SUM(J59:J62)","v":24750},null,{"$f":"SUM(L59:L62)","v":3712.5},null,{"$f":"SUM(N59:N62)","v":0},null,6600,null,{"$f":"SUM(R59:R62)","v":0},null,0,null,0,null,null,{"$f":"SUM(Y59:Y62)","v":7425},0,0,0,0,{"$f":"SUM(AD59:AD62)","v":42487.5},0,{"$f":"SUM(AF59:AF62)","v":3},0,{"$f":"SUM(AH59:AH62)","v":29741.25},null,{"$f":"SUM(AJ59:AJ62)","v":33990},{"$f":"SUM(AK59:AK62)","v":106218.75}]
[null,null,null,null,null,null,null,null,null,null,null,null,null,null,null,null,null,null,null,null,null,null,null,null,null,null,null,null,null,null,null,"        "]
["Итого",null,null,null,null,null,null,null,null,{"$f":"J63+J57+J27","v":292325},0,49981.25,0,0,0,16335,0,0,0,0,0,0,0,0,48345,0,0,0,51562.5,458548.75,0,42,0,320984.125,0,378686,1158218.875]
[]
[null,"Заведующий   МБДОУ \"Детский сад  \"Руслан\"",null,null,null,null,null,null,null,null,null,null,null,null,null,null,null,null,null,null,null,null,null,null,null,null,"Б. А. Джемакулова"]
[]
[null,"Ведущий экономист",null,null,null,null,null,null,null,null,null,null,null,null,null,null,null,null,null,null,null,null,null,null,null,null,"В. А. Тычкина"]
[]
[null,"Специалист по кадрам",null,null,null,null,null,null,null,null,null,null,null,null,null,null,null,null,null,null,null,null,null,null,null,null,"Л.И.Утяганова"]

{"sheet":"декретСлуж","index":5,"n_rows":45,"n_cols":29,"rows_kept":45,"cut":false,"hidden":false,"merged":[[31,1,31,6],[35,20,35,21],[25,1,25,6],[26,1,26,6],[30,1,30,6],[11,24,12,24],[11,25,12,25],[11,26,11,27],[11,28,12,28],[14,1,14,4],[11,22,12,22],[11,23,12,23],[15,1,15,4],[11,14,11,15],[11,16,11,17],[11,18,11,19],[11,20,11,21],[11,5,12,5],[11,6,12,6],[11,7,12,7],[11,8,11,9],[11,10,11,11],[11,12,11,13],[5,0,5,28],[6,0,6,28],[7,0,7,28],[8,0,8,28],[9,0,9,28],[11,0,12,0],[11,1,12,1],[11,2,12,2],[11,3,12,3],[11,4,12,4]]}
[null,null,null,null,null,null,null,null,null,null,null,null,null,null,null,null,null,null,null,null,null,null,null,null,null,"УТВЕРЖДЕНО"]
[null,null,null,null,null,null,null,null,null,null,null,null,null,null,null,null,null,null,null,null,null,null,null,null,null,"Приказом  МБДОУ \"Детский сад \" \"Руслан\""]
[null,null,null,null,null,null,null,null,null,null,null,null,null,null,null,null,null,null,null,null,null,null,null,null,null,"№     296 от 09.12.2016             "]
[]
[]
["ТАРИФИКАЦИОННЫЙ СПИСОК"]
["работников профессиональной квалификационной группы должностей служащих"]
["Муниципальное бюджетное дошкольное образовательное учреждение  \" Детский сад \"Руслан\""]
["(наименование образовательного учреждения)"]
["по состоянию на  01.09.2017  года"]
[null,"декрет"]
["№","Фамилия, Имя, Отчество","Должность","Уровень образования","Наименование образовательного учреждения, дата окончания, полученная специальность","Стаж      работы","Квалификационная категория, наличие ученой степени, звания, наград","Базовый оклад","Коэффициент уровня образования",null,"Коэффициент стажа",null,"Коэффициент специфики работы",null,"Коэффициент квалификации",null,"Коэффициент масштаба управления",null,"Коэффициент уровня управления",null,"Коэффициент вакансий",null,"Итого должностной оклад","Количество занимаемых ставок","Итого должностной оклад с нагрузкой","Районный коэффициент","Процентная надбавка за работу в районах Крайнего севера",null,"Всего должностных окладов в месяц"]
[null,null,null,null,null,null,null,null,"К1","сумма","К2","сумма","К 3 - указать наименование основания повышения","сумма","К4","сумма","К5","сумма","К6","сумма","К8","сумма",null,null,null,null,"коэф-т","сумма"]
[]
[null,"ПКГ работников учебно-вспомогательного персонала 2 уровня"]
[null,"1 квалификационный уровень"]
[1,"Аджикурманова Айбат Акмурзаевна","Младший воспитатель","высшее",null,2.9,null,4094,1.3,{"$f":"SUM(H17*I17)*X17","v":5322.2},0.05,{"$f":"SUM(J17*K17)","v":266.11},0,{"$f":"SUM(J17*M17)","v":0},null,{"$f":"SUM(J17*O17)","v":0},null,{"$f":"SUM(J17*Q17)","v":0},null,{"$f":"SUM(J17*S17)","v":0},null,{"$f":"SUM(J17*U17)","v":0},{"$f":"SUM(J17,L17,N17,P17,R17,T17,V17)","v":5588.3099999999995},1,{"$f":"W17","v":5588.3099999999995},{"$f":"SUM(Y17*0.7)","v":3911.8169999999996},0.8,{"$f":"SUM(Y17*AA17)","v":4470.6480000000001},{"$f":"Y17+Z17+AB17","v":13970.774999999998}]
[2,"Джаватханова Диана Надирхановна","Младший воспитатель","средне ",null,5,null,4094,1.3,{"$f":"SUM(H18*I18)*X18","v":5322.2},0.1,{"$f":"SUM(J18*K18)","v":532.22},0,{"$f":"SUM(J18*M18)","v":0},null,{"$f":"SUM(J18*O18)","v":0},null,{"$f":"SUM(J18*Q18)","v":0},null,{"$f":"SUM(J18*S18)","v":0},null,{"$f":"SUM(J18*U18)","v":0},{"$f":"SUM(J18,L18,N18,P18,R18,T18,V18)","v":5854.42},1,{"$f":"W18","v":5854.42},{"$f":"SUM(Y18*0.7)","v":4098.0940000000001},0.8,{"$f":"SUM(Y18*AA18)","v":4683.5360000000001},{"$f":"Y18+Z18+AB18","v":14636.05}]
[3,"Бекболатова Фарида  Тагировна","младший воспитатель","Среднее-профессиональное","Хасаюртский пед колледж диплом ОБСГА № 0000548",2.2999999999999998,null,4094,1.3,{"$f":"SUM(H19*I19)*X19","v":5322.2},0.05,{"$f":"SUM(J19*K19)","v":266.11},0,{"$f":"SUM(J19*M19)","v":0},null,{"$f":"SUM(J19*O19)","v":0},null,{"$f":"SUM(J19*Q19)","v":0},null,{"$f":"SUM(J19*S19)","v":0},null,{"$f":"SUM(J19*U19)","v":0},{"$f":"SUM(J19,L19,N19,P19,R19,T19,V19)","v":5588.3099999999995},1,{"$f":"W19","v":5588.3099999999995},{"$f":"SUM(Y19*0.7)","v":3911.8169999999996},0.8,{"$f":"SUM(Y19*AA19)","v":4470.6480000000001},{"$f":"Y19+Z19+AB19","v":13970.774999999998}]
[4,"Заиц Мария Григорьевна","Младший воспитатель","среднепрофессиональное","проффессиональное училище МССР Диплом Б 268525 от 27.06.88",2.1,null,4094,1.3,{"$f":"SUM(H20*I20)*X20","v":5322.2},0.05,{"$f":"SUM(J20*K20)","v":266.11},0,{"$f":"SUM(J20*M20)","v":0},null,{"$f":"SUM(J20*O20)","v":0},null,{"$f":"SUM(J20*Q20)","v":0},null,{"$f":"SUM(J20*S20)","v":0},null,{"$f":"SUM(J20*U20)","v":0},{"$f":"SUM(J20,L20,N20,P20,R20,T20,V20)","v":5588.3099999999995},1,{"$f":"W20","v":5588.3099999999995},{"$f":"SUM(Y20*0.7)","v":3911.8169999999996},0.8,{"$f":"SUM(Y20*AA20)","v":4470.6480000000001},{"$f":"Y20+Z20+AB20","v":13970.774999999998}]
[5,"Мухтарова Зарема Нуровна","Младший воспитатель","среднепрофессиональное","Дагестанский пед колледж Диплом АК 1225555 от 17.06.2005",4,null,4094,1.3,5322.2,0.1,{"$f":"SUM(J21*K21)","v":532.22},0,{"$f":"SUM(J21*M21)","v":0},null,{"$f":"SUM(J21*O21)","v":0},null,{"$f":"SUM(J21*Q21)","v":0},null,{"$f":"SUM(J21*S21)","v":0},null,{"$f":"SUM(J21*U21)","v":0},{"$f":"SUM(J21,L21,N21,P21,R21,T21,V21)","v":5854.42},1,{"$f":"W21","v":5854.42},4098.0940000000001,0.8,4683.5360000000001,{"$f":"Y21+Z21+AB21","v":14636.05}]
[6,"Тулпарханова Лариса Жумадиновна","Младший воспитатель","сренее",null,3,null,4094,1.1000000000000001,{"$f":"SUM(H22*I22)*X22","v":4503.4000000000005},0.1,{"$f":"SUM(J22*K22)","v":450.34000000000009},0,{"$f":"SUM(J22*M22)","v":0},null,{"$f":"SUM(J22*O22)","v":0},null,{"$f":"SUM(J22*Q22)","v":0},null,{"$f":"SUM(J22*S22)","v":0},null,{"$f":"SUM(J22*U22)","v":0},{"$f":"SUM(J22,L22,N22,P22,R22,T22,V22)","v":4953.7400000000007},1,{"$f":"W22","v":4953.7400000000007},{"$f":"SUM(Y22*0.7)","v":3467.6180000000004},0.8,{"$f":"SUM(Y22*AA22)","v":3962.9920000000006},{"$f":"Y22+Z22+AB22","v":12384.35}]
[7,"Кукоева Светлана Муратовна",2,"Среднее-профессиональное","Карачаево-Черкесский проф колледж Диплом СБ 1711177 от 22.06.03",4,null,4094,1.3,5322.2,0.1,{"$f":"SUM(J23*K23)","v":532.22},0,{"$f":"SUM(J23*M23)","v":0},null,{"$f":"SUM(J23*O23)","v":0},null,{"$f":"SUM(J23*Q23)","v":0},null,{"$f":"SUM(J23*S23)","v":0},null,{"$f":"SUM(J23*U23)","v":0},{"$f":"SUM(J23,L23,N23,P23,R23,T23,V23)","v":5854.42},1,{"$f":"W23","v":5854.42},{"$f":"SUM(Y23*0.7)","v":4098.0940000000001},0.8,{"$f":"SUM(Y23*AA23)","v":4683.5360000000001},{"$f":"Y23+Z23+AB23","v":14636.05}]
[8,"Москвитина Марина Васильевна","вахтер",null,null,null,null,4094,1,4094,{"$f":"SUM(G24*J24)","v":0},{"$f":"SUM(G24,I24,K24)","v":1},1,{"$f":"L24","v":1},null,0,null,{"$f":"N24+O24+Q24","v":1},null,0,null,0,4094,1,4094,{"$f":"SUM(Y24*0.7)","v":2865.7999999999997},0.8,{"$f":"SUM(Y24*AA24)","v":3275.2000000000003},{"$f":"Y24+Z24+AB24","v":10235}]
[null,"ИТОГО",null,null,null,null,null,null,null,{"$f":"SUM(J20:J24)","v":24564},null,{"$f":"SUM(L20:L24)","v":1781.89},1,1,0,0,0,1,0,0,0,0,26344.89,5,26344.89,18441.422999999999,null,{"$f":"SUM(AB20:AB24)","v":21075.912},{"$f":"SUM(AC20:AC24)","v":65862.224999999991}]
[null,"ПКГ работников общеотраслевых должностей служащих 1 уровня                                                  ",null,null,null,null,null,null,null,{"$f":"SUM(J25)","v":24564},null,{"$f":"SUM(L25)","v":1781.89},1,1,0,0,0,1,0,0,0,0,26344.89,5,26344.89,18441.422999999999,null,21075.912,65862.224999999991]
[null,"1 квалификационный уровень"]
[9,"Эгиева Пятимат Ахмедовна","Делопроизводитель","Высшее","Российский государственный социальный университет Диплом ВСГ 2808134 2008 г",2,null,4094,1.3,{"$f":"SUM(H28*I28)*X28","v":5322.2},0.05,{"$f":"SUM(J28*K28)","v":266.11},0,{"$f":"SUM(J28*M28)","v":0},null,{"$f":"SUM(J28*O28)","v":0},null,{"$f":"SUM(J28*Q28)","v":0},null,{"$f":"SUM(J28*S28)","v":0},null,{"$f":"H28*I28*U28*X28","v":0},{"$f":"SUM(J28,L28,N28,P28,R28,T28,V28)","v":5588.3099999999995},1,{"$f":"W28","v":5588.3099999999995},{"$f":"SUM(Y28*0.7)","v":3911.8169999999996},0.8,{"$f":"SUM(Y28*AA28)","v":4470.6480000000001},{"$f":"Y28+Z28+AB28","v":13970.774999999998}]
[10,"Курмангулова Регина Магомедовна","Делопроизводитель","Высшее","КЧР технологическая академияДиплом  ВСГ 1051873 2009",2.5,null,4094,1.3,{"$f":"SUM(H29*I29)*X29","v":5322.2},0.05,{"$f":"SUM(J29*K29)","v":266.11},0,{"$f":"SUM(J29*M29)","v":0},null,{"$f":"SUM(J29*O29)","v":0},null,{"$f":"SUM(J29*Q29)","v":0},null,{"$f":"SUM(J29*S29)","v":0},null,{"$f":"H29*I29*U29*X29","v":0},{"$f":"SUM(J29,L29,N29,P29,R29,T29,V29)","v":5588.3099999999995},1,{"$f":"W29","v":5588.3099999999995},{"$f":"SUM(Y29*0.7)","v":3911.8169999999996},0.8,{"$f":"SUM(Y29*AA29)","v":4470.6480000000001},{"$f":"Y29+Z29+AB29","v":13970.774999999998}]
[null,"Итого",null,null,null,null,null,null,null,{"$f":"SUM(J28:J29)","v":10644.4},0.1,532.22,0,0,0,0,0,0,0,0,0,0,11176.619999999999,2,11176.619999999999,7823.6339999999991,null,{"$f":"SUM(AB28:AB29)","v":8941.2960000000003},{"$f":"SUM(AC28:AC29)","v":27941.549999999996}]
[null,"2 квалификационный уровень"]
[null,"Итого по профессиональной квалификационной  группе \"СЛУЖАЩИЕ\"",null,null,null,null,null,null,null,{"$f":"J26+J30","v":35208.400000000001},0.1,2314.11,1,1,0,0,0,1,0,0,0,0,37521.509999999995,7,37521.509999999995,26265.056999999997,0,30017.207999999999,93803.774999999994]
[]
[null,"Зам зав по АХР    МБДОУ  \"Детский сад \"Руслан\"",null,null,null,null,null,null,null,null,null,null,null,null,null,null,null,null,null,null,"Н. М. Рубаник"]
[]
[null,"Ведущий экономист",null,null,null,null,null,null,null,null,null,null,null,null,null,null,null,null,null,null,"В. А. Тычкина"]
[]
[]
[null,"Специалист по кадрам",null,null,null,null,null,null,null,null,null,null,null,null,null,null,null,null,null,null,"К.А. Булгарова"]
[]
[]
[]
[]
[null,"Исп. ","К. А. Булгарова"]
[null,"тел.","23-13-38"]

{"sheet":"служащие","index":6,"n_rows":113,"n_cols":29,"rows_kept":113,"cut":false,"hidden":false,"merged":[[59,1,59,6],[65,1,65,6],[62,1,62,6],[95,1,95,6],[99,1,99,6],[81,1,81,6],[91,1,91,6],[103,20,103,21],[11,26,11,27],[11,23,12,23],[92,1,92,6],[72,1,72,6],[68,1,68,6],[73,1,73,6],[78,1,78,6],[85,1,85,6],[11,20,11,21],[56,1,56,6],[55,1,55,6],[51,1,51,6],[11,3,12,3],[45,1,45,6],[34,1,34,4],[11,24,12,24],[11,4,12,4],[44,1,44,6],[14,1,14,4],[11,16,11,17],[39,1,39,6],[15,1,15,4],[11,1,12,1],[11,2,12,2],[11,5,12,5],[6,0,6,28],[5,0,5,28],[7,0,7,28],[11,6,12,6],[8,0,8,28],[9,0,9,28],[11,28,12,28],[11,22,12,22],[11,14,11,15],[11,25,12,25],[11,12,11,13],[11,10,11,11],[11,7,12,7],[11,8,11,9],[11,18,11,19],[11,0,12,0]]}
[null,null,null,null,null,null,null,null,null,null,null,null,null,null,null,null,null,null,null,null,null,null,null,null,null,"УТВЕРЖДЕНО"]
[null,null,null,null,null,null,null,null,null,null,null,null,null,null,null,null,null,null,null,null,null,null,null,null,null,"Приказом  МБДОУ \"Детский сад \" \"Руслан\""]
[null,null,null,null,null,null,null,null,null,null,null,null,null,null,null,null,null,null,null,null,null,null,null,null,null,"  №       от                      г      "]
[]
[]
["ТАРИФИКАЦИОННЫЙ СПИСОК"]
["работников профессиональной квалификационной группы должностей служащих"]
["Муниципальное бюджетное дошкольное образовательное учреждение \" Детский сад \"Руслан\""]
["(наименование образовательного учреждения)"]
["по состоянию на  01.09.2017"]
[]
["№","Фамилия, Имя, Отчество","Должность","Уровень образования","Наименование образовательного учреждения, дата окончания, полученная специальность","Стаж      работы","Квалификационная категория, наличие ученой степени, звания, наград","Базовый оклад","Коэффициент уровня образования",null,"Коэффициент стажа",null,"Коэффициент специфики работы",null,"Коэффициент квалификации",null,"Коэффициент масштаба управления",null,"Коэффициент уровня управления",null,"Коэффициент вакансий",null,"Итого должностной оклад","Количество занимаемых ставок","Итого должностной оклад с нагрузкой","Районный коэффициент","Процентная надбавка за работу в районах Крайнего севера",null,"Всего должностных окладов в месяц"]
[null,null,null,null,null,null,null,null,"К1","сумма","К2","сумма","К 3 - указать наименование основания повышения","сумма","К4","сумма","К5","сумма","К6","сумма","К8","сумма",null,null,null,null,"коэф-т","сумма"]
[]
[null,"ПКГ работников учебно-вспомогательного персонала 2 уровня"]
[null,"1 квалификационный уровень"]
[1,"Аллахвердиева                               Гюлара Сабир кызы","Младший воспитатель","Среднее (полное) общее ",null,8.1,null,4094,1.1000000000000001,{"$f":"SUM(H17*I17)*X17","v":6755.1},0.1,{"$f":"SUM(J17*K17)","v":675.5100000000001},0,{"$f":"SUM(J17*M17)","v":0},null,{"$f":"SUM(J17*O17)","v":0},null,{"$f":"SUM(J17*Q17)","v":0},null,{"$f":"SUM(J17*S17)","v":0},null,{"$f":"SUM(J17*U17)","v":0},{"$f":"SUM(J17,L17,N17,P17,R17,T17,V17)","v":7430.6100000000006},1.5,{"$f":"W17","v":7430.6100000000006},{"$f":"SUM(Y17*0.7)","v":5201.4269999999997},0.8,{"$f":"SUM(Y17*AA17)","v":5944.4880000000012},{"$f":"Y17+Z17+AB17","v":18576.525000000001}]
[2,"Арсланбекова Мариям Имуровна","Младший воспитатель","среднее",null,1.9,null,4094,1.1000000000000001,6755.1,0.05,337.75500000000005,0,0,null,0,null,0,null,0,null,0,{"$f":"SUM(J18,L18,N18,P18,R18,T18,V18)","v":7092.8550000000005},1.5,{"$f":"W18","v":7092.8550000000005},4964.9984999999997,0.8,5674.2840000000006,{"$f":"Y18+Z18+AB18","v":17732.137500000001}]
[3,"вакансия","младший воспитатель",null,null,null,null,4094,1.3,null,null,{"$f":"SUM(J19*K19)","v":0},0,{"$f":"SUM(J19*M19)","v":0},null,{"$f":"SUM(J19*O19)","v":0},null,{"$f":"SUM(J19*Q19)","v":0},null,{"$f":"SUM(J19*S19)","v":0},1.25,{"$f":"H19*I19*U19","v":6652.75},{"$f":"SUM(J19,L19,N19,P19,R19,T19,V19)","v":6652.75},1.5,{"$f":"W19","v":6652.75},4656.9249999999993,0.8,5322.2000000000007,{"$f":"Y19+Z19+AB19","v":16631.875}]
[4,"вакансия","младший воспитатель",null,null,null,null,4094,1.3,null,null,{"$f":"SUM(J20*K20)","v":0},0,{"$f":"SUM(J20*M20)","v":0},null,{"$f":"SUM(J20*O20)","v":0},null,{"$f":"SUM(J20*Q20)","v":0},null,{"$f":"SUM(J20*S20)","v":0},1.25,{"$f":"H20*I20*U20","v":6652.75},6652.75,2,{"$f":"W20","v":6652.75},4656.9249999999993,0.8,{"$f":"SUM(Y20*AA20)","v":5322.2000000000007},{"$f":"Y20+Z20+AB20","v":16631.875}]
[5,"Иманмурзаева Лариса Исмамгереевна","младший воспитатель","среднее",null,5.0999999999999996,null,4094,1.1000000000000001,6755.1,0.1,{"$f":"SUM(J21*K21)","v":675.5100000000001},0,{"$f":"SUM(J21*M21)","v":0},null,{"$f":"SUM(J21*O21)","v":0},null,{"$f":"SUM(J21*Q21)","v":0},null,{"$f":"SUM(J21*S21)","v":0},null,{"$f":"SUM(J21*U21)","v":0},{"$f":"SUM(J21,L21,N21,P21,R21,T21,V21)","v":7430.6100000000006},1.5,{"$f":"W21","v":7430.6100000000006},5201.4269999999997,0.8,5944.4880000000012,{"$f":"Y21+Z21+AB21","v":18576.525000000001}]
[6,"Гулиева                                           Сабира Гулу кызы","Младший воспитатель","Среднее (полное) общее ",null,12.5,null,4094,1.1000000000000001,{"$f":"SUM(H22*I22)*X22","v":4503.4000000000005},0.2,900.68000000000018,0,0,null,0,null,0,null,0,null,0,5404.0800000000008,1,5404.0800000000008,3782.8560000000002,0.8,{"$f":"SUM(Y22*AA22)","v":4323.264000000001},13510.200000000003]
[7,"Горват Наталья  Петровна","Младший воспитатель","средне",null,16.899999999999999,null,4094,1.1000000000000001,6755.1,0.2,{"$f":"SUM(J23*K23)","v":1351.0200000000002},0,{"$f":"SUM(J23*M23)","v":0},null,{"$f":"SUM(J23*O23)","v":0},null,{"$f":"SUM(J23*Q23)","v":0},null,{"$f":"SUM(J23*S23)","v":0},null,{"$f":"SUM(J23*U23)","v":0},{"$f":"SUM(J23,L23,N23,P23,R23,T23,V23)","v":8106.1200000000008},1.5,{"$f":"W23","v":8106.1200000000008},5674.2840000000006,0.8,{"$f":"SUM(Y23*AA23)","v":6484.8960000000006},{"$f":"Y23+Z23+AB23","v":20265.300000000003}]
[8,"Гамидова                                         Кенюль Абдулла кызы","Младший воспитатель","Среднее (полное) общее ",null,7.6,null,4094,1.1000000000000001,4503.4000000000005,0.1,450.34000000000009,0.12,540.40800000000002,null,0,null,0,null,0,null,0,5494.148000000001,1,5494.148000000001,3845.9036000000006,0.8,4395.318400000001,13735.370000000003]
[9,"Кульмалиева Лейла Маки гызы","Младший воспитатель","Среднее (полное) общее ",null,3.1,null,4094,1.1000000000000001,6755.1,0.1,675.5100000000001,0.12,810.61199999999997,null,0,null,0,null,0,null,0,8241.2219999999998,1.5,8241.2219999999998,5768.8553999999995,0.8,{"$f":"SUM(Y25*AA25)","v":6592.9776000000002},20603.055]
[10,"Курманалиева Аминат Хайбуллаевна","младший воспитатель","среднее",null,3.9,null,4094,1.1000000000000001,6755.1,1.1000000000000001,7430.6100000000006,0,0,null,0,null,0,null,0,null,0,14185.710000000001,1.5,14185.710000000001,9929.9969999999994,0.8,{"$f":"SUM(Y26*AA26)","v":11348.568000000001},35464.275000000001]
[11,"Мамедова                                            Балыш Али кызы","Младший воспитатель","Среднее",null,15.11,null,4094,1.1000000000000001,6755.1,0.2,1351.0200000000002,0,0,null,0,null,0,null,0,null,0,8106.1200000000008,1.5,8106.1200000000008,5674.2840000000006,0.8,6484.8960000000006,20265.300000000003]
[12,"Мурзаева Шавла Абдулнасуровна","Младший воспитатель","Среднее (полное) общее ",null,8.1,null,4094,1.1000000000000001,6755.1,0.1,{"$f":"SUM(J28*K28)","v":675.5100000000001},0,0,null,{"$f":"SUM(J28*O28)","v":0},null,{"$f":"SUM(J28*Q28)","v":0},null,{"$f":"SUM(J28*S28)","v":0},null,0,{"$f":"SUM(J28,L28,N28,P28,R28,T28,V28)","v":7430.6100000000006},1.5,{"$f":"W28","v":7430.6100000000006},5201.4269999999997,0.8,{"$f":"SUM(Y28*AA28)","v":5944.4880000000012},{"$f":"Y28+Z28+AB28","v":18576.525000000001}]
[13,"Отарбиева Тоита Вахирсолтановна","Младший воспитатель","Среднее",null,4.0999999999999996,null,4094,1.1000000000000001,{"$f":"SUM(H29*I29)*X29","v":6755.1},0.1,{"$f":"SUM(J29*K29)","v":675.5100000000001},0.12,{"$f":"SUM(J29*M29)","v":810.61199999999997},null,{"$f":"SUM(J29*O29)","v":0},null,{"$f":"SUM(J29*Q29)","v":0},null,{"$f":"SUM(J29*S29)","v":0},null,{"$f":"SUM(J29*U29)","v":0},{"$f":"SUM(J29,L29,N29,P29,R29,T29,V29)","v":8241.2219999999998},1.5,{"$f":"W29","v":8241.2219999999998},{"$f":"SUM(Y29*0.7)","v":5768.8553999999995},0.8,{"$f":"SUM(Y29*AA29)","v":6592.9776000000002},{"$f":"Y29+Z29+AB29","v":20603.055}]
[14,"Пашаева Гюльбиниз Музаффар кызы","Младший воспитатель","Среднее (полное) общее ",null,11.5,null,4094,1.1000000000000001,6755.1,0.2,1351.0200000000002,0,0,null,0,null,0,null,0,null,0,8106.1200000000008,1.5,8106.1200000000008,5674.2840000000006,0.8,6484.8960000000006,20265.300000000003]
[15,"Элимханова Зулихан Салмановна","Младший воспитатель","Среднее (полное) общее ",null,6,null,4094,1.1000000000000001,{"$f":"SUM(H31*I31)*X31","v":4503.4000000000005},0.1,{"$f":"SUM(J31*K31)","v":450.34000000000009},0,{"$f":"SUM(J31*M31)","v":0},null,{"$f":"SUM(J31*O31)","v":0},null,{"$f":"SUM(J31*Q31)","v":0},null,{"$f":"SUM(J31*S31)","v":0},null,{"$f":"SUM(J31*U31)","v":0},{"$f":"SUM(J31,L31,N31,P31,R31,T31,V31)","v":4953.7400000000007},1,{"$f":"W31","v":4953.7400000000007},{"$f":"SUM(Y31*0.7)","v":3467.6180000000004},0.8,{"$f":"SUM(Y31*AA31)","v":3962.9920000000006},{"$f":"Y31+Z31+AB31","v":12384.35}]
[16,"Шайдаева Марина Мусиновна","Младший воспитатель","средне специальное ","Дагестанский механический техникум Диплом  СБ № 0904476",5.8,null,4094,1.3,{"$f":"SUM(H32*I32)*X32","v":5322.2},0.1,{"$f":"SUM(J32*K32)","v":532.22},0,{"$f":"SUM(J32*M32)","v":0},null,{"$f":"SUM(J32*O32)","v":0},null,{"$f":"SUM(J32*Q32)","v":0},null,{"$f":"SUM(J32*S32)","v":0},null,{"$f":"SUM(J32*U32)","v":0},{"$f":"SUM(J32,L32,N32,P32,R32,T32,V32)","v":5854.42},1,{"$f":"W32","v":5854.42},4098.0940000000001,0.8,{"$f":"SUM(Y32*AA32)","v":4683.5360000000001},{"$f":"Y32+Z32+AB32","v":14636.05}]
[17,"Халидова Эмина Артуровна","Младший воспитатель","средне",null,0,null,4094,1.1000000000000001,{"$f":"SUM(H33*I33)*X33","v":4503.4000000000005},0.05,{"$f":"SUM(J33*K33)","v":225.17000000000004},0,{"$f":"SUM(J33*M33)","v":0},null,{"$f":"SUM(J33*O33)","v":0},null,{"$f":"SUM(J33*Q33)","v":0},null,{"$f":"SUM(J33*S33)","v":0},null,{"$f":"SUM(J33*U33)","v":0},{"$f":"SUM(J33,L33,N33,P33,R33,T33,V33)","v":4728.5700000000006},1,{"$f":"W33","v":4728.5700000000006},{"$f":"SUM(Y33*0.7)","v":3309.9990000000003},0.8,{"$f":"SUM(Y33*AA33)","v":3782.8560000000007},{"$f":"Y33+Z33+AB33","v":11821.425000000003}]
[null,"Итого",null,null,null,null,null,null,null,{"$f":"SUM(J17:J33)","v":90886.799999999988},null,{"$f":"SUM(L17:L33)","v":17757.725000000002},null,{"$f":"SUM(N17:N33)","v":2161.6320000000001},null,{"$f":"SUM(P17:P33)","v":0},null,{"$f":"SUM(R17:R33)","v":0},{"$f":"SUM(S17:S33)","v":0},{"$f":"SUM(T17:T33)","v":0},null,{"$f":"SUM(V17:V33)","v":13305.5},{"$f":"SUM(W17:W33)","v":124111.65700000001},{"$f":"SUM(X17:X33)","v":23.5},{"$f":"SUM(Y17:Y33)","v":124111.65700000001},{"$f":"SUM(Z17:Z33)","v":86878.159899999984},null,{"$f":"SUM(AB17:AB33)","v":99289.325600000011},{"$f":"SUM(AC17:AC33)","v":310279.14249999996}]
[null,"2 квалификационный уровень"]
[null,null,null,null,null,null,null,null,null,{"$f":"SUM(H36*I36)","v":0},null,{"$f":"SUM(J36*K36)","v":0},null,{"$f":"SUM(J36*M36)","v":0},null,{"$f":"SUM(J36*O36)","v":0},null,{"$f":"SUM(J36*Q36)","v":0},null,{"$f":"SUM(J36*S36)","v":0},null,{"$f":"SUM(J36*U36)","v":0},{"$f":"SUM(J36,L36,N36,P36,R36,T36,V36)","v":0},null,{"$f":"SUM(W36*X36)","v":0},{"$f":"SUM(Y36*0.7)","v":0},0.8,{"$f":"SUM(Y36*AA36)","v":0},{"$f":"ROUND(Y36+Z36+AB36,2)","v":0}]
[null,null,null,null,null,null,null,null,null,{"$f":"SUM(H37*I37)","v":0},null,{"$f":"SUM(J37*K37)","v":0},null,{"$f":"SUM(J37*M37)","v":0},null,{"$f":"SUM(J37*O37)","v":0},null,{"$f":"SUM(J37*Q37)","v":0},null,{"$f":"SUM(J37*S37)","v":0},null,{"$f":"SUM(J37*U37)","v":0},{"$f":"SUM(J37,L37,N37,P37,R37,T37,V37)","v":0},null,{"$f":"SUM(W37*X37)","v":0},{"$f":"SUM(Y37*0.7)","v":0},0.8,{"$f":"SUM(Y37*AA37)","v":0},{"$f":"ROUND(Y37+Z37+AB37,2)","v":0}]
[null,"Итого",null,null,null,null,null,null,null,{"$f":"SUM(J36:J37)","v":0},null,{"$f":"SUM(L36:L37)","v":0},null,{"$f":"SUM(N36:N37)","v":0},null,{"$f":"SUM(P36:P37)","v":0},null,{"$f":"SUM(R36:R37)","v":0},null,{"$f":"SUM(T36:T37)","v":0},null,{"$f":"SUM(V36:V37)","v":0},{"$f":"SUM(W36:W37)","v":0},{"$f":"SUM(X36:X37)","v":0},{"$f":"SUM(Y36:Y37)","v":0},{"$f":"SUM(Z36:Z37)","v":0},null,{"$f":"SUM(AB36:AB37)","v":0},{"$f":"SUM(AC36:AC37)","v":0}]
[]
[null,"ПКГ работников учебно-вспомогательного персонала 1 уровня"]
[]
[null,null,null,null,null,null,null,null,null,null,null,null,null,null,null,{"$f":"SUM(J42*O42)","v":0},null,{"$f":"SUM(J42*Q42)","v":0},null,{"$f":"SUM(J42*S42)","v":0},null,{"$f":"SUM(J42*U42)","v":0},{"$f":"SUM(J42,L42,N42,P42,R42,T42,V42)","v":0},null,{"$f":"SUM(W42*X42)","v":0},{"$f":"SUM(Y42*0.7)","v":0},0.8,{"$f":"SUM(Y42*AA42)","v":0},{"$f":"ROUND(Y42+Z42+AB42,2)","v":0}]
[null,"Итого",null,null,null,null,null,null,null,{"$f":"SUM(J42:J42)","v":0},null,{"$f":"SUM(L42:L42)","v":0},null,{"$f":"SUM(N42:N42)","v":0},null,{"$f":"SUM(P42:P42)","v":0},null,{"$f":"SUM(R42:R42)","v":0},null,{"$f":"SUM(T42:T42)","v":0},null,{"$f":"SUM(V42:V42)","v":0},{"$f":"SUM(W42:W42)","v":0},{"$f":"SUM(X42:X42)","v":0},{"$f":"SUM(Y42:Y42)","v":0},{"$f":"SUM(Z42:Z42)","v":0},null,{"$f":"SUM(AB42:AB42)","v":0},{"$f":"SUM(AC42:AC42)","v":0}]
[]
[null,"ПКГ работников общеотраслевых должностей служащих 1 уровня                                                  "]
[null,"1 квалификационный уровень"]
[]
[18,"Утяганова Ляля Ильгамовна","Специалист по охране труда","Высшее","Башкирский государственный университет диплом № 285 2015 г",1.5,null,4094,1.4,{"$f":"SUM(H48*I48)*X48","v":5731.5999999999995},0.05,{"$f":"SUM(J48*K48)","v":286.58},null,{"$f":"SUM(J48*M48)","v":0},null,{"$f":"SUM(J48*O48)","v":0},null,{"$f":"SUM(J48*Q48)","v":0},null,{"$f":"SUM(J48*S48)","v":0},null,{"$f":"SUM(J48*U48)","v":0},{"$f":"SUM(J48,L48,N48,P48,R48,T48,V48)","v":6018.1799999999994},1,{"$f":"W48","v":6018.1799999999994},{"$f":"SUM(Y48*0.7)","v":4212.7259999999997},0.8,{"$f":"SUM(Y48*AA48)","v":4814.5439999999999},{"$f":"Y48+Z48+AB48","v":15045.449999999999}]
[19,"Утяганова Ляля Ильгамовна","Делопроизводитель (внутр. совместит.)","Высшее","Башкирский государственный университет диплом № 285 2015 г",0.1,null,4094,1.3,{"$f":"SUM(H49*I49)*X49","v":2661.1},0.05,{"$f":"SUM(J49*K49)","v":133.05500000000001},null,{"$f":"SUM(J49*M49)","v":0},null,{"$f":"SUM(J49*O49)","v":0},null,{"$f":"SUM(J49*Q49)","v":0},null,{"$f":"SUM(J49*S49)","v":0},null,{"$f":"SUM(J49*U49)","v":0},{"$f":"SUM(J49,L49,N49,P49,R49,T49,V49)","v":2794.1549999999997},0.5,{"$f":"W49","v":2794.1549999999997},{"$f":"SUM(Y49*0.7)","v":1955.9084999999998},0.8,{"$f":"SUM(Y49*AA49)","v":2235.3240000000001},{"$f":"Y49+Z49+AB49","v":6985.3874999999989}]
[20,"Булгарова                             Крымхан Амирбиевна ","Делопроизводитель (внешний совместитель)","Высшее","г Москва \"Российский новый университет\" диплом ВСВ 1166320 от 26.01.2006",null,null,4094,1.4,{"$f":"SUM(H50*I50)*X50","v":2865.7999999999997},0.05,{"$f":"SUM(J50*K50)","v":143.29},0,{"$f":"SUM(J50*M50)","v":0},null,{"$f":"SUM(J50*O50)","v":0},null,{"$f":"SUM(J50*Q50)","v":0},null,{"$f":"SUM(J50*S50)","v":0},null,{"$f":"H50*I50*U50*X50","v":0},{"$f":"SUM(J50,L50,N50,P50,R50,T50,V50)","v":3009.0899999999997},0.5,{"$f":"W50","v":3009.0899999999997},{"$f":"SUM(Y50*0.7)","v":2106.3629999999998},0.8,{"$f":"SUM(Y50*AA50)","v":2407.2719999999999},{"$f":"Y50+Z50+AB50","v":7522.7249999999995}]
[null,"Итого",null,null,null,null,null,null,null,{"$f":"SUM(J48:J50)","v":11258.499999999998},null,{"$f":"SUM(L48:L50)","v":562.92499999999995},null,{"$f":"SUM(N48:N50)","v":0},null,{"$f":"SUM(P48:P50)","v":0},{"$f":"SUM(Q48:Q50)","v":0},{"$f":"SUM(R48:R50)","v":0},{"$f":"SUM(S48:S50)","v":0},{"$f":"SUM(T48:T50)","v":0},null,{"$f":"SUM(V48:V50)","v":0},{"$f":"SUM(W48:W50)","v":11821.424999999999},{"$f":"SUM(X48:X50)","v":2},{"$f":"SUM(Y48:Y50)","v":11821.424999999999},{"$f":"SUM(Z48:Z50)","v":8274.9974999999995},null,{"$f":"SUM(AB48:AB50)","v":9457.14},{"$f":"SUM(AC48:AC50)","v":29553.562499999996}]
[null,"2 квалификационный уровень"]
[null,null,null,null,null,null,null,null,null,{"$f":"SUM(H53*I53)","v":0},null,{"$f":"SUM(J53*K53)","v":0},null,{"$f":"SUM(J53*M53)","v":0},null,{"$f":"SUM(J53*O53)","v":0},null,{"$f":"SUM(J53*Q53)","v":0},null,{"$f":"SUM(J53*S53)","v":0},null,{"$f":"SUM(J53*U53)","v":0},{"$f":"SUM(J53,L53,N53,P53,R53,T53,V53)","v":0},null,{"$f":"SUM(W53*X53)","v":0},{"$f":"SUM(Y53*0.7)","v":0},0.8,{"$f":"SUM(Y53*AA53)","v":0},{"$f":"ROUND(Y53+Z53+AB53,2)","v":0}]
[null,"Итого",null,null,null,null,null,null,null,{"$f":"SUM(J53:J53)","v":0},null,{"$f":"SUM(L53:L53)","v":0},null,{"$f":"SUM(N53:N53)","v":0},null,{"$f":"SUM(P53:P53)","v":0},null,{"$f":"SUM(R53:R53)","v":0},null,{"$f":"SUM(T53:T53)","v":0},null,{"$f":"SUM(V53:V53)","v":0},{"$f":"SUM(W53:W53)","v":0},{"$f":"SUM(X53:X53)","v":0},{"$f":"SUM(Y53:Y53)","v":0},{"$f":"SUM(Z53:Z53)","v":0},null,{"$f":"SUM(AB53:AB53)","v":0},{"$f":"SUM(AC53:AC53)","v":0}]
[]
[null,"ПКГ работников общеотраслевых должностей служащих 2 уровня                                                  "]
[null,"1 квалификационный уровень"]
[null,null,null,null,null,null,null,null,null,{"$f":"SUM(H58*I58)","v":0},null,{"$f":"SUM(J58*K58)","v":0},null,{"$f":"SUM(J58*M58)","v":0},null,{"$f":"SUM(J58*O58)","v":0},null,{"$f":"SUM(J58*Q58)","v":0},null,{"$f":"SUM(J58*S58)","v":0},null,{"$f":"SUM(J58*U58)","v":0},{"$f":"SUM(J58,L58,N58,P58,R58,T58,V58)","v":0},null,{"$f":"SUM(W58*X58)","v":0},{"$f":"SUM(Y58*0.7)","v":0},0.8,{"$f":"SUM(Y58*AA58)","v":0},{"$f":"ROUND(Y58+Z58+AB58,2)","v":0}]
[null,"Итого",null,null,null,null,null,null,null,{"$f":"SUM(J58:J58)","v":0},null,{"$f":"SUM(L58:L58)","v":0},null,{"$f":"SUM(N58:N58)","v":0},null,{"$f":"SUM(P58:P58)","v":0},null,{"$f":"SUM(R58:R58)","v":0},null,{"$f":"SUM(T58:T58)","v":0},null,{"$f":"SUM(V58:V58)","v":0},{"$f":"SUM(W58:W58)","v":0},{"$f":"SUM(X58:X58)","v":0},{"$f":"SUM(Y58:Y58)","v":0},{"$f":"SUM(Z58:Z58)","v":0},null,{"$f":"SUM(AB58:AB58)","v":0},{"$f":"SUM(AC58:AC58)","v":0}]
[null,"2 квалификационный уровень"]
[null,null,null,null,null,null,null,null,null,{"$f":"SUM(H61*I61)","v":0},null,{"$f":"SUM(J61*K61)","v":0},null,{"$f":"SUM(J61*M61)","v":0},null,{"$f":"SUM(J61*O61)","v":0},null,{"$f":"SUM(J61*Q61)","v":0},null,{"$f":"SUM(J61*S61)","v":0},null,{"$f":"SUM(J61*U61)","v":0},{"$f":"SUM(J61,L61,N61,P61,R61,T61,V61)","v":0},null,{"$f":"SUM(W61*X61)","v":0},{"$f":"SUM(Y61*0.7)","v":0},0.8,{"$f":"SUM(Y61*AA61)","v":0},{"$f":"ROUND(Y61+Z61+AB61,2)","v":0}]
[null,"Итого",null,null,null,null,null,null,null,{"$f":"SUM(J61:J61)","v":0},null,{"$f":"SUM(L61:L61)","v":0},null,{"$f":"SUM(N61:N61)","v":0},null,{"$f":"SUM(P61:P61)","v":0},null,{"$f":"SUM(R61:R61)","v":0},null,{"$f":"SUM(T61:T61)","v":0},null,{"$f":"SUM(V61:V61)","v":0},{"$f":"SUM(W61:W61)","v":0},{"$f":"SUM(X61:X61)","v":0},{"$f":"SUM(Y61:Y61)","v":0},{"$f":"SUM(Z61:Z61)","v":0},null,{"$f":"SUM(AB61:AB61)","v":0},{"$f":"SUM(AC61:AC61)","v":0}]
[null,"3 квалификационный уровень"]
[22,"Дзакураева Людмила Михайловна","Шеф-повар","Среднее-профессиональное","  Нальчинский технологический техникум Роспотребсоюза, диплом  НТ №114869 от 03.03.1989г",25.11,null,4094,1.3,{"$f":"SUM(H64*I64)*X64","v":5322.2},0.2,{"$f":"SUM(J64*K64)","v":1064.44},0,{"$f":"SUM(J64*M64)","v":0},null,{"$f":"SUM(J64*O64)","v":0},0.6,{"$f":"SUM(J64*Q64)","v":3193.3199999999997},0.6,{"$f":"SUM(J64*S64)","v":3193.3199999999997},null,{"$f":"SUM(J64*U64)","v":0},{"$f":"SUM(J64,L64,N64,P64,R64,T64,V64)","v":12773.279999999999},1,{"$f":"W64","v":12773.279999999999},{"$f":"SUM(Y64*0.7)","v":8941.2959999999985},0.8,{"$f":"SUM(Y64*AA64)","v":10218.624},{"$f":"Y64+Z64+AB64","v":31933.199999999997}]
[null,"Итого",null,null,null,null,null,null,null,{"$f":"SUM(J64:J64)","v":5322.2},null,{"$f":"SUM(L64:L64)","v":1064.44},null,{"$f":"SUM(N64:N64)","v":0},null,{"$f":"SUM(P64:P64)","v":0},null,{"$f":"SUM(R64:R64)","v":3193.3199999999997},null,{"$f":"SUM(T64:T64)","v":3193.3199999999997},null,{"$f":"SUM(V64:V64)","v":0},{"$f":"SUM(W64:W64)","v":12773.279999999999},{"$f":"SUM(X64:X64)","v":1},{"$f":"SUM(Y64:Y64)","v":12773.279999999999},{"$f":"SUM(Z64:Z64)","v":8941.2959999999985},null,{"$f":"SUM(AB64:AB64)","v":10218.624},{"$f":"SUM(AC64:AC64)","v":31933.199999999997}]
[null,"4 квалификационный уровень"]
[null,null,null,null,null,null,null,null,null,{"$f":"SUM(H67*I67)","v":0},null,{"$f":"SUM(J67*K67)","v":0},null,{"$f":"SUM(J67*M67)","v":0},null,{"$f":"SUM(J67*O67)","v":0},null,{"$f":"SUM(J67*Q67)","v":0},null,{"$f":"SUM(J67*S67)","v":0},null,{"$f":"SUM(J67*U67)","v":0},{"$f":"SUM(J67,L67,N67,P67,R67,T67,V67)","v":0},null,{"$f":"SUM(W67*X67)","v":0},{"$f":"SUM(Y67*0.7)","v":0},0.8,{"$f":"SUM(Y67*AA67)","v":0},{"$f":"ROUND(Y67+Z67+AB67,2)","v":0}]
[null,"Итого",null,null,null,null,null,null,null,{"$f":"SUM(J67:J67)","v":0},null,{"$f":"SUM(L67:L67)","v":0},null,{"$f":"SUM(N67:N67)","v":0},null,{"$f":"SUM(P67:P67)","v":0},null,{"$f":"SUM(R67:R67)","v":0},null,{"$f":"SUM(T67:T67)","v":0},null,{"$f":"SUM(V67:V67)","v":0},{"$f":"SUM(W67:W67)","v":0},{"$f":"SUM(X67:X67)","v":0},{"$f":"SUM(Y67:Y67)","v":0},{"$f":"SUM(Z67:Z67)","v":0},null,{"$f":"SUM(AB67:AB67)","v":0},{"$f":"SUM(AC67:AC67)","v":0}]
[null,"5 квалификационный уровень"]
[null,null,null,null,null,null,null,null,null,{"$f":"SUM(H70*I70)","v":0},null,{"$f":"SUM(J70*K70)","v":0},null,{"$f":"SUM(J70*M70)","v":0},null,{"$f":"SUM(J70*O70)","v":0},null,{"$f":"SUM(J70*Q70)","v":0},null,{"$f":"SUM(J70*S70)","v":0},null,{"$f":"SUM(J70*U70)","v":0},{"$f":"SUM(J70,L70,N70,P70,R70,T70,V70)","v":0},null,{"$f":"SUM(W70*X70)","v":0},{"$f":"SUM(Y70*0.7)","v":0},0.8,{"$f":"SUM(Y70*AA70)","v":0},{"$f":"ROUND(Y70+Z70+AB70,2)","v":0}]
[null,"Итого",null,null,null,null,null,null,null,{"$f":"SUM(J70:J70)","v":0},null,{"$f":"SUM(L70:L70)","v":0},null,{"$f":"SUM(N70:N70)","v":0},null,{"$f":"SUM(P70:P70)","v":0},null,{"$f":"SUM(R70:R70)","v":0},null,{"$f":"SUM(T70:T70)","v":0},null,{"$f":"SUM(V70:V70)","v":0},{"$f":"SUM(W70:W70)","v":0},{"$f":"SUM(X70:X70)","v":0},{"$f":"SUM(Y70:Y70)","v":0},{"$f":"SUM(Z70:Z70)","v":0},null,{"$f":"SUM(AB70:AB70)","v":0},{"$f":"SUM(AC70:AC70)","v":0}]
[]
[null,"ПКГ работников общеотраслевых должностей служащих 3 уровня                                                  "]
[null,"1 квалификационный уровень"]
[23,"Утяганова Ляля Ильгамовна","Специалист по кадрам (совмещение)","Высшее","Башкирский государственный университете диплом № 285 2015 г",0,null,4094,1.5,{"$f":"SUM(H75*I75)*X75","v":3070.5},0.05,{"$f":"SUM(J75*K75)","v":153.52500000000001},null,{"$f":"SUM(J75*M75)","v":0},null,{"$f":"SUM(J75*O75)","v":0},null,{"$f":"SUM(J75*Q75)","v":0},null,{"$f":"SUM(J75*S75)","v":0},null,{"$f":"SUM(J75*U75)","v":0},{"$f":"SUM(J75,L75,N75,P75,R75,T75,V75)","v":3224.0250000000001},0.5,{"$f":"W75","v":3224.0250000000001},{"$f":"SUM(Y75*0.7)","v":2256.8175000000001},0.8,{"$f":"SUM(Y75*AA75)","v":2579.2200000000003},{"$f":"Y75+Z75+AB75","v":8060.0625000000009}]
[24,"вакансия","Специалист по кадрам ",null,null,null,null,4094,1.5,null,null,{"$f":"SUM(J76*K76)","v":0},null,{"$f":"SUM(J76*M76)","v":0},null,{"$f":"SUM(J76*O76)","v":0},null,{"$f":"SUM(J76*Q76)","v":0},null,{"$f":"SUM(J76*S76)","v":0},1.25,{"$f":"H76*I76*U76","v":7676.25},{"$f":"SUM(J76,L76,N76,P76,R76,T76,V76)","v":7676.25},0.5,{"$f":"W76","v":7676.25},{"$f":"SUM(Y76*0.7)","v":5373.375},1.8,{"$f":"SUM(Y76*AA76)","v":13817.25},{"$f":"Y76+Z76+AB76","v":26866.875}]
[25,"Даховник Екатерина Васильевна","экономист (внешний совместит)","средне- профессиальное",null,10.8,null,4094,1.5,{"$f":"SUM(H77*I77)*X77","v":1535.25},0.2,{"$f":"SUM(J77*K77)","v":307.05},null,{"$f":"SUM(J77*M77)","v":0},null,{"$f":"SUM(J77*O77)","v":0},null,{"$f":"SUM(J77*Q77)","v":0},null,{"$f":"SUM(J77*S77)","v":0},null,{"$f":"SUM(J77*U77)","v":0},{"$f":"SUM(J77,L77,N77,P77,R77,T77,V77)","v":1842.3},0.25,{"$f":"W77","v":1842.3},{"$f":"SUM(Y77*0.7)","v":1289.6099999999999},0.8,{"$f":"SUM(Y77*AA77)","v":1473.8400000000001},{"$f":"ROUND(Y77+Z77+AB77,2)","v":4605.75}]
[null,"Итого",null,null,null,null,null,null,null,{"$f":"SUM(J75:J77)","v":4605.75},null,{"$f":"SUM(L75:L77)","v":460.57500000000005},null,{"$f":"SUM(N75:N77)","v":0},null,{"$f":"SUM(P75:P77)","v":0},null,{"$f":"SUM(R75:R77)","v":0},null,{"$f":"SUM(T75:T77)","v":0},null,{"$f":"SUM(V75:V77)","v":7676.25},{"$f":"SUM(W75:W77)","v":12742.574999999999},{"$f":"SUM(X75:X77)","v":1.25},{"$f":"SUM(Y75:Y77)","v":12742.574999999999},{"$f":"SUM(Z75:Z77)","v":8919.8024999999998},null,{"$f":"SUM(AB75:AB77)","v":17870.310000000001},{"$f":"SUM(AC75:AC77)","v":39532.6875}]
[null,"2 квалификационный уровень"]
[null,null,null,null,null,null,null,null,null,{"$f":"SUM(H80*I80)","v":0},null,{"$f":"SUM(J80*K80)","v":0},null,{"$f":"SUM(J80*M80)","v":0},null,{"$f":"SUM(J80*O80)","v":0},null,{"$f":"SUM(J80*Q80)","v":0},null,{"$f":"SUM(J80*S80)","v":0},null,{"$f":"SUM(J80*U80)","v":0},{"$f":"SUM(J80,L80,N80,P80,R80,T80,V80)","v":0},null,{"$f":"SUM(W80*X80)","v":0},{"$f":"SUM(Y80*0.7)","v":0},0.8,{"$f":"SUM(Y80*AA80)","v":0},{"$f":"ROUND(Y80+Z80+AB80,2)","v":0}]
[null,"Итого",null,null,null,null,null,null,null,{"$f":"SUM(J80:J80)","v":0},null,{"$f":"SUM(L80:L80)","v":0},null,{"$f":"SUM(N80:N80)","v":0},null,{"$f":"SUM(P80:P80)","v":0},null,{"$f":"SUM(R80:R80)","v":0},null,{"$f":"SUM(T80:T80)","v":0},null,{"$f":"SUM(V80:V80)","v":0},{"$f":"SUM(W80:W80)","v":0},{"$f":"SUM(X80:X80)","v":0},{"$f":"SUM(Y80:Y80)","v":0},{"$f":"SUM(Z80:Z80)","v":0},null,{"$f":"SUM(AB80:AB80)","v":0},{"$f":"SUM(AC80:AC80)","v":0}]
[null,"3 квалификационный уровень"]
[26,"Зубарев Максим Геннадьевич","инженер (внешний совместитель)","высшее",null,1,null,4094,1.5,{"$f":"SUM(H83*I83)*X83","v":3070.5},0.05,{"$f":"SUM(J83*K83)","v":153.52500000000001},null,{"$f":"SUM(J83*M83)","v":0},null,{"$f":"SUM(J83*O83)","v":0},null,{"$f":"SUM(J83*Q83)","v":0},null,{"$f":"SUM(J83*S83)","v":0},null,{"$f":"SUM(J83*U83)","v":0},{"$f":"SUM(J83,L83,N83,P83,R83,T83,V83)","v":3224.0250000000001},0.5,{"$f":"W83","v":3224.0250000000001},{"$f":"SUM(Y83*0.7)","v":2256.8175000000001},0.8,{"$f":"SUM(Y83*AA83)","v":2579.2200000000003},{"$f":"ROUND(Y83+Z83+AB83,2)","v":8060.06}]
[null,null,null,null,null,null,null,null,null,{"$f":"SUM(H84*I84)","v":0},null,{"$f":"SUM(J84*K84)","v":0},null,{"$f":"SUM(J84*M84)","v":0},null,{"$f":"SUM(J84*O84)","v":0},null,{"$f":"SUM(J84*Q84)","v":0},null,{"$f":"SUM(J84*S84)","v":0},null,{"$f":"SUM(J84*U84)","v":0},{"$f":"SUM(J84,L84,N84,P84,R84,T84,V84)","v":0},null,{"$f":"SUM(W84*X84)","v":0},{"$f":"SUM(Y84*0.7)","v":0},0.8,{"$f":"SUM(Y84*AA84)","v":0},{"$f":"ROUND(Y84+Z84+AB84,2)","v":0}]
[null,"Итого",null,null,null,null,null,null,null,{"$f":"SUM(J83:J84)","v":3070.5},null,{"$f":"SUM(L83:L84)","v":153.52500000000001},null,{"$f":"SUM(N83:N84)","v":0},null,{"$f":"SUM(P83:P84)","v":0},null,{"$f":"SUM(R83:R84)","v":0},null,{"$f":"SUM(T83:T84)","v":0},null,{"$f":"SUM(V83:V84)","v":0},{"$f":"SUM(W83:W84)","v":3224.0250000000001},{"$f":"SUM(X83:X84)","v":0.5},{"$f":"SUM(Y83:Y84)","v":3224.0250000000001},{"$f":"SUM(Z83:Z84)","v":2256.8175000000001},null,{"$f":"SUM(AB83:AB84)","v":2579.2200000000003},{"$f":"SUM(AC83:AC84)","v":8060.06}]
[null,"4 квалификационный уровень"]
[null,null,null,null,null,null,null,null,null,{"$f":"SUM(H87*I87)","v":0},null,{"$f":"SUM(J87*K87)","v":0},null,{"$f":"SUM(J87*M87)","v":0},null,{"$f":"SUM(J87*O87)","v":0},null,{"$f":"SUM(J87*Q87)","v":0},null,{"$f":"SUM(J87*S87)","v":0},null,{"$f":"SUM(J87*U87)","v":0},{"$f":"SUM(J87,L87,N87,P87,R87,T87,V87)","v":0},null,{"$f":"SUM(W87*X87)","v":0},{"$f":"SUM(Y87*0.7)","v":0},0.8,{"$f":"SUM(Y87*AA87)","v":0},{"$f":"ROUND(Y87+Z87+AB87,2)","v":0}]
[null,"Итого",null,null,null,null,null,null,null,{"$f":"SUM(J87:J87)","v":0},null,{"$f":"SUM(L87:L87)","v":0},null,{"$f":"SUM(N87:N87)","v":0},null,{"$f":"SUM(P87:P87)","v":0},null,{"$f":"SUM(R87:R87)","v":0},null,{"$f":"SUM(T87:T87)","v":0},null,{"$f":"SUM(V87:V87)","v":0},{"$f":"SUM(W87:W87)","v":0},{"$f":"SUM(X87:X87)","v":0},{"$f":"SUM(Y87:Y87)","v":0},{"$f":"SUM(Z87:Z87)","v":0},null,{"$f":"SUM(AB87:AB87)","v":0},{"$f":"SUM(AC87:AC87)","v":0}]
[null,"5 квалификационный уровень"]
[null,null,null,null,null,null,null,null,null,{"$f":"SUM(H90*I90)","v":0},null,{"$f":"SUM(J90*K90)","v":0},null,{"$f":"SUM(J90*M90)","v":0},null,{"$f":"SUM(J90*O90)","v":0},null,{"$f":"SUM(J90*Q90)","v":0},null,{"$f":"SUM(J90*S90)","v":0},null,{"$f":"SUM(J90*U90)","v":0},{"$f":"SUM(J90,L90,N90,P90,R90,T90,V90)","v":0},null,{"$f":"SUM(W90*X90)","v":0},{"$f":"SUM(Y90*0.7)","v":0},0.8,{"$f":"SUM(Y90*AA90)","v":0},{"$f":"ROUND(Y90+Z90+AB90,2)","v":0}]
[null,"Итого",null,null,null,null,null,null,null,{"$f":"SUM(J90:J90)","v":0},null,{"$f":"SUM(L90:L90)","v":0},null,{"$f":"SUM(N90:N90)","v":0},null,{"$f":"SUM(P90:P90)","v":0},null,{"$f":"SUM(R90:R90)","v":0},null,{"$f":"SUM(T90:T90)","v":0},null,{"$f":"SUM(V90:V90)","v":0},{"$f":"SUM(W90:W90)","v":0},{"$f":"SUM(X90:X90)","v":0},{"$f":"SUM(Y90:Y90)","v":0},{"$f":"SUM(Z90:Z90)","v":0},null,{"$f":"SUM(AB90:AB90)","v":0},{"$f":"SUM(AC90:AC90)","v":0}]
[null,"ПКГ работников общеотраслевых должностей служащих 4 уровня                                                  "]
[null,"1 квалификационный уровень"]
[null,null,null,null,null,null,null,null,null,{"$f":"SUM(H94*I94)","v":0},null,{"$f":"SUM(J94*K94)","v":0},null,{"$f":"SUM(J94*M94)","v":0},null,{"$f":"SUM(J94*O94)","v":0},null,{"$f":"SUM(J94*Q94)","v":0},null,{"$f":"SUM(J94*S94)","v":0},null,{"$f":"SUM(J94*U94)","v":0},{"$f":"SUM(J94,L94,N94,P94,R94,T94,V94)","v":0},null,{"$f":"SUM(W94*X94)","v":0},{"$f":"SUM(Y94*0.7)","v":0},0.8,{"$f":"SUM(Y94*AA94)","v":0},{"$f":"ROUND(Y94+Z94+AB94,2)","v":0}]
[null,"Итого",null,null,null,null,null,null,null,{"$f":"SUM(J94:J94)","v":0},null,{"$f":"SUM(L94:L94)","v":0},null,{"$f":"SUM(N94:N94)","v":0},null,{"$f":"SUM(P94:P94)","v":0},null,{"$f":"SUM(R94:R94)","v":0},null,{"$f":"SUM(T94:T94)","v":0},null,{"$f":"SUM(V94:V94)","v":0},{"$f":"SUM(W94:W94)","v":0},{"$f":"SUM(X94:X94)","v":0},{"$f":"SUM(Y94:Y94)","v":0},{"$f":"SUM(Z94:Z94)","v":0},null,{"$f":"SUM(AB94:AB94)","v":0},{"$f":"SUM(AC94:AC94)","v":0}]
[null,"2 квалификационный уровень"]
[null,null,null,null,null,null,null,null,null,{"$f":"SUM(H97*I97)","v":0},null,{"$f":"SUM(J97*K97)","v":0},null,{"$f":"SUM(J97*M97)","v":0},null,{"$f":"SUM(J97*O97)","v":0},null,{"$f":"SUM(J97*Q97)","v":0},null,{"$f":"SUM(J97*S97)","v":0},null,{"$f":"SUM(J97*U97)","v":0},{"$f":"SUM(J97,L97,N97,P97,R97,T97,V97)","v":0},null,{"$f":"SUM(W97*X97)","v":0},{"$f":"SUM(Y97*0.7)","v":0},0.8,{"$f":"SUM(Y97*AA97)","v":0},{"$f":"ROUND(Y97+Z97+AB97,2)","v":0}]
[null,"Итого",null,null,null,null,null,null,null,{"$f":"SUM(J97:J97)","v":0},null,{"$f":"SUM(L97:L97)","v":0},null,{"$f":"SUM(N97:N97)","v":0},null,{"$f":"SUM(P97:P97)","v":0},null,{"$f":"SUM(R97:R97)","v":0},null,{"$f":"SUM(T97:T97)","v":0},null,{"$f":"SUM(V97:V97)","v":0},{"$f":"SUM(W97:W97)","v":0},{"$f":"SUM(X97:X97)","v":0},{"$f":"SUM(Y97:Y97)","v":0},{"$f":"SUM(Z97:Z97)","v":0},null,{"$f":"SUM(AB97:AB97)","v":0},{"$f":"SUM(AC97:AC97)","v":0}]
[]
[null,"Итого по профессиональной квалификационной  группе \"СЛУЖАЩИЕ\"",null,null,null,null,null,null,null,{"$f":"SUM(J34,J38,J43,J51,J54,J59,J62,J65,J68,J71,J78,J81,J85,J88,J91,J95,J98)","v":115143.74999999999},null,{"$f":"SUM(L34,L38,L43,L51,L54,L59,L62,L65,L68,L71,L78,L81,L85,L88,L91,L95,L98)","v":19999.190000000002},null,{"$f":"SUM(N34,N38,N43,N51,N54,N59,N62,N65,N68,N71,N78,N81,N85,N88,N91,N95,N98)","v":2161.6320000000001},null,{"$f":"SUM(P34,P38,P43,P51,P54,P59,P62,P65,P68,P71,P78,P81,P85,P88,P91,P95,P98)","v":0},null,{"$f":"SUM(R34,R38,R43,R51,R54,R59,R62,R65,R68,R71,R78,R81,R85,R88,R91,R95,R98)","v":3193.3199999999997},null,{"$f":"SUM(T34,T38,T43,T51,T54,T59,T62,T65,T68,T71,T78,T81,T85,T88,T91,T95,T98)","v":3193.3199999999997},null,{"$f":"SUM(V34,V38,V43,V51,V54,V59,V62,V65,V68,V71,V78,V81,V85,V88,V91,V95,V98)","v":20981.75},{"$f":"SUM(W34,W38,W43,W51,W54,W59,W62,W65,W68,W71,W78,W81,W85,W88,W91,W95,W98)","v":164672.962},{"$f":"SUM(X34,X38,X43,X51,X54,X59,X62,X65,X68,X71,X78,X81,X85,X88,X91,X95,X98)","v":28.25},{"$f":"SUM(Y34,Y38,Y43,Y51,Y54,Y59,Y62,Y65,Y68,Y71,Y78,Y81,Y85,Y88,Y91,Y95,Y98)","v":164672.962},{"$f":"SUM(Z34,Z38,Z43,Z51,Z54,Z59,Z62,Z65,Z68,Z71,Z78,Z81,Z85,Z88,Z91,Z95,Z98)","v":115271.07339999999},null,{"$f":"SUM(AB34,AB38,AB43,AB51,AB54,AB59,AB62,AB65,AB68,AB71,AB78,AB81,AB85,AB88,AB91,AB95,AB98)","v":139414.61960000001},{"$f":"SUM(AC34,AC38,AC43,AC51,AC54,AC59,AC62,AC65,AC68,AC71,AC78,AC81,AC85,AC88,AC91,AC95,AC98)","v":419358.65249999997}]
[]
[null,"Заведующий",null,null,null,null,null,null,null,null,null,null,null,null,null,null,null,null,null,null,"Б.А.Джемакулова"]
[]
[null,"Ведущий экономист",null,null,null,null,null,null,null,null,null,null,null,null,null,null,null,null,null,null,"В. А. Тычкина"]
[]
[]
[null,"Специалист по кадрам",null,null,null,null,null,null,null,null,null,null,null,null,null,null,null,null,null,null,"Л.И","Утяганова"]
[]
[]
[]
[]
[null,"Исп. ","К. А. Булгарова"]
[null,"тел.","23-13-38"]

{"sheet":"Мед. персонал","index":7,"n_rows":31,"n_cols":29,"rows_kept":31,"cut":false,"hidden":false,"merged":[[24,11,24,17],[13,1,13,4],[11,3,12,3],[11,12,11,13],[11,4,12,4],[14,1,14,6],[21,11,21,17],[17,1,17,6],[11,2,12,2],[11,5,12,5],[21,20,21,21],[11,20,11,21],[11,18,11,19],[11,10,11,11],[11,14,11,15],[19,11,19,17],[11,16,11,17],[11,28,12,28],[11,0,12,0],[5,0,5,28],[6,0,6,28],[7,0,7,28],[8,0,8,28],[9,0,9,28],[11,26,11,27],[11,7,12,7],[11,24,12,24],[11,1,12,1],[11,6,12,6],[11,23,12,23],[11,25,12,25],[11,22,12,22],[11,8,11,9]]}
[null,null,null,null,null,null,null,null,null,null,null,null,null,null,null,null,null,null,null,null,null,null,null,null,null,"УТВЕРЖДЕНО"]
[null,null,null,null,null,null,null,null,null,null,null,null,null,null,null,null,null,null,null,null,null,null,null,null,null,"Приказом  МБДОУ \"Детский сад \"\"Руслан\""]
[null,null,null,null,null,null,null,null,null,null,null,null,null,null,null,null,null,null,null,null,null,null,null,null,null,"№ 296 от 09.12.2016"]
[]
[]
["ТАРИФИКАЦИОННЫЙ СПИСОК"]
["ДОЛЖНОСТЕЙ МЕДИЦИНСКИХ И ФАРМАЦЕВТИЧЕСКИХ РАБОТНИКОВ"]
["Муниципальное бюджетное дошкольное образовательное учреждение \"Детский сад  \"Руслан\""]
["(наименование образовательного учреждения)"]
["по состоянию на  01.01.2017года"]
[]
["№","Фамилия, Имя, Отчество","Должность","Уровень образования","Наименование образовательного учреждения, дата окончания, полученная специальность","Стаж      работы","Квалификационная категория, наличие ученой степени, звания, наград","Базовый оклад","Коэффициент уровня образования",null,"Коэффициент стажа",null,"Коэффициент специфики работы",null,"Коэффициент квалификации",null,"Коэффициент масштаба управления",null,"Коэффициент уровня управления",null,"Коэффициент вакансий",null,"Итого должностной оклад","Количество занимаемых ставок","Итого должностной оклад с нагрузкой","Районный коэффициент","Процентная надбавка за работу в районах Крайнего севера",null,"Всего должностных окладов в месяц"]
[null,null,null,null,null,null,null,null,"К1","сумма","К2","сумма","К 3 - указать наименование основания повышения","сумма","К4","сумма","К5","сумма","К6","сумма","К8","сумма",null,null,null,null,"коэф-т","сумма"]
[null,"ПКГ работников среднего медицинского и фармацевтического персонала"]
[null,"2 квалификационный уровень"]
[1,"Ханмурзаева Анжела Казбековна","Медицинская сестра диетическая","Астраханский медйцинский колледж",null,15.4,null,4094,1.3,{"$f":"SUM(H16*I16)*X16","v":2661.1},0.2,{"$f":"SUM(J16*K16)","v":532.22},null,{"$f":"SUM(H16*M16)","v":0},null,{"$f":"SUM(J16*O16)","v":0},null,{"$f":"SUM(J16*Q16)","v":0},null,{"$f":"SUM(J16*S16)","v":0},null,{"$f":"H16*I16*U16*X16","v":0},{"$f":"J16+L16+N16+P16+R16+T16+V16","v":3193.3199999999997},0.5,{"$f":"W16","v":3193.3199999999997},{"$f":"SUM(Y16*0.7)","v":2235.3239999999996},0.8,{"$f":"SUM(Y16*AA16)","v":2554.6559999999999},{"$f":"Y16+Z16+AB16","v":7983.2999999999993}]
[2,"Суюнова Фариза Магомедовна","Медицинская сестра диетическая",null,null,null,null,4094,1.3,{"$f":"SUM(H17*I17)*X17","v":2661.1},0.2,{"$f":"SUM(J17*K17)","v":532.22},null,null,null,null,null,null,null,null,null,null,{"$f":"J17+L17+N17+P17+R17+T17+V17","v":3193.3199999999997},0.5,{"$f":"W17","v":3193.3199999999997},{"$f":"SUM(Y17*0.7)","v":2235.3239999999996},0.8,{"$f":"SUM(Y17*AA17)","v":2554.6559999999999},{"$f":"Y17+Z17+AB17","v":7983.2999999999993}]
[null,null,null,null,null,null,null,null,null,{"$f":"SUM(J16:J17)","v":5322.2},null,{"$f":"SUM(L16:L17)","v":1064.44},{"$f":"M16","v":0},0,0,0,0,0,0,0,null,0,{"$f":"SUM(W16:W17)","v":6386.6399999999994},{"$f":"SUM(X16:X17)","v":1},{"$f":"SUM(Y16:Y17)","v":6386.6399999999994},{"$f":"SUM(Z16:Z17)","v":4470.6479999999992},null,{"$f":"SUM(AB16:AB17)","v":5109.3119999999999},{"$f":"SUM(AC16:AC17)","v":15966.599999999999}]
[]
[null,"Заведующий  МБДОУ  \" Детский сад  \"Руслан\"",null,null,null,null,null,null,null,null,null,"Б.А.Джемакулова"]
[]
[null,"Ведущий экономист",null,null,null,null,null,null,null,null,null,"В. А. Тычкина"]
[]
[]
[null,"Специалист по кадрам",null,null,null,null,null,null,null,null,null,"Л.И.Утяганова"]
[]
[]
[]
[]
[null,"Исп. ","Л.И.Утяганова"]
[null,"тел.","23-13-38"]

{"sheet":"декретРаб","index":8,"n_rows":30,"n_cols":18,"rows_kept":30,"cut":false,"hidden":false,"merged":[[10,14,11,14],[10,15,10,16],[10,17,11,17],[12,1,12,3],[10,5,10,6],[10,7,10,8],[10,9,10,10],[10,11,11,11],[10,12,11,12],[10,13,11,13],[4,0,4,17],[5,0,5,17],[6,0,6,17],[7,0,7,17],[8,0,8,17],[10,0,11,0],[10,1,11,1],[10,2,11,2],[10,3,11,3],[10,4,11,4]]}
[null,null,null,null,null,null,null,null,null,null,null,null,null,null,"УТВЕРЖДЕНО"]
[null,null,null,null,null,null,null,null,null,null,null,null,null,null,"Приказом  МБДОУ \"Детский сад\" \"Руслан\""]
[null,null,null,null,null,null,null,null,null,null,null,null,null,null,"№        от 0"]
[]
["ТАРИФИКАЦИОННЫЙ СПИСОК"]
["работников профессиональной квалификационной группы профессий рабочих"]
["Муниципальное бюджетное дошкольное образовательное учреждение\" Детский сад\" \"Руслан\""]
["(наименование образовательного учреждения)"]
["по состоянию на 01.09 2017 года"]
[null,"декрет"]
["№","Фамилия, Имя, Отчество","Должность","Разряд по тарифной сетке","Базовый оклад","Тарифный коэффициент (коэффициент разряда)",null,"Коэффициент специфики работы",null,"Коэффициент вакансий",null,"Итого должностной оклад","Количество занимаемых ставок","Итого должностной оклад с нагрузкой","Районный коэффициент","Процентная надбавка за работу в районах Крайнего севера",null,"Всего должностных окладов в месяц"]
[null,null,null,null,null,"Кр","сумма","К 3 - указать наименование основания повышения","сумма","К8","сумма",null,null,null,null,"коэф-т","сумма"]
[null,"ПКГ работников общеотраслевых профессий 1 уровня                                                  "]
[null,"1 квалификационный уровень"]
[1,"Болтукаева Залимат Ибрагимовна","кух.рабочий",1,4094,1,{"$f":"SUM(E15*F15)*M15","v":4094},0,{"$f":"SUM(G15*H15)","v":0},null,{"$f":"SUM(G15*J15)","v":0},{"$f":"SUM(G15,I15,K15)","v":4094},1,{"$f":"L15","v":4094},{"$f":"SUM(N15*0.7)","v":2865.7999999999997},0.8,{"$f":"SUM(N15*P15)","v":3275.2000000000003},{"$f":"N15+O15+Q15","v":10235}]
[2,"Джаватханова Диана Надирхановна","Уборщик бассейна (внутр.совместитель)",1,4094,1,{"$f":"SUM(E16*F16)*M16","v":2047},0,{"$f":"SUM(G16*H16)","v":0},null,{"$f":"SUM(G16*J16)","v":0},{"$f":"SUM(G16,I16,K16)","v":2047},0.5,{"$f":"L16","v":2047},{"$f":"SUM(N16*0.7)","v":1432.8999999999999},0.8,{"$f":"SUM(N16*P16)","v":1637.6000000000001},{"$f":"N16+O16+Q16","v":5117.5}]
[3,"Закавова Джанет Бамматовна","кух.рабочий",2,4094,1,{"$f":"SUM(E17*F17)*M17","v":4094},0,{"$f":"SUM(G17*H17)","v":0},null,{"$f":"SUM(G17*J17)","v":0},{"$f":"SUM(G17,I17,K17)","v":4094},1,{"$f":"L17","v":4094},{"$f":"SUM(N17*0.7)","v":2865.7999999999997},0.8,{"$f":"SUM(N17*P17)","v":3275.2000000000003},{"$f":"N17+O17+Q17","v":10235}]
[4,"Саламова Хидайт  Саитхусейновнавна","кух.рабочий",1,4094,1,{"$f":"SUM(E18*F18)*M18","v":4094},0,{"$f":"SUM(G18*H18)","v":0},null,{"$f":"SUM(G18*J18)","v":0},{"$f":"SUM(G18,I18,K18)","v":4094},1,{"$f":"L18","v":4094},{"$f":"SUM(N18*0.7)","v":2865.7999999999997},0.8,{"$f":"SUM(N18*P18)","v":3275.2000000000003},{"$f":"N18+O18+Q18","v":10235}]
[5,"Найманова Фатима Якубовна","вахтер",2,4094,1,4094,0,0,null,0,4094,1,4094,{"$f":"SUM(N19*0.7)","v":2865.7999999999997},0.8,3275.2000000000003,10235]
[6,"Островская                                    Елена Александровна","Сторож",1,4094,1,{"$f":"SUM(E20*F20)*M20","v":4094},0,{"$f":"SUM(G20*H20)","v":0},null,{"$f":"SUM(G20*J20)","v":0},{"$f":"SUM(G20,I20,K20)","v":4094},1,{"$f":"L20","v":4094},{"$f":"SUM(N20*0.7)","v":2865.7999999999997},0.8,{"$f":"SUM(N20*P20)","v":3275.2000000000003},{"$f":"N20+O20+Q20","v":10235}]
[null,"Итого",null,null,null,null,{"$f":"SUM(G15:G20)","v":22517},0,0,0,0,22517,5.5,22517,15761.899999999998,null,{"$f":"SUM(Q15:Q20)","v":18013.600000000002},{"$f":"SUM(R15:R20)","v":56292.5}]
[null,"Итого по профессиональной квалификационной  группе \"РАБОЧИЕ\""]
[]
[null,"Заведующий   МБДОУ \" Детский сад \"Руслан\"",null,null,null,null,null,null,null,null,null,"Б.А.Джемакулова"]
[]
[null,"Ведущий экономист",null,null,null,null,null,null,null,null,null,"В. А. Тычкина"]
[]
[null,"Специалист по кадрам",null,null,null,null,null,null,null,null,null,"Л.И.Утяганова"]
[null,"Исп. Л.И.Утяганова"]
[null,"тел."]

{"sheet":"рабочие","index":9,"n_rows":69,"n_cols":18,"rows_kept":69,"cut":false,"hidden":false,"merged":[[18,0,20,0],[10,14,11,14],[4,0,4,17],[5,0,5,17],[6,0,6,17],[7,0,7,17],[10,13,11,13],[10,15,10,16],[10,17,11,17],[8,0,8,17],[10,7,10,8],[10,11,11,11],[10,0,11,0],[10,12,11,12],[10,2,11,2],[10,5,10,6],[10,9,10,10],[57,1,57,4],[12,1,12,3],[39,1,39,5],[10,1,11,1],[10,3,11,3],[51,1,51,5],[54,1,54,5],[10,4,11,4],[41,1,43,1],[41,3,43,3],[44,1,46,1],[44,3,46,3],[18,1,20,1]]}
[null,null,null,null,null,null,null,null,null,null,null,null,null,null,"УТВЕРЖДЕНО"]
[null,null,null,null,null,null,null,null,null,null,null,null,null,null,"Приказом  МБДОУ \"Детский сад\" \"Руслан\""]
[null,null,null,null,null,null,null,null,null,null,null,null,null,null,"№            от                "]
[]
["ТАРИФИКАЦИОННЫЙ СПИСОК"]
["работников профессиональной квалификационной группы профессий рабочих"]
["Муниципальное бюджетное дошкольное образовательное учреждение\" Детский сад\" \"Руслан\""]
["(наименование образовательного учреждения)"]
["по состоянию на 01.09.2017 года"]
[]
["№","Фамилия, Имя, Отчество","Должность","Разряд по тарифной сетке","Базовый оклад","Тарифный коэффициент (коэффициент разряда)",null,"Коэффициент специфики работы",null,"Коэффициент вакансий",null,"Итого должностной оклад","Количество занимаемых ставок","Итого должностной оклад с нагрузкой","Районный коэффициент","Процентная надбавка за работу в районах Крайнего севера",null,"Всего должностных окладов в месяц"]
[null,null,null,null,null,"Кр","сумма","К 3 - указать наименование основания повышения","сумма","К8","сумма",null,null,null,null,"коэф-т","сумма"]
[null,"ПКГ работников общеотраслевых профессий 1 уровня                                                  "]
[null,"1 квалификационный уровень"]
[1,"Керейтова Гульнара Амербиевна","Кладовщик",1,4094,1,{"$f":"SUM(E15*F15)*M15","v":4094},0,{"$f":"SUM(G15*H15)","v":0},null,{"$f":"SUM(G15*J15)","v":0},{"$f":"SUM(G15,I15,K15)","v":4094},1,{"$f":"L15","v":4094},{"$f":"SUM(N15*0.7)","v":2865.7999999999997},0.8,{"$f":"SUM(N15*P15)","v":3275.2000000000003},{"$f":"N15+O15+Q15","v":10235}]
[2,"Керейтова Гульнара Амербиевна","Грузчик (совмещение)",1,4094,1,{"$f":"SUM(E16*F16)*M16","v":2047},0,0,null,0,2047,0.5,{"$f":"L16","v":2047},1432.8999999999999,0.8,1637.6000000000001,{"$f":"N16+O16+Q16","v":5117.5}]
[3,"Ильясова Земфира Мурзабековна","кухонный рабочий",2,4094,1,6141,0,0,null,0,6141,1.5,6141,4298.7,0.8,4912.8,15352.5]
[4,"Гереева   Валида Гусейхановна","кухонный рабочий",2,4094,1,6141,0,0,null,0,6141,1.5,6141,{"$f":"SUM(N18*0.7)","v":4298.7},0.8,4912.8,15352.5]
[5,"Ганбарова Эсмира Мустафа кызы","Машинист по стирке и ремонту спецодежды  ",2,4094,1,{"$f":"SUM(E19*F19)*M19","v":4094},0,{"$f":"SUM(G19*H19)","v":0},null,{"$f":"SUM(G19*J19)","v":0},{"$f":"SUM(G19,I19,K19)","v":4094},1,{"$f":"L19","v":4094},2865.7999999999997,0.8,{"$f":"SUM(N19*P19)","v":3275.2000000000003},{"$f":"N19+O19+Q19","v":10235}]
[null,null,"Машинист по стирке и ремонту спецодежды  (внутр.сов-во)",2,4094,1,{"$f":"SUM(E20*F20)*M20","v":2047},0,{"$f":"SUM(G20*H20)","v":0},null,{"$f":"SUM(G20*J20)","v":0},{"$f":"SUM(G20,I20,K20)","v":2047},0.5,{"$f":"L20","v":2047},{"$f":"SUM(N20*0.7)","v":1432.8999999999999},0.8,{"$f":"SUM(N20*P20)","v":1637.6000000000001},{"$f":"N20+O20+Q20","v":5117.5}]
[null,null,"Машинист по стирке и ремонту спецодежды  (РЗО)",2,4094,1,{"$f":"SUM(E21*F21)*M21","v":1023.5},null,{"$f":"SUM(G21*H21)","v":0},null,{"$f":"SUM(G21*J21)","v":0},{"$f":"SUM(G21,I21,K21)","v":1023.5},0.25,{"$f":"L21","v":1023.5},{"$f":"SUM(N21*0.7)","v":716.44999999999993},80,{"$f":"SUM(N21*P21)","v":81880},{"$f":"N21+O21+Q21","v":83619.95}]
[6,"Кукаева                                     Тайбат Азаматовна ","Кастелянша ",2,4094,1,4094,0,0,null,0,4094,1,4094,2865.7999999999997,0.8,3275.2000000000003,10235]
[7,"Кондрат Владимир Николаевич","дворник",1,4094,1,4094,0,0,null,0,4094,1,4094,2865.7999999999997,0.8,3275.2000000000003,10235]
[8,"Кумуков                               Ибрагим Шахимович","Плотник ",2,4094,1,2047,0,0,null,0,2047,0.5,2047,1432.8999999999999,0.8,1637.6000000000001,5117.5]
[9,"Маршалюк Владислава Анатольевна","вахтер",2,4094,1,6141,0,0,null,0,6141,1.5,6141,4298.7,0.8,4912.8,15352.5]
[10,"вакансия","вахтер",2,4094,1,{"$f":"SUM(E26*F26)*M26","v":2047},0,{"$f":"SUM(G26*H26)","v":0},null,{"$f":"SUM(G26*J26)","v":0},{"$f":"SUM(G26,I26,K26)","v":2047},0.5,{"$f":"L26","v":2047},{"$f":"SUM(N26*0.7)","v":1432.8999999999999},0.8,{"$f":"SUM(N26*P26)","v":1637.6000000000001},5117.5]
[11,"Пилюшина                                  Ксения Олеговна","Уборщик служебных помещений",1,4094,1,7164.5,0,0,null,0,7164.5,1.75,7164.5,5015.1499999999996,0.8,5731.6,{"$f":"N27+O27+Q27","v":17911.25}]
[12,"вакансия","Уборщик служебных помещений",1,4094,1,{"$f":"SUM(E28*F28)*M28","v":3070.5},0,{"$f":"SUM(G28*H28)","v":0},null,{"$f":"SUM(G28*J28)","v":0},{"$f":"SUM(G28,I28,K28)","v":3070.5},0.75,{"$f":"L28","v":3070.5},2149.35,0.8,{"$f":"SUM(N28*P28)","v":2456.4},{"$f":"N28+O28+Q28","v":7676.25}]
[13,"Кукаева                                     Тайбат Азаматовна ","Уборщик бассейна ",1,4094,1,{"$f":"SUM(E29*F29)*M29","v":2047},0,{"$f":"SUM(G29*H29)","v":0},null,{"$f":"SUM(G29*J29)","v":0},{"$f":"SUM(G29,I29,K29)","v":2047},0.5,{"$f":"L29","v":2047},1432.8999999999999,0.8,{"$f":"SUM(N29*P29)","v":1637.6000000000001},{"$f":"N29+O29+Q29","v":5117.5}]
[14,"вакансия","Уборщик бассейна ",1,4094,1,{"$f":"SUM(E30*F30)*M30","v":2047},0,{"$f":"SUM(G30*H30)","v":0},null,{"$f":"SUM(G30*J30)","v":0},{"$f":"SUM(G30,I30,K30)","v":2047},0.5,{"$f":"L30","v":2047},{"$f":"SUM(N30*0.7)","v":1432.8999999999999},80,{"$f":"SUM(N30*P30)","v":163760},{"$f":"N30+O30+Q30","v":167239.9}]
[15,"Байбекова Людмила Владимировна","Садовник  ",1,4094,1,{"$f":"SUM(E31*F31)*M31","v":4094},0,{"$f":"SUM(G31*H31)","v":0},null,{"$f":"SUM(G31*J31)","v":0},{"$f":"SUM(G31,I31,K31)","v":4094},1,{"$f":"L31","v":4094},{"$f":"SUM(N31*0.7)","v":2865.7999999999997},0.8,{"$f":"SUM(N31*P31)","v":3275.2000000000003},{"$f":"N31+O31+Q31","v":10235}]
[16,"вакансия","Сторож",1,4094,1,4094,0,0,null,0,4094,1,4094,2865.7999999999997,0.8,3275.2000000000003,10235]
[17,"Магеррамов                                 Расиб Энвер оглы","Сторож",1,4094,1,4094,0,0,null,0,4094,1,4094,2865.7999999999997,0.8,3275.2000000000003,10235]
[18,"Кумуков                               Ибрагим Шахимович","Сторож",1,4094,1,4094,0,{"$f":"SUM(G34*H34)","v":0},null,{"$f":"SUM(G34*J34)","v":0},{"$f":"SUM(G34,I34,K34)","v":4094},1,4094,2865.7999999999997,0.8,{"$f":"SUM(N34*P34)","v":3275.2000000000003},10235]
[null,"Итого",null,null,null,null,{"$f":"SUM(G15:G34)","v":74715.5},{"$f":"SUM(H15:H34)","v":0},{"$f":"SUM(I15:I34)","v":0},null,{"$f":"SUM(K15:K34)","v":0},{"$f":"SUM(L15:L34)","v":74715.5},{"$f":"SUM(M15:M34)","v":18.25},{"$f":"SUM(N15:N34)","v":74715.5},{"$f":"SUM(O15:O34)","v":52300.850000000013},null,{"$f":"SUM(Q15:Q34)","v":302956.00000000006},{"$f":"SUM(R15:R34)","v":429972.35}]
[null,"2 квалификационный уровень"]
[]
[null,"Итого",null,null,null,null,0,null,0,null,{"$f":"SUM(K48:K50)","v":0},0,0,0,0,null,0,0]
[]
[null,"ПКГ работников общеотраслевых профессий 2 уровня                                                  "]
[null,"1 квалификационный уровень"]
[19,"Алимова Татьяна Асхадовна","Повар",3,4094,1,{"$f":"SUM(E42*F42)*M42","v":4094},0,{"$f":"SUM(G42*H42)","v":0},null,{"$f":"SUM(G42*J42)","v":0},{"$f":"SUM(G42,I42,K42)","v":4094},1,{"$f":"L42","v":4094},{"$f":"SUM(N42*0.7)","v":2865.7999999999997},0.8,{"$f":"SUM(N42*P42)","v":3275.2000000000003},{"$f":"N42+O42+Q42","v":10235}]
[null,null,"Повар (сов-во)",null,4094,0.5,{"$f":"SUM(E43*F43)*M43","v":1023.5},null,null,null,null,{"$f":"SUM(G43,I43,K43)","v":1023.5},0.5,{"$f":"L43","v":1023.5},{"$f":"SUM(N43*0.7)","v":716.44999999999993},1.8,{"$f":"SUM(N43*P43)","v":1842.3},{"$f":"N43+O43+Q43","v":3582.25}]
[null,null,"Повар РЗО",null,4094,0.25,255.875,null,null,null,null,255.875,0.25,255.875,179.11249999999998,2.8,716.44999999999993,1151.4375]
[20,"Керейтова                                     Светлана Рахметовна","Повар",5,4094,1.1599999999999999,{"$f":"SUM(E45*F45)*M45","v":4749.04},0,{"$f":"SUM(G45*H45)","v":0},null,{"$f":"SUM(G45*J45)","v":0},{"$f":"SUM(G45,I45,K45)","v":4749.04},1,{"$f":"L45","v":4749.04},{"$f":"SUM(N45*0.7)","v":3324.328},0.8,{"$f":"SUM(N45*P45)","v":3799.232},{"$f":"N45+O45+Q45","v":11872.6}]
[null,null,"Повар (сов-во)",null,4094,1.1599999999999999,2374.52,null,null,null,null,{"$f":"SUM(G46,I46,K46)","v":2374.52},0.5,{"$f":"L46","v":2374.52},{"$f":"SUM(N46*0.7)","v":1662.164},1.8,{"$f":"SUM(N46*P46)","v":4274.1360000000004},{"$f":"N46+O46+Q46","v":8310.82}]
[null,null,"Повар РЗО",null,4094,1.1559999999999999,1183.1659999999999,null,null,null,null,1183.1659999999999,0.25,1183.1659999999999,828.21619999999996,2.8,3312.8647999999998,5324.2469999999994]
[21,"вакансия","Повар",5,4094,1.1599999999999999,{"$f":"SUM(E48*F48)*M48","v":4749.04},0,{"$f":"SUM(G48*H48)","v":0},null,{"$f":"SUM(G48*J48)","v":0},{"$f":"SUM(G48,I48,K48)","v":4749.04},1,{"$f":"L48","v":4749.04},{"$f":"SUM(N48*0.7)","v":3324.328},0.8,{"$f":"SUM(N48*P48)","v":3799.232},{"$f":"N48+O48+Q48","v":11872.6}]
[22,"вакансия","Повар",5,4094,1.1599999999999999,{"$f":"SUM(E49*F49)*M49","v":2374.52},0,{"$f":"SUM(G49*H49)","v":0},null,{"$f":"SUM(G49*J49)","v":0},{"$f":"SUM(G49,I49,K49)","v":2374.52},0.5,{"$f":"L49","v":2374.52},{"$f":"SUM(N49*0.7)","v":1662.164},0.8,{"$f":"SUM(N49*P49)","v":1899.616},{"$f":"N49+O49+Q49","v":5936.3}]
[23,"Дзакураева Людмила Михайловна","Повар",5,4094,1.1599999999999999,{"$f":"SUM(E50*F50)*M50","v":2374.52},0,{"$f":"SUM(G50*H50)","v":0},null,{"$f":"SUM(G50*J50)","v":0},{"$f":"SUM(G50,I50,K50)","v":2374.52},0.5,{"$f":"L50","v":2374.52},{"$f":"SUM(N50*0.7)","v":1662.164},0.8,{"$f":"SUM(N50*P50)","v":1899.616},{"$f":"N50+O50+Q50","v":5936.3}]
[null,"Итого",null,null,null,null,{"$f":"SUM(G42:G50)","v":23178.181},null,{"$f":"SUM(I42:I50)","v":0},null,{"$f":"SUM(K42:K50)","v":0},{"$f":"SUM(L42:L50)","v":23178.181},{"$f":"SUM(M42:M50)","v":5.5},{"$f":"SUM(N42:N50)","v":23178.181},{"$f":"SUM(O42:O50)","v":16224.726700000001},null,{"$f":"SUM(Q42:Q50)","v":24818.646800000002},{"$f":"SUM(R42:R50)","v":64221.554500000006}]
[null,"2 квалификационный уровень"]
[null,null,null,null,null,null,{"$f":"SUM(E53*F53)","v":0},null,{"$f":"SUM(G53*H53)","v":0},null,{"$f":"SUM(G53*J53)","v":0},{"$f":"SUM(G53,I53,K53)","v":0},null,{"$f":"SUM(L53*M53)","v":0},{"$f":"SUM(N53*0.7)","v":0},0.8,{"$f":"SUM(N53*P53)","v":0},{"$f":"ROUND(N53+O53+Q53,2)","v":0}]
[null,"Итого",null,null,null,null,{"$f":"SUM(G53:G53)","v":0},null,{"$f":"SUM(I53:I53)","v":0},null,{"$f":"SUM(K53:K53)","v":0},{"$f":"SUM(L53:L53)","v":0},{"$f":"SUM(M53:M53)","v":0},{"$f":"SUM(N53:N53)","v":0},{"$f":"SUM(O53:O53)","v":0},null,{"$f":"SUM(Q53:Q53)","v":0},{"$f":"SUM(R53:R53)","v":0}]
[null,"3 квалификационный уровень"]
[null,null,null,null,null,null,{"$f":"SUM(E56*F56)","v":0},null,{"$f":"SUM(G56*H56)","v":0},null,{"$f":"SUM(G56*J56)","v":0},{"$f":"SUM(G56,I56,K56)","v":0},null,{"$f":"SUM(L56*M56)","v":0},{"$f":"SUM(N56*0.7)","v":0},0.8,{"$f":"SUM(N56*P56)","v":0},{"$f":"ROUND(N56+O56+Q56,2)","v":0}]
[null,"Итого",null,null,null,null,{"$f":"SUM(G56:G56)","v":0},null,{"$f":"SUM(I56:I56)","v":0},null,{"$f":"SUM(K56:K56)","v":0},{"$f":"SUM(L56:L56)","v":0},{"$f":"SUM(M56:M56)","v":0},{"$f":"SUM(N56:N56)","v":0},{"$f":"SUM(O56:O56)","v":0},null,{"$f":"SUM(Q56:Q56)","v":0},{"$f":"SUM(R56:R56)","v":0}]
[null,"4 квалификационный уровень"]
[null,null,null,null,null,null,{"$f":"SUM(E59*F59)","v":0},null,{"$f":"SUM(G59*H59)","v":0},null,{"$f":"SUM(G59*J59)","v":0},{"$f":"SUM(G59,I59,K59)","v":0},null,{"$f":"SUM(L59*M59)","v":0},{"$f":"SUM(N59*0.7)","v":0},0.8,{"$f":"SUM(N59*P59)","v":0},{"$f":"ROUND(N59+O59+Q59,2)","v":0}]
[null,"Итого",null,null,null,null,{"$f":"SUM(G59:G59)","v":0},null,{"$f":"SUM(I59:I59)","v":0},null,{"$f":"SUM(K59:K59)","v":0},{"$f":"SUM(L59:L59)","v":0},{"$f":"SUM(M59:M59)","v":0},{"$f":"SUM(N59:N59)","v":0},{"$f":"SUM(O59:O59)","v":0},null,{"$f":"SUM(Q59:Q59)","v":0},{"$f":"SUM(R59:R59)","v":0}]
[null,"Итого по профессиональной квалификационной  группе \"РАБОЧИЕ\"",null,null,null,null,{"$f":"SUM(G35,G38,G51,G54,G57,G60)","v":97893.680999999997},null,{"$f":"SUM(I35,I38,I51,I54,I57,I60)","v":0},null,{"$f":"SUM(K35,K38,K51,K54,K57,K60)","v":0},{"$f":"SUM(L35,L38,L51,L54,L57,L60)","v":97893.680999999997},{"$f":"SUM(M35,M38,M51,M54,M57,M60)","v":23.75},{"$f":"SUM(N35,N38,N51,N54,N57,N60)","v":97893.680999999997},{"$f":"SUM(O35,O38,O51,O54,O57,O60)","v":68525.57670000002},null,{"$f":"SUM(Q35,Q38,Q51,Q54,Q57,Q60)","v":327774.64680000005},{"$f":"SUM(R35,R38,R51,R54,R57,R60)","v":494193.9045}]
[null,null,null,null,null,null,null,null,null,null,null,null,23.75]
[null,"Заведующий     МБДОУ \" Детский сад  \"Руслан\"",null,null,null,null,null,null,null,null,null,"Б.А.Джемакулова"]
[]
[null,"Ведущий экономист",null,null,null,null,null,null,null,null,null,"В. А. Тычкина"]
[]
[null,"Специалист по кадрам",null,null,null,null,null,null,null,null,null,"Л.И.Утяганова"]
[null,"Исп. ","Л.И.Утяганова"]
[null,"тел.","23-13-38"]

{"sheet":"приложение к тариф ","index":10,"n_rows":80,"n_cols":14,"rows_kept":80,"cut":false,"hidden":false,"merged":[[3,0,3,12],[6,0,6,12],[5,0,5,12],[4,0,4,12],[8,0,9,0],[8,1,9,2],[8,4,8,11],[8,12,9,12],[10,1,10,2],[8,3,9,3],[34,1,34,2],[18,1,18,2],[28,1,28,2],[21,1,21,2],[27,1,27,2],[20,1,20,2],[33,1,33,2],[31,1,31,2],[16,1,16,2],[32,1,32,2],[26,1,26,2],[11,1,11,2],[13,1,13,2],[23,1,23,2],[12,1,12,2],[15,1,15,2],[22,1,22,2],[70,1,70,2],[60,1,60,2],[62,1,62,2],[63,1,63,2],[64,1,64,2],[69,1,69,2],[68,1,68,2],[67,1,67,2],[65,1,65,2],[59,1,59,2],[54,1,54,2],[53,1,53,2],[17,1,17,2],[25,1,25,2],[48,1,48,2],[47,1,47,2],[51,1,51,2],[49,1,49,2],[36,1,36,2],[39,1,39,2],[37,1,37,2],[38,1,38,2],[58,1,58,2],[57,1,57,2],[52,1,52,2],[41,1,41,2],[42,1,42,2],[44,1,44,2],[46,1,46,2],[43,1,43,2]]}
[null,null,null,null,null,null,null,null,null,null,"Приложение "]
[null,null,null,null,null,null,null,null,null,null,"к тарификационному списку"]
[null,null,null,null,null,null,null,null,null,null,"общеобразовательных учреждлений"]
["Сетка учебных часов"]
[]
["(наименование учреждения)"]
["на 2017 / 2018 учебный год"]
[]
["Класс","Количество обучающихся / классов",null,"Количество часов по БУП","Количество дополнительных часов на деление классов на группы",null,null,null,null,null,null,null,"Всего"]
[null,null,null,null,"Иностранный язык","Технология","ОИ и ВТ","Физ-ра","ОБЖ","Химия","Физика","Элективные учебные предметы"]
["1А",null,null,null,null,null,null,null,null,null,null,null,{"$f":"SUM(D11:L11)","v":0}]
["1Б",null,null,null,null,null,null,null,null,null,null,null,{"$f":"SUM(D12:L12)","v":0}]
["1В",null,null,null,null,null,null,null,null,null,null,null,{"$f":"SUM(D13:L13)","v":0}]
["1..",null,null,null,null,null,null,null,null,null,null,null,{"$f":"SUM(D14:L14)","v":0}]
["Итого",{"$f":"SUM(B11:C14)","v":0},null,{"$f":"SUM(D11:D14)","v":0},{"$f":"SUM(E11:E14)","v":0},0,0,0,0,0,0,0,0]
["2А",null,null,null,null,null,null,null,null,null,null,null,{"$f":"SUM(D16:L16)","v":0}]
["2Б",null,null,null,null,null,null,null,null,null,null,null,{"$f":"SUM(D17:L17)","v":0}]
["2В",null,null,null,null,null,null,null,null,null,null,null,{"$f":"SUM(D18:L18)","v":0}]
["2..",null,null,null,null,null,null,null,null,null,null,null,{"$f":"SUM(D19:L19)","v":0}]
["Итого",{"$f":"SUM(B16:C19)","v":0},null,{"$f":"SUM(D16:D19)","v":0},0,0,0,0,0,0,0,0,0]
["3А",null,null,null,null,null,null,null,null,null,null,null,{"$f":"SUM(D21:L21)","v":0}]
["3Б",null,null,null,null,null,null,null,null,null,null,null,{"$f":"SUM(D22:L22)","v":0}]
["3В",null,null,null,null,null,null,null,null,null,null,null,{"$f":"SUM(D23:L23)","v":0}]
["3..",null,null,null,null,null,null,null,null,null,null,null,{"$f":"SUM(D24:L24)","v":0}]
["Итого",{"$f":"SUM(B21:C24)","v":0},null,{"$f":"SUM(D21:D24)","v":0},0,0,0,0,0,0,0,0,0]
["4А",null,null,null,null,null,null,null,null,null,null,null,{"$f":"SUM(D26:L26)","v":0}]
["4Б",null,null,null,null,null,null,null,null,null,null,null,{"$f":"SUM(D27:L27)","v":0}]
["4В",null,null,null,null,null,null,null,null,null,null,null,{"$f":"SUM(D28:L28)","v":0}]
["4..",null,null,null,null,null,null,null,null,null,null,null,{"$f":"SUM(D29:L29)","v":0}]
["Итого",{"$f":"SUM(B26:C29)","v":0},null,{"$f":"SUM(D26:D29)","v":0},0,0,0,0,0,0,0,0,0]
["Всего начальное общее образование",{"$f":"SUM(B15,B20,B25,B30)","v":0},{"$f":"SUM(C15,C20,C25,C30)","v":0},{"$f":"SUM(D15,D20,D25,D30)","v":0},0,0,0,0,0,0,0,0,{"$f":"SUM(M15,M20,M25,M30)","v":0},{"$f":"SUM(D31:L31)-M31","v":0}]
["5А",null,null,null,null,null,null,null,null,null,null,null,{"$f":"SUM(D32:L32)","v":0}]
["5Б",null,null,null,null,null,null,null,null,null,null,null,{"$f":"SUM(D33:L33)","v":0}]
["5В",null,null,null,null,null,null,null,null,null,null,null,{"$f":"SUM(D34:L34)","v":0}]
["5..",null,null,null,null,null,null,null,null,null,null,null,{"$f":"SUM(D35:L35)","v":0}]
["Итого",{"$f":"SUM(B32:C35)","v":0},null,{"$f":"SUM(D32:D35)","v":0},0,0,0,0,0,0,0,0,0]
["6А",null,null,null,null,null,null,null,null,null,null,null,{"$f":"SUM(D37:L37)","v":0}]
["6Б",null,null,null,null,null,null,null,null,null,null,null,{"$f":"SUM(D38:L38)","v":0}]
["6В",null,null,null,null,null,null,null,null,null,null,null,{"$f":"SUM(D39:L39)","v":0}]
["6..",null,null,null,null,null,null,null,null,null,null,null,{"$f":"SUM(D40:L40)","v":0}]
["Итого",{"$f":"SUM(B37:C40)","v":0},null,{"$f":"SUM(D37:D40)","v":0},0,0,0,0,0,0,0,0,0]
["7А",null,null,null,null,null,null,null,null,null,null,null,{"$f":"SUM(D42:L42)","v":0}]
["7Б",null,null,null,null,null,null,null,null,null,null,null,{"$f":"SUM(D43:L43)","v":0}]
["7В",null,null,null,null,null,null,null,null,null,null,null,{"$f":"SUM(D44:L44)","v":0}]
["7..",null,null,null,null,null,null,null,null,null,null,null,{"$f":"SUM(D45:L45)","v":0}]
["Итого",{"$f":"SUM(B42:C45)","v":0},null,{"$f":"SUM(D42:D45)","v":0},0,0,0,0,0,0,0,0,0]
["8А",null,null,null,null,null,null,null,null,null,null,null,{"$f":"SUM(D47:L47)","v":0}]
["8Б",null,null,null,null,null,null,null,null,null,null,null,{"$f":"SUM(D48:L48)","v":0}]
["8В",null,null,null,null,null,null,null,null,null,null,null,{"$f":"SUM(D49:L49)","v":0}]
["8..",null,null,null,null,null,null,null,null,null,null,null,{"$f":"SUM(D50:L50)","v":0}]
["Итого",{"$f":"SUM(B47:C50)","v":0},null,{"$f":"SUM(D47:D50)","v":0},0,0,0,0,0,0,0,0,0]
["9А",null,null,null,null,null,null,null,null,null,null,null,{"$f":"SUM(D52:L52)","v":0}]
["9Б",null,null,null,null,null,null,null,null,null,null,null,{"$f":"SUM(D53:L53)","v":0}]
["9В",null,null,null,null,null,null,null,null,null,null,null,{"$f":"SUM(D54:L54)","v":0}]
["9..",null,null,null,null,null,null,null,null,null,null,null,{"$f":"SUM(D55:L55)","v":0}]
["Итого",{"$f":"SUM(B52:C55)","v":0},null,{"$f":"SUM(D52:D55)","v":0},0,0,0,0,0,0,0,0,0]
["Всего основное общее образование",{"$f":"SUM(B36,B41,B46,B51,B56)","v":0},{"$f":"SUM(C36,C41,C46,C51,C56)","v":0},0,0,0,0,0,0,0,0,0,{"$f":"SUM(M36,M41,M46,M51,M56)","v":0},{"$f":"SUM(D57:L57)-M57","v":0}]
["10А",null,null,null,null,null,null,null,null,null,null,null,{"$f":"SUM(D58:L58)","v":0}]
["10Б",null,null,null,null,null,null,null,null,null,null,null,{"$f":"SUM(D59:L59)","v":0}]
["10В",null,null,null,null,null,null,null,null,null,null,null,{"$f":"SUM(D60:L60)","v":0}]
[null,null,null,null,null,null,null,null,null,null,null,null,{"$f":"SUM(D61:L61)","v":0}]
["Итого",{"$f":"SUM(B58:C61)","v":0},null,{"$f":"SUM(D58:D61)","v":0},0,0,0,0,0,0,0,0,0]
["11А",null,null,null,null,null,null,null,null,null,null,null,{"$f":"SUM(D63:L63)","v":0}]
["11Б",null,null,null,null,null,null,null,null,null,null,null,{"$f":"SUM(D64:L64)","v":0}]
["11В",null,null,null,null,null,null,null,null,null,null,null,{"$f":"SUM(D65:L65)","v":0}]
[null,null,null,null,null,null,null,null,null,null,null,null,{"$f":"SUM(D66:L66)","v":0}]
["Итого",{"$f":"SUM(B63:C66)","v":0},null,{"$f":"SUM(D63:D66)","v":0},0,0,0,0,0,0,0,0,0]
["12А",null,null,null,null,null,null,null,null,null,null,null,{"$f":"SUM(D68:L68)","v":0}]
["12Б",null,null,null,null,null,null,null,null,null,null,null,{"$f":"SUM(D69:L69)","v":0}]
["12В",null,null,null,null,null,null,null,null,null,null,null,{"$f":"SUM(D70:L70)","v":0}]
[null,null,null,null,null,null,null,null,null,null,null,null,{"$f":"SUM(D71:L71)","v":0}]
["Итого",{"$f":"SUM(B68:C71)","v":0},null,{"$f":"SUM(D68:D71)","v":0},0,0,0,0,0,0,0,0,0]
["Всего среднее общее образование",{"$f":"SUM(B62,B67,B72,)","v":0},{"$f":"SUM(C62,C67,C72,)","v":0},0,0,0,0,0,0,0,0,0,0,{"$f":"SUM(D73:L73)-M73","v":0}]
[]
["Руководитель учреждения"]
[]
["Заместитель руководителя"]
[]
["Исп. "]
["тел."]

{"sheet":"приложение к тариф  (2)","index":11,"n_rows":105,"n_cols":4,"rows_kept":105,"cut":false,"hidden":false,"merged":[[80,1,80,2],[72,1,72,2],[67,1,67,2],[65,1,65,2],[66,1,66,2],[78,1,78,2],[79,1,79,2],[75,1,75,2],[76,1,76,2],[74,1,74,2],[71,1,71,2],[70,1,70,2],[68,1,68,2],[88,1,88,2],[83,1,83,2],[87,1,87,2],[82,1,82,2],[86,1,86,2],[84,1,84,2],[64,1,64,2],[54,1,54,2],[60,1,60,2],[61,1,61,2],[62,1,62,2],[55,1,55,2],[56,1,56,2],[59,1,59,2],[57,1,57,2],[24,1,24,2],[26,1,26,2],[28,1,28,2],[51,1,51,2],[44,1,44,2],[48,1,48,2],[47,1,47,2],[45,1,45,2],[42,1,42,2],[50,1,50,2],[27,1,27,2],[39,1,39,2],[33,1,33,2],[46,1,46,2],[41,1,41,2],[35,1,35,2],[29,1,29,2],[53,1,53,2],[30,1,30,2],[32,1,32,2],[38,1,38,2],[34,1,34,2],[40,1,40,2],[36,1,36,2],[23,1,23,2],[12,0,13,0],[12,3,13,3],[12,1,13,2],[7,0,7,3],[8,0,8,3],[9,0,9,3],[10,0,10,3],[14,1,14,2],[22,1,22,2],[16,1,16,2],[20,1,20,2],[15,1,15,2],[17,1,17,2],[21,1,21,2],[18,1,18,2]]}
[null,"Приложение "]
[null,"к тарификационному списку"]
[null,"учреждений дополнительного образования"]
[]
[]
[]
[]
["Сетка учебных часов"]
[]
["(наименование учреждения)"]
["на 2016 / 2017учебный год"]
[]
["Объединения/ группы","Количество обучающихся / групп",null,"Количество часов по программе"]
[]
["Техническое творчество"]
["1 группа",15]
["2 группа",15]
["3 группа",15]
[]
["Итого ",{"$f":"SUM(B16:C19)","v":45},3,{"$f":"SUM(D16:D19)","v":0}]
["Эколого-биологические"]
[]
[]
[]
[]
["Итого ",{"$f":"SUM(B22:C25)","v":0},null,{"$f":"SUM(D22:D25)","v":0}]
["Туристско-краеведческие"]
[]
[]
[]
[]
["Итого ",{"$f":"SUM(B28:C31)","v":0},null,{"$f":"SUM(D28:D31)","v":0}]
["Художественного творчества"]
[]
[]
[]
[]
["Итого ",{"$f":"SUM(B34:C37)","v":0},null,{"$f":"SUM(D34:D37)","v":0}]
["Культурологические"]
[]
[]
[]
[]
["Итого ",{"$f":"SUM(B40:C43)","v":0},null,{"$f":"SUM(D40:D43)","v":0}]
["Спортивно-технические"]
[]
[]
[]
[]
["Итого ",{"$f":"SUM(B46:C49)","v":0},null,{"$f":"SUM(D46:D49)","v":0}]
["Спортивные"]
["1. Спортивно-оздоровительный этап"]
["    - групповое обучение весь период обучения",{"$f":"SUM(B54:C57)","v":45},3]
["1 группа",15]
["2 группа",15]
["3 группа",15]
[]
["2. Этап начальной спортивной подгоотовки"]
["   - групповое обучение первый год",{"$f":"SUM(B60:C62)","v":45},3]
["1 группа",15]
["2 группа",15]
["3 группа",15]
[]
["   - групповое обучение второй, третий год",{"$f":"SUM(B65:C67)","v":45},3]
["1 группа",15]
["2 группа",15]
["3 группа",15]
[]
["3. Учебно-тренировочный этап"]
["    - групповое обучение первый год",{"$f":"SUM(B71:C73)","v":45},3]
["1 группа",15]
["2 группа",15]
["3 группа",15]
["    - групповое обучение второй год",{"$f":"SUM(B75:C77)","v":45},3]
["1 группа",15]
["2 группа",15]
["3 группа",15]
["    - групповое обучение третий год",{"$f":"SUM(B79:C81)","v":45},3]
["1 группа",15]
["2 группа",15]
["3 группа",15]
["    - групповое обучение четвертый год",{"$f":"SUM(B83:C85)","v":45},3]
["1 группа",15]
["2 группа",15]
["3 группа",15]
["    - групповое обучение  пятый год",{"$f":"SUM(B87:C89)","v":45},3]
["1 группа",15]
["2 группа",15]
["3 группа",15]
["Итого ",{"$f":"SUM(B53,B59,B64,B70,B74,B78,B82,B86)","v":360},{"$f":"SUM(C53,C59,C64,C70,C74,C78,C82,C86)","v":24},{"$f":"SUM(D64:D74)","v":0}]
["Всего часов",{"$f":"SUM(B20,B26,B32,B38,B44,B50,B90)","v":405},{"$f":"SUM(C20,C26,C32,C38,C44,C50,C90)","v":27},{"$f":"SUM(D20,D26,D32,D38,D44,D50,D90)","v":0}]
[]
["Руководитель учреждения"]
[]
["Заместитель руководителя"]
[]
["Исп. "]
["тел."]
[]
["Информация для согласования (за 2012-2013 у.г. заполняется отделом труда и заработной платы МКУ ЦФХОД)"]
["Наименование","2012/2013 у.г.","2013/2014 у.г.","Отклонение"]
["1. Количество часов ",null,null,{"$f":"SUM(C102-B102)","v":0}]
["2. Количество ставок, работающих по учебному плану",null,null,{"$f":"SUM(C103-B103)","v":0}]
["3. Общее количество ставок в учреждении",null,null,{"$f":"SUM(C104-B104)","v":0}]
["4. Соотношение (п.3-п.2)/п.2*100 ",null,null,{"$f":"SUM(C105-B105)","v":0}]

{"sheet":"приложение к тариф  (3)","index":12,"n_rows":40,"n_cols":18,"rows_kept":40,"cut":false,"hidden":false,"merged":[[11,17,13,17],[14,0,14,17],[22,0,22,17],[26,0,26,17],[18,0,18,17],[11,15,11,16],[11,0,13,0],[12,3,12,5],[12,6,12,7],[7,0,7,16],[8,0,8,16],[9,0,9,16],[12,9,12,10],[12,11,12,12],[12,13,12,14],[11,8,11,10],[11,11,11,14],[11,1,11,7],[12,1,12,2]]}
[null,null,null,null,null,null,null,null,null,null,null,null,null,null,"Приложение "]
[null,null,null,null,null,null,null,null,null,null,null,null,null,null,"к тарификационному списку"]
[null,null,null,null,null,null,null,null,null,null,null,null,null,null,"учреждений дошкольного образования"]
[]
[]
[]
[]
["Информация о численности воспитанников, количестве плановых и действующих группах"]
["Муниципальное бюджетное дошкольное образовательное учреждение \" Детский сад \" Руслан\""]
["(наименование учреждения)"]
[]
["Наименование","Группы общеразвивающей направленности",null,null,null,null,null,null,"Группы компенсирующей направленности",null,null,"Группы оздоровительной направленности",null,null,null,"Группы комбинированной направленности",null,"Итого"]
[null,"дети до 3 лет",null,"дети старше 3 лет",null,null,"разновозастные группы",null,"дети до 3 лет","дети старше 3 лет",null,"дети до 3 лет",null,"дети старше 3 лет",null,"дети до 3 лет","дети старше 3 лет"]
[null,"3-5 часов","12 часов","3-5 часов","12 часов","24 часов","3-5 часов","12 часов","12 часов","3-5 часов","12 часов","12 часов","24 часов","12 часов","24 часов","12 часов","12 часов"]
["на 01.09.2016 года"]
["Плановые группы",null,null,null,null,null,null,null,null,null,null,null,null,null,null,null,null,{"$f":"SUM(B16:Q16)","v":0}]
["Действующие группы",1,null,null,9,null,null,null,null,null,"3",null,null,null,null,null,null,12]
["Численность воспитанников",15,null,null,226,null,null,null,null,null,39,null,null,null,null,null,null,280]
["на 01.01.2017 года"]
["Плановые группы",null,null,null,null,null,null,null,null,null,null,null,null,null,null,null,null,{"$f":"SUM(B20:Q20)","v":0}]
["Действующие группы",null,null,null,9,null,null,null,null,null,3,null,null,null,null,null,null,{"$f":"SUM(B21:Q21)","v":12}]
["Численность воспитанников",15,null,null,223,null,null,null,null,null,39,null,null,null,null,null,null,280]
["с 01.09.2017года"]
["Плановые группы",null,3,null,11,null,null,null,null,null,3,null,null,null,null,null,null,17]
["Действующие группы",1,2,null,7,null,null,null,null,null,3,null,null,null,null,null,null,13]
["Численность воспитанников",15,58,null,204,null,null,null,null,null,38,null,null,null,null,null,null,{"$f":"SUM(B26:Q26)","v":315}]
["с 01.09.2017года"]
["Плановые группы",null,null,null,null,null,null,null,null,null,null,null,null,null,null,null,null,{"$f":"SUM(B28:Q28)","v":0}]
["Действующие группы",null,null,null,null,null,null,null,null,null,null,null,null,null,null,null,null,{"$f":"SUM(B29:Q29)","v":0}]
["Численность воспитанников"]
[]
[]
[]
["Руководитель учреждения",null,null,null,null,null,null,null,null,null,null,null,null,null,"Б. А. Джемакулова"]
[]
["Главный специалист",null,null,null,null,null,null,null,null,null,null,null,null,null,"В.А.Тычкина"]
[]
[]
["Исп. ","Л. И. Утяганова "]
["тел.","23-13-38"]

{"sheet":"Лист2","index":13,"n_rows":0,"n_cols":0,"rows_kept":0,"cut":false,"hidden":false,"merged":[]}

{"sheet":"Лист3","index":14,"n_rows":0,"n_cols":0,"rows_kept":0,"cut":false,"hidden":false,"merged":[]}

{"sheet":"Лист4","index":15,"n_rows":0,"n_cols":0,"rows_kept":0,"cut":false,"hidden":false,"merged":[]}

{"sheet":"Лист5","index":16,"n_rows":0,"n_cols":0,"rows_kept":0,"cut":false,"hidden":false,"merged":[]}

{"sheet":"Лист6","index":17,"n_rows":0,"n_cols":0,"rows_kept":0,"cut":false,"hidden":false,"merged":[]}

{"sheet":"Лист7","index":18,"n_rows":0,"n_cols":0,"rows_kept":0,"cut":false,"hidden":false,"merged":[]}

{"sheet":"Лист8","index":19,"n_rows":0,"n_cols":0,"rows_kept":0,"cut":false,"hidden":false,"merged":[]}

{"sheet":"Лист9","index":20,"n_rows":0,"n_cols":0,"rows_kept":0,"cut":false,"hidden":false,"merged":[]}

{"sheet":"Лист10","index":21,"n_rows":0,"n_cols":0,"rows_kept":0,"cut":false,"hidden":false,"merged":[]}

{"sheet":"Лист11","index":22,"n_rows":0,"n_cols":0,"rows_kept":0,"cut":false,"hidden":false,"merged":[]}

{"sheet":"Лист12","index":23,"n_rows":0,"n_cols":0,"rows_kept":0,"cut":false,"hidden":false,"merged":[]}

{"sheet":"Лист13","index":24,"n_rows":0,"n_cols":0,"rows_kept":0,"cut":false,"hidden":false,"merged":[]}

{"sheet":"Лист14","index":25,"n_rows":0,"n_cols":0,"rows_kept":0,"cut":false,"hidden":false,"merged":[]}

{"sheet":"Лист15","index":26,"n_rows":0,"n_cols":0,"rows_kept":0,"cut":false,"hidden":false,"merged":[]}

{"sheet":"Лист16","index":27,"n_rows":0,"n_cols":0,"rows_kept":0,"cut":false,"hidden":false,"merged":[]}